BEGIN:VCALENDAR
VERSION:2.0
PRODID:-//Potts Point Hotel - ECPv6.15.18//NONSGML v1.0//EN
CALSCALE:GREGORIAN
METHOD:PUBLISH
X-ORIGINAL-URL:https://pottspointhotel.com.au
X-WR-CALDESC:Events for Potts Point Hotel
REFRESH-INTERVAL;VALUE=DURATION:PT1H
X-Robots-Tag:noindex
X-PUBLISHED-TTL:PT1H
BEGIN:VTIMEZONE
TZID:Australia/Sydney
BEGIN:STANDARD
TZOFFSETFROM:+1100
TZOFFSETTO:+1000
TZNAME:AEST
DTSTART:20270403T160000
END:STANDARD
BEGIN:DAYLIGHT
TZOFFSETFROM:+1000
TZOFFSETTO:+1100
TZNAME:AEDT
DTSTART:20271002T160000
END:DAYLIGHT
BEGIN:STANDARD
TZOFFSETFROM:+1100
TZOFFSETTO:+1000
TZNAME:AEST
DTSTART:20280401T160000
END:STANDARD
BEGIN:DAYLIGHT
TZOFFSETFROM:+1000
TZOFFSETTO:+1100
TZNAME:AEDT
DTSTART:20280930T160000
END:DAYLIGHT
BEGIN:STANDARD
TZOFFSETFROM:+1100
TZOFFSETTO:+1000
TZNAME:AEST
DTSTART:20290331T160000
END:STANDARD
BEGIN:DAYLIGHT
TZOFFSETFROM:+1000
TZOFFSETTO:+1100
TZNAME:AEDT
DTSTART:20291006T160000
END:DAYLIGHT
BEGIN:STANDARD
TZOFFSETFROM:+1100
TZOFFSETTO:+1000
TZNAME:AEST
DTSTART:20300406T160000
END:STANDARD
BEGIN:DAYLIGHT
TZOFFSETFROM:+1000
TZOFFSETTO:+1100
TZNAME:AEDT
DTSTART:20301005T160000
END:DAYLIGHT
END:VTIMEZONE
BEGIN:VEVENT
DTSTART;TZID=Australia/Sydney:20281105T150000
DTEND;TZID=Australia/Sydney:20281105T180000
DTSTAMP:20260426T085244
CREATED:20221213T122438Z
LAST-MODIFIED:20240822T144353Z
UID:10012027-1857049200-1857060000@pottspointhotel.com.au
SUMMARY:Sunday Live Music
DESCRIPTION:Sundays from 3pm \n\n\n\nKick back and join us downstairs at Potts Point Hotel for live music\, with acoustic sounds every Sunday afternoon from 3pm. \n\n\n\nBook a table for dinner or pop down for light snacks from the bistro with a drink or two to finish off your week.
URL:https://pottspointhotel.com.au/events/sunday-live-music/2028-11-05/
LOCATION:Potts Point Hotel\, Ground\, Potts Point Hotel\, Potts Point\, NSW\, 2011\, Australia
CATEGORIES:Potts Point Hotel,Sundays
ATTACH;FMTTYPE=image/jpeg:https://pottspointhotel.com.au/storage/2022/12/Untitled-design-14-jpg.webp
ORGANIZER;CN="Potts Point Hotel":MAILTO:info@pottspointhotel.com.au
END:VEVENT
BEGIN:VEVENT
DTSTART;TZID=Australia/Sydney:20281109T183000
DTEND;TZID=Australia/Sydney:20281109T183000
DTSTAMP:20260426T085244
CREATED:20251217T025239Z
LAST-MODIFIED:20251220T150443Z
UID:10012809-1857407400-1857407400@pottspointhotel.com.au
SUMMARY:PPH Weekly Meat Raffle!
DESCRIPTION:Every Thursday at Potts Point Hotel!  \n\n\n\n4 Meat trays up for grabs\, tickets on sale from 6:30pm & drawn at 8:30pm. \n\n\n\nJoker Poker Jackpot also drawn at 8:30pm with a rolling Jackpot\, see our socials for this weeks jackpot! Good Luck!
URL:https://pottspointhotel.com.au/events/pph-weekly-meat-raffle/2028-11-09/
LOCATION:Potts Point Hotel\, Ground\, Potts Point Hotel\, Potts Point\, NSW\, 2011\, Australia
CATEGORIES:Potts Point Hotel
ATTACH;FMTTYPE=image/png:https://pottspointhotel.com.au/storage/2025/12/Screenshot-2025-12-17-at-11.38.01-am.png
ORGANIZER;CN="Potts Point Hotel":MAILTO:info@pottspointhotel.com.au
END:VEVENT
BEGIN:VEVENT
DTSTART;TZID=Australia/Sydney:20281112T150000
DTEND;TZID=Australia/Sydney:20281112T180000
DTSTAMP:20260426T085244
CREATED:20221213T122438Z
LAST-MODIFIED:20240822T144353Z
UID:10012028-1857654000-1857664800@pottspointhotel.com.au
SUMMARY:Sunday Live Music
DESCRIPTION:Sundays from 3pm \n\n\n\nKick back and join us downstairs at Potts Point Hotel for live music\, with acoustic sounds every Sunday afternoon from 3pm. \n\n\n\nBook a table for dinner or pop down for light snacks from the bistro with a drink or two to finish off your week.
URL:https://pottspointhotel.com.au/events/sunday-live-music/2028-11-12/
LOCATION:Potts Point Hotel\, Ground\, Potts Point Hotel\, Potts Point\, NSW\, 2011\, Australia
CATEGORIES:Potts Point Hotel,Sundays
ATTACH;FMTTYPE=image/jpeg:https://pottspointhotel.com.au/storage/2022/12/Untitled-design-14-jpg.webp
ORGANIZER;CN="Potts Point Hotel":MAILTO:info@pottspointhotel.com.au
END:VEVENT
BEGIN:VEVENT
DTSTART;TZID=Australia/Sydney:20281116T183000
DTEND;TZID=Australia/Sydney:20281116T183000
DTSTAMP:20260426T085244
CREATED:20251217T025239Z
LAST-MODIFIED:20251220T150443Z
UID:10012810-1858012200-1858012200@pottspointhotel.com.au
SUMMARY:PPH Weekly Meat Raffle!
DESCRIPTION:Every Thursday at Potts Point Hotel!  \n\n\n\n4 Meat trays up for grabs\, tickets on sale from 6:30pm & drawn at 8:30pm. \n\n\n\nJoker Poker Jackpot also drawn at 8:30pm with a rolling Jackpot\, see our socials for this weeks jackpot! Good Luck!
URL:https://pottspointhotel.com.au/events/pph-weekly-meat-raffle/2028-11-16/
LOCATION:Potts Point Hotel\, Ground\, Potts Point Hotel\, Potts Point\, NSW\, 2011\, Australia
CATEGORIES:Potts Point Hotel
ATTACH;FMTTYPE=image/png:https://pottspointhotel.com.au/storage/2025/12/Screenshot-2025-12-17-at-11.38.01-am.png
ORGANIZER;CN="Potts Point Hotel":MAILTO:info@pottspointhotel.com.au
END:VEVENT
BEGIN:VEVENT
DTSTART;TZID=Australia/Sydney:20281119T150000
DTEND;TZID=Australia/Sydney:20281119T180000
DTSTAMP:20260426T085244
CREATED:20221213T122438Z
LAST-MODIFIED:20240822T144353Z
UID:10012029-1858258800-1858269600@pottspointhotel.com.au
SUMMARY:Sunday Live Music
DESCRIPTION:Sundays from 3pm \n\n\n\nKick back and join us downstairs at Potts Point Hotel for live music\, with acoustic sounds every Sunday afternoon from 3pm. \n\n\n\nBook a table for dinner or pop down for light snacks from the bistro with a drink or two to finish off your week.
URL:https://pottspointhotel.com.au/events/sunday-live-music/2028-11-19/
LOCATION:Potts Point Hotel\, Ground\, Potts Point Hotel\, Potts Point\, NSW\, 2011\, Australia
CATEGORIES:Potts Point Hotel,Sundays
ATTACH;FMTTYPE=image/jpeg:https://pottspointhotel.com.au/storage/2022/12/Untitled-design-14-jpg.webp
ORGANIZER;CN="Potts Point Hotel":MAILTO:info@pottspointhotel.com.au
END:VEVENT
BEGIN:VEVENT
DTSTART;TZID=Australia/Sydney:20281123T183000
DTEND;TZID=Australia/Sydney:20281123T183000
DTSTAMP:20260426T085244
CREATED:20251217T025239Z
LAST-MODIFIED:20251220T150443Z
UID:10012811-1858617000-1858617000@pottspointhotel.com.au
SUMMARY:PPH Weekly Meat Raffle!
DESCRIPTION:Every Thursday at Potts Point Hotel!  \n\n\n\n4 Meat trays up for grabs\, tickets on sale from 6:30pm & drawn at 8:30pm. \n\n\n\nJoker Poker Jackpot also drawn at 8:30pm with a rolling Jackpot\, see our socials for this weeks jackpot! Good Luck!
URL:https://pottspointhotel.com.au/events/pph-weekly-meat-raffle/2028-11-23/
LOCATION:Potts Point Hotel\, Ground\, Potts Point Hotel\, Potts Point\, NSW\, 2011\, Australia
CATEGORIES:Potts Point Hotel
ATTACH;FMTTYPE=image/png:https://pottspointhotel.com.au/storage/2025/12/Screenshot-2025-12-17-at-11.38.01-am.png
ORGANIZER;CN="Potts Point Hotel":MAILTO:info@pottspointhotel.com.au
END:VEVENT
BEGIN:VEVENT
DTSTART;TZID=Australia/Sydney:20281126T150000
DTEND;TZID=Australia/Sydney:20281126T180000
DTSTAMP:20260426T085244
CREATED:20221213T122438Z
LAST-MODIFIED:20240822T144353Z
UID:10012030-1858863600-1858874400@pottspointhotel.com.au
SUMMARY:Sunday Live Music
DESCRIPTION:Sundays from 3pm \n\n\n\nKick back and join us downstairs at Potts Point Hotel for live music\, with acoustic sounds every Sunday afternoon from 3pm. \n\n\n\nBook a table for dinner or pop down for light snacks from the bistro with a drink or two to finish off your week.
URL:https://pottspointhotel.com.au/events/sunday-live-music/2028-11-26/
LOCATION:Potts Point Hotel\, Ground\, Potts Point Hotel\, Potts Point\, NSW\, 2011\, Australia
CATEGORIES:Potts Point Hotel,Sundays
ATTACH;FMTTYPE=image/jpeg:https://pottspointhotel.com.au/storage/2022/12/Untitled-design-14-jpg.webp
ORGANIZER;CN="Potts Point Hotel":MAILTO:info@pottspointhotel.com.au
END:VEVENT
BEGIN:VEVENT
DTSTART;TZID=Australia/Sydney:20281130T183000
DTEND;TZID=Australia/Sydney:20281130T183000
DTSTAMP:20260426T085244
CREATED:20251217T025239Z
LAST-MODIFIED:20251220T150443Z
UID:10012812-1859221800-1859221800@pottspointhotel.com.au
SUMMARY:PPH Weekly Meat Raffle!
DESCRIPTION:Every Thursday at Potts Point Hotel!  \n\n\n\n4 Meat trays up for grabs\, tickets on sale from 6:30pm & drawn at 8:30pm. \n\n\n\nJoker Poker Jackpot also drawn at 8:30pm with a rolling Jackpot\, see our socials for this weeks jackpot! Good Luck!
URL:https://pottspointhotel.com.au/events/pph-weekly-meat-raffle/2028-11-30/
LOCATION:Potts Point Hotel\, Ground\, Potts Point Hotel\, Potts Point\, NSW\, 2011\, Australia
CATEGORIES:Potts Point Hotel
ATTACH;FMTTYPE=image/png:https://pottspointhotel.com.au/storage/2025/12/Screenshot-2025-12-17-at-11.38.01-am.png
ORGANIZER;CN="Potts Point Hotel":MAILTO:info@pottspointhotel.com.au
END:VEVENT
BEGIN:VEVENT
DTSTART;TZID=Australia/Sydney:20281203T150000
DTEND;TZID=Australia/Sydney:20281203T180000
DTSTAMP:20260426T085244
CREATED:20221213T122438Z
LAST-MODIFIED:20240822T144353Z
UID:10012031-1859468400-1859479200@pottspointhotel.com.au
SUMMARY:Sunday Live Music
DESCRIPTION:Sundays from 3pm \n\n\n\nKick back and join us downstairs at Potts Point Hotel for live music\, with acoustic sounds every Sunday afternoon from 3pm. \n\n\n\nBook a table for dinner or pop down for light snacks from the bistro with a drink or two to finish off your week.
URL:https://pottspointhotel.com.au/events/sunday-live-music/2028-12-03/
LOCATION:Potts Point Hotel\, Ground\, Potts Point Hotel\, Potts Point\, NSW\, 2011\, Australia
CATEGORIES:Potts Point Hotel,Sundays
ATTACH;FMTTYPE=image/jpeg:https://pottspointhotel.com.au/storage/2022/12/Untitled-design-14-jpg.webp
ORGANIZER;CN="Potts Point Hotel":MAILTO:info@pottspointhotel.com.au
END:VEVENT
BEGIN:VEVENT
DTSTART;TZID=Australia/Sydney:20281207T183000
DTEND;TZID=Australia/Sydney:20281207T183000
DTSTAMP:20260426T085244
CREATED:20251217T025239Z
LAST-MODIFIED:20251220T150443Z
UID:10012813-1859826600-1859826600@pottspointhotel.com.au
SUMMARY:PPH Weekly Meat Raffle!
DESCRIPTION:Every Thursday at Potts Point Hotel!  \n\n\n\n4 Meat trays up for grabs\, tickets on sale from 6:30pm & drawn at 8:30pm. \n\n\n\nJoker Poker Jackpot also drawn at 8:30pm with a rolling Jackpot\, see our socials for this weeks jackpot! Good Luck!
URL:https://pottspointhotel.com.au/events/pph-weekly-meat-raffle/2028-12-07/
LOCATION:Potts Point Hotel\, Ground\, Potts Point Hotel\, Potts Point\, NSW\, 2011\, Australia
CATEGORIES:Potts Point Hotel
ATTACH;FMTTYPE=image/png:https://pottspointhotel.com.au/storage/2025/12/Screenshot-2025-12-17-at-11.38.01-am.png
ORGANIZER;CN="Potts Point Hotel":MAILTO:info@pottspointhotel.com.au
END:VEVENT
BEGIN:VEVENT
DTSTART;TZID=Australia/Sydney:20281210T150000
DTEND;TZID=Australia/Sydney:20281210T180000
DTSTAMP:20260426T085244
CREATED:20221213T122438Z
LAST-MODIFIED:20240822T144353Z
UID:10012032-1860073200-1860084000@pottspointhotel.com.au
SUMMARY:Sunday Live Music
DESCRIPTION:Sundays from 3pm \n\n\n\nKick back and join us downstairs at Potts Point Hotel for live music\, with acoustic sounds every Sunday afternoon from 3pm. \n\n\n\nBook a table for dinner or pop down for light snacks from the bistro with a drink or two to finish off your week.
URL:https://pottspointhotel.com.au/events/sunday-live-music/2028-12-10/
LOCATION:Potts Point Hotel\, Ground\, Potts Point Hotel\, Potts Point\, NSW\, 2011\, Australia
CATEGORIES:Potts Point Hotel,Sundays
ATTACH;FMTTYPE=image/jpeg:https://pottspointhotel.com.au/storage/2022/12/Untitled-design-14-jpg.webp
ORGANIZER;CN="Potts Point Hotel":MAILTO:info@pottspointhotel.com.au
END:VEVENT
BEGIN:VEVENT
DTSTART;TZID=Australia/Sydney:20281214T183000
DTEND;TZID=Australia/Sydney:20281214T183000
DTSTAMP:20260426T085244
CREATED:20251217T025239Z
LAST-MODIFIED:20251220T150443Z
UID:10012814-1860431400-1860431400@pottspointhotel.com.au
SUMMARY:PPH Weekly Meat Raffle!
DESCRIPTION:Every Thursday at Potts Point Hotel!  \n\n\n\n4 Meat trays up for grabs\, tickets on sale from 6:30pm & drawn at 8:30pm. \n\n\n\nJoker Poker Jackpot also drawn at 8:30pm with a rolling Jackpot\, see our socials for this weeks jackpot! Good Luck!
URL:https://pottspointhotel.com.au/events/pph-weekly-meat-raffle/2028-12-14/
LOCATION:Potts Point Hotel\, Ground\, Potts Point Hotel\, Potts Point\, NSW\, 2011\, Australia
CATEGORIES:Potts Point Hotel
ATTACH;FMTTYPE=image/png:https://pottspointhotel.com.au/storage/2025/12/Screenshot-2025-12-17-at-11.38.01-am.png
ORGANIZER;CN="Potts Point Hotel":MAILTO:info@pottspointhotel.com.au
END:VEVENT
BEGIN:VEVENT
DTSTART;TZID=Australia/Sydney:20281217T150000
DTEND;TZID=Australia/Sydney:20281217T180000
DTSTAMP:20260426T085244
CREATED:20221213T122438Z
LAST-MODIFIED:20240822T144353Z
UID:10012033-1860678000-1860688800@pottspointhotel.com.au
SUMMARY:Sunday Live Music
DESCRIPTION:Sundays from 3pm \n\n\n\nKick back and join us downstairs at Potts Point Hotel for live music\, with acoustic sounds every Sunday afternoon from 3pm. \n\n\n\nBook a table for dinner or pop down for light snacks from the bistro with a drink or two to finish off your week.
URL:https://pottspointhotel.com.au/events/sunday-live-music/2028-12-17/
LOCATION:Potts Point Hotel\, Ground\, Potts Point Hotel\, Potts Point\, NSW\, 2011\, Australia
CATEGORIES:Potts Point Hotel,Sundays
ATTACH;FMTTYPE=image/jpeg:https://pottspointhotel.com.au/storage/2022/12/Untitled-design-14-jpg.webp
ORGANIZER;CN="Potts Point Hotel":MAILTO:info@pottspointhotel.com.au
END:VEVENT
BEGIN:VEVENT
DTSTART;TZID=Australia/Sydney:20281221T183000
DTEND;TZID=Australia/Sydney:20281221T183000
DTSTAMP:20260426T085244
CREATED:20251217T025239Z
LAST-MODIFIED:20251220T150443Z
UID:10012815-1861036200-1861036200@pottspointhotel.com.au
SUMMARY:PPH Weekly Meat Raffle!
DESCRIPTION:Every Thursday at Potts Point Hotel!  \n\n\n\n4 Meat trays up for grabs\, tickets on sale from 6:30pm & drawn at 8:30pm. \n\n\n\nJoker Poker Jackpot also drawn at 8:30pm with a rolling Jackpot\, see our socials for this weeks jackpot! Good Luck!
URL:https://pottspointhotel.com.au/events/pph-weekly-meat-raffle/2028-12-21/
LOCATION:Potts Point Hotel\, Ground\, Potts Point Hotel\, Potts Point\, NSW\, 2011\, Australia
CATEGORIES:Potts Point Hotel
ATTACH;FMTTYPE=image/png:https://pottspointhotel.com.au/storage/2025/12/Screenshot-2025-12-17-at-11.38.01-am.png
ORGANIZER;CN="Potts Point Hotel":MAILTO:info@pottspointhotel.com.au
END:VEVENT
BEGIN:VEVENT
DTSTART;TZID=Australia/Sydney:20281224T150000
DTEND;TZID=Australia/Sydney:20281224T180000
DTSTAMP:20260426T085244
CREATED:20221213T122438Z
LAST-MODIFIED:20240822T144353Z
UID:10012034-1861282800-1861293600@pottspointhotel.com.au
SUMMARY:Sunday Live Music
DESCRIPTION:Sundays from 3pm \n\n\n\nKick back and join us downstairs at Potts Point Hotel for live music\, with acoustic sounds every Sunday afternoon from 3pm. \n\n\n\nBook a table for dinner or pop down for light snacks from the bistro with a drink or two to finish off your week.
URL:https://pottspointhotel.com.au/events/sunday-live-music/2028-12-24/
LOCATION:Potts Point Hotel\, Ground\, Potts Point Hotel\, Potts Point\, NSW\, 2011\, Australia
CATEGORIES:Potts Point Hotel,Sundays
ATTACH;FMTTYPE=image/jpeg:https://pottspointhotel.com.au/storage/2022/12/Untitled-design-14-jpg.webp
ORGANIZER;CN="Potts Point Hotel":MAILTO:info@pottspointhotel.com.au
END:VEVENT
BEGIN:VEVENT
DTSTART;TZID=Australia/Sydney:20281228T183000
DTEND;TZID=Australia/Sydney:20281228T183000
DTSTAMP:20260426T085244
CREATED:20251217T025239Z
LAST-MODIFIED:20251220T150443Z
UID:10012816-1861641000-1861641000@pottspointhotel.com.au
SUMMARY:PPH Weekly Meat Raffle!
DESCRIPTION:Every Thursday at Potts Point Hotel!  \n\n\n\n4 Meat trays up for grabs\, tickets on sale from 6:30pm & drawn at 8:30pm. \n\n\n\nJoker Poker Jackpot also drawn at 8:30pm with a rolling Jackpot\, see our socials for this weeks jackpot! Good Luck!
URL:https://pottspointhotel.com.au/events/pph-weekly-meat-raffle/2028-12-28/
LOCATION:Potts Point Hotel\, Ground\, Potts Point Hotel\, Potts Point\, NSW\, 2011\, Australia
CATEGORIES:Potts Point Hotel
ATTACH;FMTTYPE=image/png:https://pottspointhotel.com.au/storage/2025/12/Screenshot-2025-12-17-at-11.38.01-am.png
ORGANIZER;CN="Potts Point Hotel":MAILTO:info@pottspointhotel.com.au
END:VEVENT
BEGIN:VEVENT
DTSTART;TZID=Australia/Sydney:20281231T150000
DTEND;TZID=Australia/Sydney:20281231T180000
DTSTAMP:20260426T085244
CREATED:20221213T122438Z
LAST-MODIFIED:20240822T144353Z
UID:10012035-1861887600-1861898400@pottspointhotel.com.au
SUMMARY:Sunday Live Music
DESCRIPTION:Sundays from 3pm \n\n\n\nKick back and join us downstairs at Potts Point Hotel for live music\, with acoustic sounds every Sunday afternoon from 3pm. \n\n\n\nBook a table for dinner or pop down for light snacks from the bistro with a drink or two to finish off your week.
URL:https://pottspointhotel.com.au/events/sunday-live-music/2028-12-31/
LOCATION:Potts Point Hotel\, Ground\, Potts Point Hotel\, Potts Point\, NSW\, 2011\, Australia
CATEGORIES:Potts Point Hotel,Sundays
ATTACH;FMTTYPE=image/jpeg:https://pottspointhotel.com.au/storage/2022/12/Untitled-design-14-jpg.webp
ORGANIZER;CN="Potts Point Hotel":MAILTO:info@pottspointhotel.com.au
END:VEVENT
BEGIN:VEVENT
DTSTART;TZID=Australia/Sydney:20290104T183000
DTEND;TZID=Australia/Sydney:20290104T183000
DTSTAMP:20260426T085244
CREATED:20251217T025239Z
LAST-MODIFIED:20251220T150443Z
UID:10012817-1862245800-1862245800@pottspointhotel.com.au
SUMMARY:PPH Weekly Meat Raffle!
DESCRIPTION:Every Thursday at Potts Point Hotel!  \n\n\n\n4 Meat trays up for grabs\, tickets on sale from 6:30pm & drawn at 8:30pm. \n\n\n\nJoker Poker Jackpot also drawn at 8:30pm with a rolling Jackpot\, see our socials for this weeks jackpot! Good Luck!
URL:https://pottspointhotel.com.au/events/pph-weekly-meat-raffle/2029-01-04/
LOCATION:Potts Point Hotel\, Ground\, Potts Point Hotel\, Potts Point\, NSW\, 2011\, Australia
CATEGORIES:Potts Point Hotel
ATTACH;FMTTYPE=image/png:https://pottspointhotel.com.au/storage/2025/12/Screenshot-2025-12-17-at-11.38.01-am.png
ORGANIZER;CN="Potts Point Hotel":MAILTO:info@pottspointhotel.com.au
END:VEVENT
BEGIN:VEVENT
DTSTART;TZID=Australia/Sydney:20290107T150000
DTEND;TZID=Australia/Sydney:20290107T180000
DTSTAMP:20260426T085244
CREATED:20221213T122438Z
LAST-MODIFIED:20240822T144353Z
UID:10012036-1862492400-1862503200@pottspointhotel.com.au
SUMMARY:Sunday Live Music
DESCRIPTION:Sundays from 3pm \n\n\n\nKick back and join us downstairs at Potts Point Hotel for live music\, with acoustic sounds every Sunday afternoon from 3pm. \n\n\n\nBook a table for dinner or pop down for light snacks from the bistro with a drink or two to finish off your week.
URL:https://pottspointhotel.com.au/events/sunday-live-music/2029-01-07/
LOCATION:Potts Point Hotel\, Ground\, Potts Point Hotel\, Potts Point\, NSW\, 2011\, Australia
CATEGORIES:Potts Point Hotel,Sundays
ATTACH;FMTTYPE=image/jpeg:https://pottspointhotel.com.au/storage/2022/12/Untitled-design-14-jpg.webp
ORGANIZER;CN="Potts Point Hotel":MAILTO:info@pottspointhotel.com.au
END:VEVENT
BEGIN:VEVENT
DTSTART;TZID=Australia/Sydney:20290111T183000
DTEND;TZID=Australia/Sydney:20290111T183000
DTSTAMP:20260426T085244
CREATED:20251217T025239Z
LAST-MODIFIED:20251220T150443Z
UID:10012818-1862850600-1862850600@pottspointhotel.com.au
SUMMARY:PPH Weekly Meat Raffle!
DESCRIPTION:Every Thursday at Potts Point Hotel!  \n\n\n\n4 Meat trays up for grabs\, tickets on sale from 6:30pm & drawn at 8:30pm. \n\n\n\nJoker Poker Jackpot also drawn at 8:30pm with a rolling Jackpot\, see our socials for this weeks jackpot! Good Luck!
URL:https://pottspointhotel.com.au/events/pph-weekly-meat-raffle/2029-01-11/
LOCATION:Potts Point Hotel\, Ground\, Potts Point Hotel\, Potts Point\, NSW\, 2011\, Australia
CATEGORIES:Potts Point Hotel
ATTACH;FMTTYPE=image/png:https://pottspointhotel.com.au/storage/2025/12/Screenshot-2025-12-17-at-11.38.01-am.png
ORGANIZER;CN="Potts Point Hotel":MAILTO:info@pottspointhotel.com.au
END:VEVENT
BEGIN:VEVENT
DTSTART;TZID=Australia/Sydney:20290114T150000
DTEND;TZID=Australia/Sydney:20290114T180000
DTSTAMP:20260426T085244
CREATED:20221213T122438Z
LAST-MODIFIED:20240822T144353Z
UID:10012037-1863097200-1863108000@pottspointhotel.com.au
SUMMARY:Sunday Live Music
DESCRIPTION:Sundays from 3pm \n\n\n\nKick back and join us downstairs at Potts Point Hotel for live music\, with acoustic sounds every Sunday afternoon from 3pm. \n\n\n\nBook a table for dinner or pop down for light snacks from the bistro with a drink or two to finish off your week.
URL:https://pottspointhotel.com.au/events/sunday-live-music/2029-01-14/
LOCATION:Potts Point Hotel\, Ground\, Potts Point Hotel\, Potts Point\, NSW\, 2011\, Australia
CATEGORIES:Potts Point Hotel,Sundays
ATTACH;FMTTYPE=image/jpeg:https://pottspointhotel.com.au/storage/2022/12/Untitled-design-14-jpg.webp
ORGANIZER;CN="Potts Point Hotel":MAILTO:info@pottspointhotel.com.au
END:VEVENT
BEGIN:VEVENT
DTSTART;TZID=Australia/Sydney:20290118T183000
DTEND;TZID=Australia/Sydney:20290118T183000
DTSTAMP:20260426T085244
CREATED:20251217T025239Z
LAST-MODIFIED:20251220T150443Z
UID:10012819-1863455400-1863455400@pottspointhotel.com.au
SUMMARY:PPH Weekly Meat Raffle!
DESCRIPTION:Every Thursday at Potts Point Hotel!  \n\n\n\n4 Meat trays up for grabs\, tickets on sale from 6:30pm & drawn at 8:30pm. \n\n\n\nJoker Poker Jackpot also drawn at 8:30pm with a rolling Jackpot\, see our socials for this weeks jackpot! Good Luck!
URL:https://pottspointhotel.com.au/events/pph-weekly-meat-raffle/2029-01-18/
LOCATION:Potts Point Hotel\, Ground\, Potts Point Hotel\, Potts Point\, NSW\, 2011\, Australia
CATEGORIES:Potts Point Hotel
ATTACH;FMTTYPE=image/png:https://pottspointhotel.com.au/storage/2025/12/Screenshot-2025-12-17-at-11.38.01-am.png
ORGANIZER;CN="Potts Point Hotel":MAILTO:info@pottspointhotel.com.au
END:VEVENT
BEGIN:VEVENT
DTSTART;TZID=Australia/Sydney:20290121T150000
DTEND;TZID=Australia/Sydney:20290121T180000
DTSTAMP:20260426T085244
CREATED:20221213T122438Z
LAST-MODIFIED:20240822T144353Z
UID:10012038-1863702000-1863712800@pottspointhotel.com.au
SUMMARY:Sunday Live Music
DESCRIPTION:Sundays from 3pm \n\n\n\nKick back and join us downstairs at Potts Point Hotel for live music\, with acoustic sounds every Sunday afternoon from 3pm. \n\n\n\nBook a table for dinner or pop down for light snacks from the bistro with a drink or two to finish off your week.
URL:https://pottspointhotel.com.au/events/sunday-live-music/2029-01-21/
LOCATION:Potts Point Hotel\, Ground\, Potts Point Hotel\, Potts Point\, NSW\, 2011\, Australia
CATEGORIES:Potts Point Hotel,Sundays
ATTACH;FMTTYPE=image/jpeg:https://pottspointhotel.com.au/storage/2022/12/Untitled-design-14-jpg.webp
ORGANIZER;CN="Potts Point Hotel":MAILTO:info@pottspointhotel.com.au
END:VEVENT
BEGIN:VEVENT
DTSTART;TZID=Australia/Sydney:20290125T183000
DTEND;TZID=Australia/Sydney:20290125T183000
DTSTAMP:20260426T085244
CREATED:20251217T025239Z
LAST-MODIFIED:20251220T150443Z
UID:10012820-1864060200-1864060200@pottspointhotel.com.au
SUMMARY:PPH Weekly Meat Raffle!
DESCRIPTION:Every Thursday at Potts Point Hotel!  \n\n\n\n4 Meat trays up for grabs\, tickets on sale from 6:30pm & drawn at 8:30pm. \n\n\n\nJoker Poker Jackpot also drawn at 8:30pm with a rolling Jackpot\, see our socials for this weeks jackpot! Good Luck!
URL:https://pottspointhotel.com.au/events/pph-weekly-meat-raffle/2029-01-25/
LOCATION:Potts Point Hotel\, Ground\, Potts Point Hotel\, Potts Point\, NSW\, 2011\, Australia
CATEGORIES:Potts Point Hotel
ATTACH;FMTTYPE=image/png:https://pottspointhotel.com.au/storage/2025/12/Screenshot-2025-12-17-at-11.38.01-am.png
ORGANIZER;CN="Potts Point Hotel":MAILTO:info@pottspointhotel.com.au
END:VEVENT
BEGIN:VEVENT
DTSTART;TZID=Australia/Sydney:20290128T150000
DTEND;TZID=Australia/Sydney:20290128T180000
DTSTAMP:20260426T085244
CREATED:20221213T122438Z
LAST-MODIFIED:20240822T144353Z
UID:10012039-1864306800-1864317600@pottspointhotel.com.au
SUMMARY:Sunday Live Music
DESCRIPTION:Sundays from 3pm \n\n\n\nKick back and join us downstairs at Potts Point Hotel for live music\, with acoustic sounds every Sunday afternoon from 3pm. \n\n\n\nBook a table for dinner or pop down for light snacks from the bistro with a drink or two to finish off your week.
URL:https://pottspointhotel.com.au/events/sunday-live-music/2029-01-28/
LOCATION:Potts Point Hotel\, Ground\, Potts Point Hotel\, Potts Point\, NSW\, 2011\, Australia
CATEGORIES:Potts Point Hotel,Sundays
ATTACH;FMTTYPE=image/jpeg:https://pottspointhotel.com.au/storage/2022/12/Untitled-design-14-jpg.webp
ORGANIZER;CN="Potts Point Hotel":MAILTO:info@pottspointhotel.com.au
END:VEVENT
BEGIN:VEVENT
DTSTART;TZID=Australia/Sydney:20290201T183000
DTEND;TZID=Australia/Sydney:20290201T183000
DTSTAMP:20260426T085244
CREATED:20251217T025239Z
LAST-MODIFIED:20251220T150443Z
UID:10012821-1864665000-1864665000@pottspointhotel.com.au
SUMMARY:PPH Weekly Meat Raffle!
DESCRIPTION:Every Thursday at Potts Point Hotel!  \n\n\n\n4 Meat trays up for grabs\, tickets on sale from 6:30pm & drawn at 8:30pm. \n\n\n\nJoker Poker Jackpot also drawn at 8:30pm with a rolling Jackpot\, see our socials for this weeks jackpot! Good Luck!
URL:https://pottspointhotel.com.au/events/pph-weekly-meat-raffle/2029-02-01/
LOCATION:Potts Point Hotel\, Ground\, Potts Point Hotel\, Potts Point\, NSW\, 2011\, Australia
CATEGORIES:Potts Point Hotel
ATTACH;FMTTYPE=image/png:https://pottspointhotel.com.au/storage/2025/12/Screenshot-2025-12-17-at-11.38.01-am.png
ORGANIZER;CN="Potts Point Hotel":MAILTO:info@pottspointhotel.com.au
END:VEVENT
BEGIN:VEVENT
DTSTART;TZID=Australia/Sydney:20290204T150000
DTEND;TZID=Australia/Sydney:20290204T180000
DTSTAMP:20260426T085244
CREATED:20221213T122438Z
LAST-MODIFIED:20240822T144353Z
UID:10012040-1864911600-1864922400@pottspointhotel.com.au
SUMMARY:Sunday Live Music
DESCRIPTION:Sundays from 3pm \n\n\n\nKick back and join us downstairs at Potts Point Hotel for live music\, with acoustic sounds every Sunday afternoon from 3pm. \n\n\n\nBook a table for dinner or pop down for light snacks from the bistro with a drink or two to finish off your week.
URL:https://pottspointhotel.com.au/events/sunday-live-music/2029-02-04/
LOCATION:Potts Point Hotel\, Ground\, Potts Point Hotel\, Potts Point\, NSW\, 2011\, Australia
CATEGORIES:Potts Point Hotel,Sundays
ATTACH;FMTTYPE=image/jpeg:https://pottspointhotel.com.au/storage/2022/12/Untitled-design-14-jpg.webp
ORGANIZER;CN="Potts Point Hotel":MAILTO:info@pottspointhotel.com.au
END:VEVENT
BEGIN:VEVENT
DTSTART;TZID=Australia/Sydney:20290208T183000
DTEND;TZID=Australia/Sydney:20290208T183000
DTSTAMP:20260426T085244
CREATED:20251217T025239Z
LAST-MODIFIED:20251220T150443Z
UID:10012822-1865269800-1865269800@pottspointhotel.com.au
SUMMARY:PPH Weekly Meat Raffle!
DESCRIPTION:Every Thursday at Potts Point Hotel!  \n\n\n\n4 Meat trays up for grabs\, tickets on sale from 6:30pm & drawn at 8:30pm. \n\n\n\nJoker Poker Jackpot also drawn at 8:30pm with a rolling Jackpot\, see our socials for this weeks jackpot! Good Luck!
URL:https://pottspointhotel.com.au/events/pph-weekly-meat-raffle/2029-02-08/
LOCATION:Potts Point Hotel\, Ground\, Potts Point Hotel\, Potts Point\, NSW\, 2011\, Australia
CATEGORIES:Potts Point Hotel
ATTACH;FMTTYPE=image/png:https://pottspointhotel.com.au/storage/2025/12/Screenshot-2025-12-17-at-11.38.01-am.png
ORGANIZER;CN="Potts Point Hotel":MAILTO:info@pottspointhotel.com.au
END:VEVENT
BEGIN:VEVENT
DTSTART;TZID=Australia/Sydney:20290211T150000
DTEND;TZID=Australia/Sydney:20290211T180000
DTSTAMP:20260426T085244
CREATED:20221213T122438Z
LAST-MODIFIED:20240822T144353Z
UID:10012041-1865516400-1865527200@pottspointhotel.com.au
SUMMARY:Sunday Live Music
DESCRIPTION:Sundays from 3pm \n\n\n\nKick back and join us downstairs at Potts Point Hotel for live music\, with acoustic sounds every Sunday afternoon from 3pm. \n\n\n\nBook a table for dinner or pop down for light snacks from the bistro with a drink or two to finish off your week.
URL:https://pottspointhotel.com.au/events/sunday-live-music/2029-02-11/
LOCATION:Potts Point Hotel\, Ground\, Potts Point Hotel\, Potts Point\, NSW\, 2011\, Australia
CATEGORIES:Potts Point Hotel,Sundays
ATTACH;FMTTYPE=image/jpeg:https://pottspointhotel.com.au/storage/2022/12/Untitled-design-14-jpg.webp
ORGANIZER;CN="Potts Point Hotel":MAILTO:info@pottspointhotel.com.au
END:VEVENT
BEGIN:VEVENT
DTSTART;TZID=Australia/Sydney:20290215T183000
DTEND;TZID=Australia/Sydney:20290215T183000
DTSTAMP:20260426T085244
CREATED:20251217T025239Z
LAST-MODIFIED:20251220T150443Z
UID:10012823-1865874600-1865874600@pottspointhotel.com.au
SUMMARY:PPH Weekly Meat Raffle!
DESCRIPTION:Every Thursday at Potts Point Hotel!  \n\n\n\n4 Meat trays up for grabs\, tickets on sale from 6:30pm & drawn at 8:30pm. \n\n\n\nJoker Poker Jackpot also drawn at 8:30pm with a rolling Jackpot\, see our socials for this weeks jackpot! Good Luck!
URL:https://pottspointhotel.com.au/events/pph-weekly-meat-raffle/2029-02-15/
LOCATION:Potts Point Hotel\, Ground\, Potts Point Hotel\, Potts Point\, NSW\, 2011\, Australia
CATEGORIES:Potts Point Hotel
ATTACH;FMTTYPE=image/png:https://pottspointhotel.com.au/storage/2025/12/Screenshot-2025-12-17-at-11.38.01-am.png
ORGANIZER;CN="Potts Point Hotel":MAILTO:info@pottspointhotel.com.au
END:VEVENT
END:VCALENDAR