BEGIN:VCALENDAR
VERSION:2.0
PRODID:-//Potts Point Hotel - ECPv6.15.18//NONSGML v1.0//EN
CALSCALE:GREGORIAN
METHOD:PUBLISH
X-ORIGINAL-URL:https://pottspointhotel.com.au
X-WR-CALDESC:Events for Potts Point Hotel
REFRESH-INTERVAL;VALUE=DURATION:PT1H
X-Robots-Tag:noindex
X-PUBLISHED-TTL:PT1H
BEGIN:VTIMEZONE
TZID:Australia/Sydney
BEGIN:STANDARD
TZOFFSETFROM:+1100
TZOFFSETTO:+1000
TZNAME:AEST
DTSTART:20280401T160000
END:STANDARD
BEGIN:DAYLIGHT
TZOFFSETFROM:+1000
TZOFFSETTO:+1100
TZNAME:AEDT
DTSTART:20280930T160000
END:DAYLIGHT
BEGIN:STANDARD
TZOFFSETFROM:+1100
TZOFFSETTO:+1000
TZNAME:AEST
DTSTART:20290331T160000
END:STANDARD
BEGIN:DAYLIGHT
TZOFFSETFROM:+1000
TZOFFSETTO:+1100
TZNAME:AEDT
DTSTART:20291006T160000
END:DAYLIGHT
BEGIN:STANDARD
TZOFFSETFROM:+1100
TZOFFSETTO:+1000
TZNAME:AEST
DTSTART:20300406T160000
END:STANDARD
BEGIN:DAYLIGHT
TZOFFSETFROM:+1000
TZOFFSETTO:+1100
TZNAME:AEDT
DTSTART:20301005T160000
END:DAYLIGHT
END:VTIMEZONE
BEGIN:VEVENT
DTSTART;TZID=Australia/Sydney:20290422T150000
DTEND;TZID=Australia/Sydney:20290422T180000
DTSTAMP:20260426T135402
CREATED:20221213T122438Z
LAST-MODIFIED:20240822T144353Z
UID:10012051-1871564400-1871575200@pottspointhotel.com.au
SUMMARY:Sunday Live Music
DESCRIPTION:Sundays from 3pm \n\n\n\nKick back and join us downstairs at Potts Point Hotel for live music\, with acoustic sounds every Sunday afternoon from 3pm. \n\n\n\nBook a table for dinner or pop down for light snacks from the bistro with a drink or two to finish off your week.
URL:https://pottspointhotel.com.au/events/sunday-live-music/2029-04-22/
LOCATION:Potts Point Hotel\, Ground\, Potts Point Hotel\, Potts Point\, NSW\, 2011\, Australia
CATEGORIES:Potts Point Hotel,Sundays
ATTACH;FMTTYPE=image/jpeg:https://pottspointhotel.com.au/storage/2022/12/Untitled-design-14-jpg.webp
ORGANIZER;CN="Potts Point Hotel":MAILTO:info@pottspointhotel.com.au
END:VEVENT
BEGIN:VEVENT
DTSTART;TZID=Australia/Sydney:20290426T183000
DTEND;TZID=Australia/Sydney:20290426T183000
DTSTAMP:20260426T135402
CREATED:20251217T025239Z
LAST-MODIFIED:20251220T150443Z
UID:10012833-1871922600-1871922600@pottspointhotel.com.au
SUMMARY:PPH Weekly Meat Raffle!
DESCRIPTION:Every Thursday at Potts Point Hotel!  \n\n\n\n4 Meat trays up for grabs\, tickets on sale from 6:30pm & drawn at 8:30pm. \n\n\n\nJoker Poker Jackpot also drawn at 8:30pm with a rolling Jackpot\, see our socials for this weeks jackpot! Good Luck!
URL:https://pottspointhotel.com.au/events/pph-weekly-meat-raffle/2029-04-26/
LOCATION:Potts Point Hotel\, Ground\, Potts Point Hotel\, Potts Point\, NSW\, 2011\, Australia
CATEGORIES:Potts Point Hotel
ATTACH;FMTTYPE=image/png:https://pottspointhotel.com.au/storage/2025/12/Screenshot-2025-12-17-at-11.38.01-am.png
ORGANIZER;CN="Potts Point Hotel":MAILTO:info@pottspointhotel.com.au
END:VEVENT
BEGIN:VEVENT
DTSTART;TZID=Australia/Sydney:20290429T150000
DTEND;TZID=Australia/Sydney:20290429T180000
DTSTAMP:20260426T135402
CREATED:20221213T122438Z
LAST-MODIFIED:20240822T144353Z
UID:10012052-1872169200-1872180000@pottspointhotel.com.au
SUMMARY:Sunday Live Music
DESCRIPTION:Sundays from 3pm \n\n\n\nKick back and join us downstairs at Potts Point Hotel for live music\, with acoustic sounds every Sunday afternoon from 3pm. \n\n\n\nBook a table for dinner or pop down for light snacks from the bistro with a drink or two to finish off your week.
URL:https://pottspointhotel.com.au/events/sunday-live-music/2029-04-29/
LOCATION:Potts Point Hotel\, Ground\, Potts Point Hotel\, Potts Point\, NSW\, 2011\, Australia
CATEGORIES:Potts Point Hotel,Sundays
ATTACH;FMTTYPE=image/jpeg:https://pottspointhotel.com.au/storage/2022/12/Untitled-design-14-jpg.webp
ORGANIZER;CN="Potts Point Hotel":MAILTO:info@pottspointhotel.com.au
END:VEVENT
BEGIN:VEVENT
DTSTART;TZID=Australia/Sydney:20290503T183000
DTEND;TZID=Australia/Sydney:20290503T183000
DTSTAMP:20260426T135402
CREATED:20251217T025239Z
LAST-MODIFIED:20251220T150443Z
UID:10012834-1872527400-1872527400@pottspointhotel.com.au
SUMMARY:PPH Weekly Meat Raffle!
DESCRIPTION:Every Thursday at Potts Point Hotel!  \n\n\n\n4 Meat trays up for grabs\, tickets on sale from 6:30pm & drawn at 8:30pm. \n\n\n\nJoker Poker Jackpot also drawn at 8:30pm with a rolling Jackpot\, see our socials for this weeks jackpot! Good Luck!
URL:https://pottspointhotel.com.au/events/pph-weekly-meat-raffle/2029-05-03/
LOCATION:Potts Point Hotel\, Ground\, Potts Point Hotel\, Potts Point\, NSW\, 2011\, Australia
CATEGORIES:Potts Point Hotel
ATTACH;FMTTYPE=image/png:https://pottspointhotel.com.au/storage/2025/12/Screenshot-2025-12-17-at-11.38.01-am.png
ORGANIZER;CN="Potts Point Hotel":MAILTO:info@pottspointhotel.com.au
END:VEVENT
BEGIN:VEVENT
DTSTART;TZID=Australia/Sydney:20290506T150000
DTEND;TZID=Australia/Sydney:20290506T180000
DTSTAMP:20260426T135402
CREATED:20221213T122438Z
LAST-MODIFIED:20240822T144353Z
UID:10012053-1872774000-1872784800@pottspointhotel.com.au
SUMMARY:Sunday Live Music
DESCRIPTION:Sundays from 3pm \n\n\n\nKick back and join us downstairs at Potts Point Hotel for live music\, with acoustic sounds every Sunday afternoon from 3pm. \n\n\n\nBook a table for dinner or pop down for light snacks from the bistro with a drink or two to finish off your week.
URL:https://pottspointhotel.com.au/events/sunday-live-music/2029-05-06/
LOCATION:Potts Point Hotel\, Ground\, Potts Point Hotel\, Potts Point\, NSW\, 2011\, Australia
CATEGORIES:Potts Point Hotel,Sundays
ATTACH;FMTTYPE=image/jpeg:https://pottspointhotel.com.au/storage/2022/12/Untitled-design-14-jpg.webp
ORGANIZER;CN="Potts Point Hotel":MAILTO:info@pottspointhotel.com.au
END:VEVENT
BEGIN:VEVENT
DTSTART;TZID=Australia/Sydney:20290510T183000
DTEND;TZID=Australia/Sydney:20290510T183000
DTSTAMP:20260426T135402
CREATED:20251217T025239Z
LAST-MODIFIED:20251220T150443Z
UID:10012835-1873132200-1873132200@pottspointhotel.com.au
SUMMARY:PPH Weekly Meat Raffle!
DESCRIPTION:Every Thursday at Potts Point Hotel!  \n\n\n\n4 Meat trays up for grabs\, tickets on sale from 6:30pm & drawn at 8:30pm. \n\n\n\nJoker Poker Jackpot also drawn at 8:30pm with a rolling Jackpot\, see our socials for this weeks jackpot! Good Luck!
URL:https://pottspointhotel.com.au/events/pph-weekly-meat-raffle/2029-05-10/
LOCATION:Potts Point Hotel\, Ground\, Potts Point Hotel\, Potts Point\, NSW\, 2011\, Australia
CATEGORIES:Potts Point Hotel
ATTACH;FMTTYPE=image/png:https://pottspointhotel.com.au/storage/2025/12/Screenshot-2025-12-17-at-11.38.01-am.png
ORGANIZER;CN="Potts Point Hotel":MAILTO:info@pottspointhotel.com.au
END:VEVENT
BEGIN:VEVENT
DTSTART;TZID=Australia/Sydney:20290513T150000
DTEND;TZID=Australia/Sydney:20290513T180000
DTSTAMP:20260426T135402
CREATED:20221213T122438Z
LAST-MODIFIED:20240822T144353Z
UID:10012054-1873378800-1873389600@pottspointhotel.com.au
SUMMARY:Sunday Live Music
DESCRIPTION:Sundays from 3pm \n\n\n\nKick back and join us downstairs at Potts Point Hotel for live music\, with acoustic sounds every Sunday afternoon from 3pm. \n\n\n\nBook a table for dinner or pop down for light snacks from the bistro with a drink or two to finish off your week.
URL:https://pottspointhotel.com.au/events/sunday-live-music/2029-05-13/
LOCATION:Potts Point Hotel\, Ground\, Potts Point Hotel\, Potts Point\, NSW\, 2011\, Australia
CATEGORIES:Potts Point Hotel,Sundays
ATTACH;FMTTYPE=image/jpeg:https://pottspointhotel.com.au/storage/2022/12/Untitled-design-14-jpg.webp
ORGANIZER;CN="Potts Point Hotel":MAILTO:info@pottspointhotel.com.au
END:VEVENT
BEGIN:VEVENT
DTSTART;TZID=Australia/Sydney:20290517T183000
DTEND;TZID=Australia/Sydney:20290517T183000
DTSTAMP:20260426T135402
CREATED:20251217T025239Z
LAST-MODIFIED:20251220T150443Z
UID:10012836-1873737000-1873737000@pottspointhotel.com.au
SUMMARY:PPH Weekly Meat Raffle!
DESCRIPTION:Every Thursday at Potts Point Hotel!  \n\n\n\n4 Meat trays up for grabs\, tickets on sale from 6:30pm & drawn at 8:30pm. \n\n\n\nJoker Poker Jackpot also drawn at 8:30pm with a rolling Jackpot\, see our socials for this weeks jackpot! Good Luck!
URL:https://pottspointhotel.com.au/events/pph-weekly-meat-raffle/2029-05-17/
LOCATION:Potts Point Hotel\, Ground\, Potts Point Hotel\, Potts Point\, NSW\, 2011\, Australia
CATEGORIES:Potts Point Hotel
ATTACH;FMTTYPE=image/png:https://pottspointhotel.com.au/storage/2025/12/Screenshot-2025-12-17-at-11.38.01-am.png
ORGANIZER;CN="Potts Point Hotel":MAILTO:info@pottspointhotel.com.au
END:VEVENT
BEGIN:VEVENT
DTSTART;TZID=Australia/Sydney:20290520T150000
DTEND;TZID=Australia/Sydney:20290520T180000
DTSTAMP:20260426T135402
CREATED:20221213T122438Z
LAST-MODIFIED:20240822T144353Z
UID:10012055-1873983600-1873994400@pottspointhotel.com.au
SUMMARY:Sunday Live Music
DESCRIPTION:Sundays from 3pm \n\n\n\nKick back and join us downstairs at Potts Point Hotel for live music\, with acoustic sounds every Sunday afternoon from 3pm. \n\n\n\nBook a table for dinner or pop down for light snacks from the bistro with a drink or two to finish off your week.
URL:https://pottspointhotel.com.au/events/sunday-live-music/2029-05-20/
LOCATION:Potts Point Hotel\, Ground\, Potts Point Hotel\, Potts Point\, NSW\, 2011\, Australia
CATEGORIES:Potts Point Hotel,Sundays
ATTACH;FMTTYPE=image/jpeg:https://pottspointhotel.com.au/storage/2022/12/Untitled-design-14-jpg.webp
ORGANIZER;CN="Potts Point Hotel":MAILTO:info@pottspointhotel.com.au
END:VEVENT
BEGIN:VEVENT
DTSTART;TZID=Australia/Sydney:20290524T183000
DTEND;TZID=Australia/Sydney:20290524T183000
DTSTAMP:20260426T135402
CREATED:20251217T025239Z
LAST-MODIFIED:20251220T150443Z
UID:10012837-1874341800-1874341800@pottspointhotel.com.au
SUMMARY:PPH Weekly Meat Raffle!
DESCRIPTION:Every Thursday at Potts Point Hotel!  \n\n\n\n4 Meat trays up for grabs\, tickets on sale from 6:30pm & drawn at 8:30pm. \n\n\n\nJoker Poker Jackpot also drawn at 8:30pm with a rolling Jackpot\, see our socials for this weeks jackpot! Good Luck!
URL:https://pottspointhotel.com.au/events/pph-weekly-meat-raffle/2029-05-24/
LOCATION:Potts Point Hotel\, Ground\, Potts Point Hotel\, Potts Point\, NSW\, 2011\, Australia
CATEGORIES:Potts Point Hotel
ATTACH;FMTTYPE=image/png:https://pottspointhotel.com.au/storage/2025/12/Screenshot-2025-12-17-at-11.38.01-am.png
ORGANIZER;CN="Potts Point Hotel":MAILTO:info@pottspointhotel.com.au
END:VEVENT
BEGIN:VEVENT
DTSTART;TZID=Australia/Sydney:20290527T150000
DTEND;TZID=Australia/Sydney:20290527T180000
DTSTAMP:20260426T135402
CREATED:20221213T122438Z
LAST-MODIFIED:20240822T144353Z
UID:10012056-1874588400-1874599200@pottspointhotel.com.au
SUMMARY:Sunday Live Music
DESCRIPTION:Sundays from 3pm \n\n\n\nKick back and join us downstairs at Potts Point Hotel for live music\, with acoustic sounds every Sunday afternoon from 3pm. \n\n\n\nBook a table for dinner or pop down for light snacks from the bistro with a drink or two to finish off your week.
URL:https://pottspointhotel.com.au/events/sunday-live-music/2029-05-27/
LOCATION:Potts Point Hotel\, Ground\, Potts Point Hotel\, Potts Point\, NSW\, 2011\, Australia
CATEGORIES:Potts Point Hotel,Sundays
ATTACH;FMTTYPE=image/jpeg:https://pottspointhotel.com.au/storage/2022/12/Untitled-design-14-jpg.webp
ORGANIZER;CN="Potts Point Hotel":MAILTO:info@pottspointhotel.com.au
END:VEVENT
BEGIN:VEVENT
DTSTART;TZID=Australia/Sydney:20290531T183000
DTEND;TZID=Australia/Sydney:20290531T183000
DTSTAMP:20260426T135402
CREATED:20251217T025239Z
LAST-MODIFIED:20251220T150443Z
UID:10012838-1874946600-1874946600@pottspointhotel.com.au
SUMMARY:PPH Weekly Meat Raffle!
DESCRIPTION:Every Thursday at Potts Point Hotel!  \n\n\n\n4 Meat trays up for grabs\, tickets on sale from 6:30pm & drawn at 8:30pm. \n\n\n\nJoker Poker Jackpot also drawn at 8:30pm with a rolling Jackpot\, see our socials for this weeks jackpot! Good Luck!
URL:https://pottspointhotel.com.au/events/pph-weekly-meat-raffle/2029-05-31/
LOCATION:Potts Point Hotel\, Ground\, Potts Point Hotel\, Potts Point\, NSW\, 2011\, Australia
CATEGORIES:Potts Point Hotel
ATTACH;FMTTYPE=image/png:https://pottspointhotel.com.au/storage/2025/12/Screenshot-2025-12-17-at-11.38.01-am.png
ORGANIZER;CN="Potts Point Hotel":MAILTO:info@pottspointhotel.com.au
END:VEVENT
BEGIN:VEVENT
DTSTART;TZID=Australia/Sydney:20290603T150000
DTEND;TZID=Australia/Sydney:20290603T180000
DTSTAMP:20260426T135402
CREATED:20221213T122438Z
LAST-MODIFIED:20240822T144353Z
UID:10012057-1875193200-1875204000@pottspointhotel.com.au
SUMMARY:Sunday Live Music
DESCRIPTION:Sundays from 3pm \n\n\n\nKick back and join us downstairs at Potts Point Hotel for live music\, with acoustic sounds every Sunday afternoon from 3pm. \n\n\n\nBook a table for dinner or pop down for light snacks from the bistro with a drink or two to finish off your week.
URL:https://pottspointhotel.com.au/events/sunday-live-music/2029-06-03/
LOCATION:Potts Point Hotel\, Ground\, Potts Point Hotel\, Potts Point\, NSW\, 2011\, Australia
CATEGORIES:Potts Point Hotel,Sundays
ATTACH;FMTTYPE=image/jpeg:https://pottspointhotel.com.au/storage/2022/12/Untitled-design-14-jpg.webp
ORGANIZER;CN="Potts Point Hotel":MAILTO:info@pottspointhotel.com.au
END:VEVENT
BEGIN:VEVENT
DTSTART;TZID=Australia/Sydney:20290607T183000
DTEND;TZID=Australia/Sydney:20290607T183000
DTSTAMP:20260426T135402
CREATED:20251217T025239Z
LAST-MODIFIED:20251220T150443Z
UID:10012839-1875551400-1875551400@pottspointhotel.com.au
SUMMARY:PPH Weekly Meat Raffle!
DESCRIPTION:Every Thursday at Potts Point Hotel!  \n\n\n\n4 Meat trays up for grabs\, tickets on sale from 6:30pm & drawn at 8:30pm. \n\n\n\nJoker Poker Jackpot also drawn at 8:30pm with a rolling Jackpot\, see our socials for this weeks jackpot! Good Luck!
URL:https://pottspointhotel.com.au/events/pph-weekly-meat-raffle/2029-06-07/
LOCATION:Potts Point Hotel\, Ground\, Potts Point Hotel\, Potts Point\, NSW\, 2011\, Australia
CATEGORIES:Potts Point Hotel
ATTACH;FMTTYPE=image/png:https://pottspointhotel.com.au/storage/2025/12/Screenshot-2025-12-17-at-11.38.01-am.png
ORGANIZER;CN="Potts Point Hotel":MAILTO:info@pottspointhotel.com.au
END:VEVENT
BEGIN:VEVENT
DTSTART;TZID=Australia/Sydney:20290610T150000
DTEND;TZID=Australia/Sydney:20290610T180000
DTSTAMP:20260426T135402
CREATED:20221213T122438Z
LAST-MODIFIED:20240822T144353Z
UID:10012058-1875798000-1875808800@pottspointhotel.com.au
SUMMARY:Sunday Live Music
DESCRIPTION:Sundays from 3pm \n\n\n\nKick back and join us downstairs at Potts Point Hotel for live music\, with acoustic sounds every Sunday afternoon from 3pm. \n\n\n\nBook a table for dinner or pop down for light snacks from the bistro with a drink or two to finish off your week.
URL:https://pottspointhotel.com.au/events/sunday-live-music/2029-06-10/
LOCATION:Potts Point Hotel\, Ground\, Potts Point Hotel\, Potts Point\, NSW\, 2011\, Australia
CATEGORIES:Potts Point Hotel,Sundays
ATTACH;FMTTYPE=image/jpeg:https://pottspointhotel.com.au/storage/2022/12/Untitled-design-14-jpg.webp
ORGANIZER;CN="Potts Point Hotel":MAILTO:info@pottspointhotel.com.au
END:VEVENT
BEGIN:VEVENT
DTSTART;TZID=Australia/Sydney:20290614T183000
DTEND;TZID=Australia/Sydney:20290614T183000
DTSTAMP:20260426T135402
CREATED:20251217T025239Z
LAST-MODIFIED:20251220T150443Z
UID:10012840-1876156200-1876156200@pottspointhotel.com.au
SUMMARY:PPH Weekly Meat Raffle!
DESCRIPTION:Every Thursday at Potts Point Hotel!  \n\n\n\n4 Meat trays up for grabs\, tickets on sale from 6:30pm & drawn at 8:30pm. \n\n\n\nJoker Poker Jackpot also drawn at 8:30pm with a rolling Jackpot\, see our socials for this weeks jackpot! Good Luck!
URL:https://pottspointhotel.com.au/events/pph-weekly-meat-raffle/2029-06-14/
LOCATION:Potts Point Hotel\, Ground\, Potts Point Hotel\, Potts Point\, NSW\, 2011\, Australia
CATEGORIES:Potts Point Hotel
ATTACH;FMTTYPE=image/png:https://pottspointhotel.com.au/storage/2025/12/Screenshot-2025-12-17-at-11.38.01-am.png
ORGANIZER;CN="Potts Point Hotel":MAILTO:info@pottspointhotel.com.au
END:VEVENT
BEGIN:VEVENT
DTSTART;TZID=Australia/Sydney:20290617T150000
DTEND;TZID=Australia/Sydney:20290617T180000
DTSTAMP:20260426T135402
CREATED:20221213T122438Z
LAST-MODIFIED:20240822T144353Z
UID:10012059-1876402800-1876413600@pottspointhotel.com.au
SUMMARY:Sunday Live Music
DESCRIPTION:Sundays from 3pm \n\n\n\nKick back and join us downstairs at Potts Point Hotel for live music\, with acoustic sounds every Sunday afternoon from 3pm. \n\n\n\nBook a table for dinner or pop down for light snacks from the bistro with a drink or two to finish off your week.
URL:https://pottspointhotel.com.au/events/sunday-live-music/2029-06-17/
LOCATION:Potts Point Hotel\, Ground\, Potts Point Hotel\, Potts Point\, NSW\, 2011\, Australia
CATEGORIES:Potts Point Hotel,Sundays
ATTACH;FMTTYPE=image/jpeg:https://pottspointhotel.com.au/storage/2022/12/Untitled-design-14-jpg.webp
ORGANIZER;CN="Potts Point Hotel":MAILTO:info@pottspointhotel.com.au
END:VEVENT
BEGIN:VEVENT
DTSTART;TZID=Australia/Sydney:20290621T183000
DTEND;TZID=Australia/Sydney:20290621T183000
DTSTAMP:20260426T135402
CREATED:20251217T025239Z
LAST-MODIFIED:20251220T150443Z
UID:10012841-1876761000-1876761000@pottspointhotel.com.au
SUMMARY:PPH Weekly Meat Raffle!
DESCRIPTION:Every Thursday at Potts Point Hotel!  \n\n\n\n4 Meat trays up for grabs\, tickets on sale from 6:30pm & drawn at 8:30pm. \n\n\n\nJoker Poker Jackpot also drawn at 8:30pm with a rolling Jackpot\, see our socials for this weeks jackpot! Good Luck!
URL:https://pottspointhotel.com.au/events/pph-weekly-meat-raffle/2029-06-21/
LOCATION:Potts Point Hotel\, Ground\, Potts Point Hotel\, Potts Point\, NSW\, 2011\, Australia
CATEGORIES:Potts Point Hotel
ATTACH;FMTTYPE=image/png:https://pottspointhotel.com.au/storage/2025/12/Screenshot-2025-12-17-at-11.38.01-am.png
ORGANIZER;CN="Potts Point Hotel":MAILTO:info@pottspointhotel.com.au
END:VEVENT
BEGIN:VEVENT
DTSTART;TZID=Australia/Sydney:20290624T150000
DTEND;TZID=Australia/Sydney:20290624T180000
DTSTAMP:20260426T135402
CREATED:20221213T122438Z
LAST-MODIFIED:20240822T144353Z
UID:10012060-1877007600-1877018400@pottspointhotel.com.au
SUMMARY:Sunday Live Music
DESCRIPTION:Sundays from 3pm \n\n\n\nKick back and join us downstairs at Potts Point Hotel for live music\, with acoustic sounds every Sunday afternoon from 3pm. \n\n\n\nBook a table for dinner or pop down for light snacks from the bistro with a drink or two to finish off your week.
URL:https://pottspointhotel.com.au/events/sunday-live-music/2029-06-24/
LOCATION:Potts Point Hotel\, Ground\, Potts Point Hotel\, Potts Point\, NSW\, 2011\, Australia
CATEGORIES:Potts Point Hotel,Sundays
ATTACH;FMTTYPE=image/jpeg:https://pottspointhotel.com.au/storage/2022/12/Untitled-design-14-jpg.webp
ORGANIZER;CN="Potts Point Hotel":MAILTO:info@pottspointhotel.com.au
END:VEVENT
BEGIN:VEVENT
DTSTART;TZID=Australia/Sydney:20290628T183000
DTEND;TZID=Australia/Sydney:20290628T183000
DTSTAMP:20260426T135402
CREATED:20251217T025239Z
LAST-MODIFIED:20251220T150443Z
UID:10012842-1877365800-1877365800@pottspointhotel.com.au
SUMMARY:PPH Weekly Meat Raffle!
DESCRIPTION:Every Thursday at Potts Point Hotel!  \n\n\n\n4 Meat trays up for grabs\, tickets on sale from 6:30pm & drawn at 8:30pm. \n\n\n\nJoker Poker Jackpot also drawn at 8:30pm with a rolling Jackpot\, see our socials for this weeks jackpot! Good Luck!
URL:https://pottspointhotel.com.au/events/pph-weekly-meat-raffle/2029-06-28/
LOCATION:Potts Point Hotel\, Ground\, Potts Point Hotel\, Potts Point\, NSW\, 2011\, Australia
CATEGORIES:Potts Point Hotel
ATTACH;FMTTYPE=image/png:https://pottspointhotel.com.au/storage/2025/12/Screenshot-2025-12-17-at-11.38.01-am.png
ORGANIZER;CN="Potts Point Hotel":MAILTO:info@pottspointhotel.com.au
END:VEVENT
BEGIN:VEVENT
DTSTART;TZID=Australia/Sydney:20290701T150000
DTEND;TZID=Australia/Sydney:20290701T180000
DTSTAMP:20260426T135402
CREATED:20221213T122438Z
LAST-MODIFIED:20240822T144353Z
UID:10012061-1877612400-1877623200@pottspointhotel.com.au
SUMMARY:Sunday Live Music
DESCRIPTION:Sundays from 3pm \n\n\n\nKick back and join us downstairs at Potts Point Hotel for live music\, with acoustic sounds every Sunday afternoon from 3pm. \n\n\n\nBook a table for dinner or pop down for light snacks from the bistro with a drink or two to finish off your week.
URL:https://pottspointhotel.com.au/events/sunday-live-music/2029-07-01/
LOCATION:Potts Point Hotel\, Ground\, Potts Point Hotel\, Potts Point\, NSW\, 2011\, Australia
CATEGORIES:Potts Point Hotel,Sundays
ATTACH;FMTTYPE=image/jpeg:https://pottspointhotel.com.au/storage/2022/12/Untitled-design-14-jpg.webp
ORGANIZER;CN="Potts Point Hotel":MAILTO:info@pottspointhotel.com.au
END:VEVENT
BEGIN:VEVENT
DTSTART;TZID=Australia/Sydney:20290705T183000
DTEND;TZID=Australia/Sydney:20290705T183000
DTSTAMP:20260426T135402
CREATED:20251217T025239Z
LAST-MODIFIED:20251220T150443Z
UID:10012843-1877970600-1877970600@pottspointhotel.com.au
SUMMARY:PPH Weekly Meat Raffle!
DESCRIPTION:Every Thursday at Potts Point Hotel!  \n\n\n\n4 Meat trays up for grabs\, tickets on sale from 6:30pm & drawn at 8:30pm. \n\n\n\nJoker Poker Jackpot also drawn at 8:30pm with a rolling Jackpot\, see our socials for this weeks jackpot! Good Luck!
URL:https://pottspointhotel.com.au/events/pph-weekly-meat-raffle/2029-07-05/
LOCATION:Potts Point Hotel\, Ground\, Potts Point Hotel\, Potts Point\, NSW\, 2011\, Australia
CATEGORIES:Potts Point Hotel
ATTACH;FMTTYPE=image/png:https://pottspointhotel.com.au/storage/2025/12/Screenshot-2025-12-17-at-11.38.01-am.png
ORGANIZER;CN="Potts Point Hotel":MAILTO:info@pottspointhotel.com.au
END:VEVENT
BEGIN:VEVENT
DTSTART;TZID=Australia/Sydney:20290708T150000
DTEND;TZID=Australia/Sydney:20290708T180000
DTSTAMP:20260426T135402
CREATED:20221213T122438Z
LAST-MODIFIED:20240822T144353Z
UID:10012062-1878217200-1878228000@pottspointhotel.com.au
SUMMARY:Sunday Live Music
DESCRIPTION:Sundays from 3pm \n\n\n\nKick back and join us downstairs at Potts Point Hotel for live music\, with acoustic sounds every Sunday afternoon from 3pm. \n\n\n\nBook a table for dinner or pop down for light snacks from the bistro with a drink or two to finish off your week.
URL:https://pottspointhotel.com.au/events/sunday-live-music/2029-07-08/
LOCATION:Potts Point Hotel\, Ground\, Potts Point Hotel\, Potts Point\, NSW\, 2011\, Australia
CATEGORIES:Potts Point Hotel,Sundays
ATTACH;FMTTYPE=image/jpeg:https://pottspointhotel.com.au/storage/2022/12/Untitled-design-14-jpg.webp
ORGANIZER;CN="Potts Point Hotel":MAILTO:info@pottspointhotel.com.au
END:VEVENT
BEGIN:VEVENT
DTSTART;TZID=Australia/Sydney:20290712T183000
DTEND;TZID=Australia/Sydney:20290712T183000
DTSTAMP:20260426T135402
CREATED:20251217T025239Z
LAST-MODIFIED:20251220T150443Z
UID:10012844-1878575400-1878575400@pottspointhotel.com.au
SUMMARY:PPH Weekly Meat Raffle!
DESCRIPTION:Every Thursday at Potts Point Hotel!  \n\n\n\n4 Meat trays up for grabs\, tickets on sale from 6:30pm & drawn at 8:30pm. \n\n\n\nJoker Poker Jackpot also drawn at 8:30pm with a rolling Jackpot\, see our socials for this weeks jackpot! Good Luck!
URL:https://pottspointhotel.com.au/events/pph-weekly-meat-raffle/2029-07-12/
LOCATION:Potts Point Hotel\, Ground\, Potts Point Hotel\, Potts Point\, NSW\, 2011\, Australia
CATEGORIES:Potts Point Hotel
ATTACH;FMTTYPE=image/png:https://pottspointhotel.com.au/storage/2025/12/Screenshot-2025-12-17-at-11.38.01-am.png
ORGANIZER;CN="Potts Point Hotel":MAILTO:info@pottspointhotel.com.au
END:VEVENT
BEGIN:VEVENT
DTSTART;TZID=Australia/Sydney:20290715T150000
DTEND;TZID=Australia/Sydney:20290715T180000
DTSTAMP:20260426T135402
CREATED:20221213T122438Z
LAST-MODIFIED:20240822T144353Z
UID:10012063-1878822000-1878832800@pottspointhotel.com.au
SUMMARY:Sunday Live Music
DESCRIPTION:Sundays from 3pm \n\n\n\nKick back and join us downstairs at Potts Point Hotel for live music\, with acoustic sounds every Sunday afternoon from 3pm. \n\n\n\nBook a table for dinner or pop down for light snacks from the bistro with a drink or two to finish off your week.
URL:https://pottspointhotel.com.au/events/sunday-live-music/2029-07-15/
LOCATION:Potts Point Hotel\, Ground\, Potts Point Hotel\, Potts Point\, NSW\, 2011\, Australia
CATEGORIES:Potts Point Hotel,Sundays
ATTACH;FMTTYPE=image/jpeg:https://pottspointhotel.com.au/storage/2022/12/Untitled-design-14-jpg.webp
ORGANIZER;CN="Potts Point Hotel":MAILTO:info@pottspointhotel.com.au
END:VEVENT
BEGIN:VEVENT
DTSTART;TZID=Australia/Sydney:20290719T183000
DTEND;TZID=Australia/Sydney:20290719T183000
DTSTAMP:20260426T135402
CREATED:20251217T025239Z
LAST-MODIFIED:20251220T150443Z
UID:10012845-1879180200-1879180200@pottspointhotel.com.au
SUMMARY:PPH Weekly Meat Raffle!
DESCRIPTION:Every Thursday at Potts Point Hotel!  \n\n\n\n4 Meat trays up for grabs\, tickets on sale from 6:30pm & drawn at 8:30pm. \n\n\n\nJoker Poker Jackpot also drawn at 8:30pm with a rolling Jackpot\, see our socials for this weeks jackpot! Good Luck!
URL:https://pottspointhotel.com.au/events/pph-weekly-meat-raffle/2029-07-19/
LOCATION:Potts Point Hotel\, Ground\, Potts Point Hotel\, Potts Point\, NSW\, 2011\, Australia
CATEGORIES:Potts Point Hotel
ATTACH;FMTTYPE=image/png:https://pottspointhotel.com.au/storage/2025/12/Screenshot-2025-12-17-at-11.38.01-am.png
ORGANIZER;CN="Potts Point Hotel":MAILTO:info@pottspointhotel.com.au
END:VEVENT
BEGIN:VEVENT
DTSTART;TZID=Australia/Sydney:20290722T150000
DTEND;TZID=Australia/Sydney:20290722T180000
DTSTAMP:20260426T135402
CREATED:20221213T122438Z
LAST-MODIFIED:20240822T144353Z
UID:10012064-1879426800-1879437600@pottspointhotel.com.au
SUMMARY:Sunday Live Music
DESCRIPTION:Sundays from 3pm \n\n\n\nKick back and join us downstairs at Potts Point Hotel for live music\, with acoustic sounds every Sunday afternoon from 3pm. \n\n\n\nBook a table for dinner or pop down for light snacks from the bistro with a drink or two to finish off your week.
URL:https://pottspointhotel.com.au/events/sunday-live-music/2029-07-22/
LOCATION:Potts Point Hotel\, Ground\, Potts Point Hotel\, Potts Point\, NSW\, 2011\, Australia
CATEGORIES:Potts Point Hotel,Sundays
ATTACH;FMTTYPE=image/jpeg:https://pottspointhotel.com.au/storage/2022/12/Untitled-design-14-jpg.webp
ORGANIZER;CN="Potts Point Hotel":MAILTO:info@pottspointhotel.com.au
END:VEVENT
BEGIN:VEVENT
DTSTART;TZID=Australia/Sydney:20290726T183000
DTEND;TZID=Australia/Sydney:20290726T183000
DTSTAMP:20260426T135402
CREATED:20251217T025239Z
LAST-MODIFIED:20251220T150443Z
UID:10012846-1879785000-1879785000@pottspointhotel.com.au
SUMMARY:PPH Weekly Meat Raffle!
DESCRIPTION:Every Thursday at Potts Point Hotel!  \n\n\n\n4 Meat trays up for grabs\, tickets on sale from 6:30pm & drawn at 8:30pm. \n\n\n\nJoker Poker Jackpot also drawn at 8:30pm with a rolling Jackpot\, see our socials for this weeks jackpot! Good Luck!
URL:https://pottspointhotel.com.au/events/pph-weekly-meat-raffle/2029-07-26/
LOCATION:Potts Point Hotel\, Ground\, Potts Point Hotel\, Potts Point\, NSW\, 2011\, Australia
CATEGORIES:Potts Point Hotel
ATTACH;FMTTYPE=image/png:https://pottspointhotel.com.au/storage/2025/12/Screenshot-2025-12-17-at-11.38.01-am.png
ORGANIZER;CN="Potts Point Hotel":MAILTO:info@pottspointhotel.com.au
END:VEVENT
BEGIN:VEVENT
DTSTART;TZID=Australia/Sydney:20290729T150000
DTEND;TZID=Australia/Sydney:20290729T180000
DTSTAMP:20260426T135402
CREATED:20221213T122438Z
LAST-MODIFIED:20240822T144353Z
UID:10012065-1880031600-1880042400@pottspointhotel.com.au
SUMMARY:Sunday Live Music
DESCRIPTION:Sundays from 3pm \n\n\n\nKick back and join us downstairs at Potts Point Hotel for live music\, with acoustic sounds every Sunday afternoon from 3pm. \n\n\n\nBook a table for dinner or pop down for light snacks from the bistro with a drink or two to finish off your week.
URL:https://pottspointhotel.com.au/events/sunday-live-music/2029-07-29/
LOCATION:Potts Point Hotel\, Ground\, Potts Point Hotel\, Potts Point\, NSW\, 2011\, Australia
CATEGORIES:Potts Point Hotel,Sundays
ATTACH;FMTTYPE=image/jpeg:https://pottspointhotel.com.au/storage/2022/12/Untitled-design-14-jpg.webp
ORGANIZER;CN="Potts Point Hotel":MAILTO:info@pottspointhotel.com.au
END:VEVENT
BEGIN:VEVENT
DTSTART;TZID=Australia/Sydney:20290802T183000
DTEND;TZID=Australia/Sydney:20290802T183000
DTSTAMP:20260426T135402
CREATED:20251217T025239Z
LAST-MODIFIED:20251220T150443Z
UID:10012847-1880389800-1880389800@pottspointhotel.com.au
SUMMARY:PPH Weekly Meat Raffle!
DESCRIPTION:Every Thursday at Potts Point Hotel!  \n\n\n\n4 Meat trays up for grabs\, tickets on sale from 6:30pm & drawn at 8:30pm. \n\n\n\nJoker Poker Jackpot also drawn at 8:30pm with a rolling Jackpot\, see our socials for this weeks jackpot! Good Luck!
URL:https://pottspointhotel.com.au/events/pph-weekly-meat-raffle/2029-08-02/
LOCATION:Potts Point Hotel\, Ground\, Potts Point Hotel\, Potts Point\, NSW\, 2011\, Australia
CATEGORIES:Potts Point Hotel
ATTACH;FMTTYPE=image/png:https://pottspointhotel.com.au/storage/2025/12/Screenshot-2025-12-17-at-11.38.01-am.png
ORGANIZER;CN="Potts Point Hotel":MAILTO:info@pottspointhotel.com.au
END:VEVENT
END:VCALENDAR