BEGIN:VCALENDAR
VERSION:2.0
PRODID:-//Potts Point Hotel - ECPv6.15.18//NONSGML v1.0//EN
CALSCALE:GREGORIAN
METHOD:PUBLISH
X-WR-CALNAME:Potts Point Hotel
X-ORIGINAL-URL:https://pottspointhotel.com.au
X-WR-CALDESC:Events for Potts Point Hotel
REFRESH-INTERVAL;VALUE=DURATION:PT1H
X-Robots-Tag:noindex
X-PUBLISHED-TTL:PT1H
BEGIN:VTIMEZONE
TZID:Australia/Sydney
BEGIN:STANDARD
TZOFFSETFROM:+1100
TZOFFSETTO:+1000
TZNAME:AEST
DTSTART:20250405T160000
END:STANDARD
BEGIN:DAYLIGHT
TZOFFSETFROM:+1000
TZOFFSETTO:+1100
TZNAME:AEDT
DTSTART:20251004T160000
END:DAYLIGHT
BEGIN:STANDARD
TZOFFSETFROM:+1100
TZOFFSETTO:+1000
TZNAME:AEST
DTSTART:20260404T160000
END:STANDARD
BEGIN:DAYLIGHT
TZOFFSETFROM:+1000
TZOFFSETTO:+1100
TZNAME:AEDT
DTSTART:20261003T160000
END:DAYLIGHT
BEGIN:STANDARD
TZOFFSETFROM:+1100
TZOFFSETTO:+1000
TZNAME:AEST
DTSTART:20270403T160000
END:STANDARD
BEGIN:DAYLIGHT
TZOFFSETFROM:+1000
TZOFFSETTO:+1100
TZNAME:AEDT
DTSTART:20271002T160000
END:DAYLIGHT
BEGIN:STANDARD
TZOFFSETFROM:+1100
TZOFFSETTO:+1000
TZNAME:AEST
DTSTART:20280401T160000
END:STANDARD
BEGIN:DAYLIGHT
TZOFFSETFROM:+1000
TZOFFSETTO:+1100
TZNAME:AEDT
DTSTART:20280930T160000
END:DAYLIGHT
END:VTIMEZONE
BEGIN:VEVENT
DTSTART;TZID=Australia/Sydney:20261008T183000
DTEND;TZID=Australia/Sydney:20261008T183000
DTSTAMP:20260425T080740
CREATED:20251217T025239Z
LAST-MODIFIED:20251220T150443Z
UID:10012700-1791484200-1791484200@pottspointhotel.com.au
SUMMARY:PPH Weekly Meat Raffle!
DESCRIPTION:Every Thursday at Potts Point Hotel!  \n\n\n\n4 Meat trays up for grabs\, tickets on sale from 6:30pm & drawn at 8:30pm. \n\n\n\nJoker Poker Jackpot also drawn at 8:30pm with a rolling Jackpot\, see our socials for this weeks jackpot! Good Luck!
URL:https://pottspointhotel.com.au/events/pph-weekly-meat-raffle/2026-10-08/
LOCATION:Potts Point Hotel\, Ground\, Potts Point Hotel\, Potts Point\, NSW\, 2011\, Australia
CATEGORIES:Potts Point Hotel
ATTACH;FMTTYPE=image/png:https://pottspointhotel.com.au/storage/2025/12/Screenshot-2025-12-17-at-11.38.01-am.png
ORGANIZER;CN="Potts Point Hotel":MAILTO:info@pottspointhotel.com.au
END:VEVENT
BEGIN:VEVENT
DTSTART;TZID=Australia/Sydney:20261011T150000
DTEND;TZID=Australia/Sydney:20261011T180000
DTSTAMP:20260425T080740
CREATED:20221213T122438Z
LAST-MODIFIED:20240822T144353Z
UID:10004278-1791730800-1791741600@pottspointhotel.com.au
SUMMARY:Sunday Live Music
DESCRIPTION:Sundays from 3pm \n\n\n\nKick back and join us downstairs at Potts Point Hotel for live music\, with acoustic sounds every Sunday afternoon from 3pm. \n\n\n\nBook a table for dinner or pop down for light snacks from the bistro with a drink or two to finish off your week.
URL:https://pottspointhotel.com.au/events/sunday-live-music/2026-10-11/
LOCATION:Potts Point Hotel\, Ground\, Potts Point Hotel\, Potts Point\, NSW\, 2011\, Australia
CATEGORIES:Potts Point Hotel,Sundays
ATTACH;FMTTYPE=image/jpeg:https://pottspointhotel.com.au/storage/2022/12/Untitled-design-14-jpg.webp
ORGANIZER;CN="Potts Point Hotel":MAILTO:info@pottspointhotel.com.au
END:VEVENT
BEGIN:VEVENT
DTSTART;TZID=Australia/Sydney:20261015T183000
DTEND;TZID=Australia/Sydney:20261015T183000
DTSTAMP:20260425T080740
CREATED:20251217T025239Z
LAST-MODIFIED:20251220T150443Z
UID:10012701-1792089000-1792089000@pottspointhotel.com.au
SUMMARY:PPH Weekly Meat Raffle!
DESCRIPTION:Every Thursday at Potts Point Hotel!  \n\n\n\n4 Meat trays up for grabs\, tickets on sale from 6:30pm & drawn at 8:30pm. \n\n\n\nJoker Poker Jackpot also drawn at 8:30pm with a rolling Jackpot\, see our socials for this weeks jackpot! Good Luck!
URL:https://pottspointhotel.com.au/events/pph-weekly-meat-raffle/2026-10-15/
LOCATION:Potts Point Hotel\, Ground\, Potts Point Hotel\, Potts Point\, NSW\, 2011\, Australia
CATEGORIES:Potts Point Hotel
ATTACH;FMTTYPE=image/png:https://pottspointhotel.com.au/storage/2025/12/Screenshot-2025-12-17-at-11.38.01-am.png
ORGANIZER;CN="Potts Point Hotel":MAILTO:info@pottspointhotel.com.au
END:VEVENT
BEGIN:VEVENT
DTSTART;TZID=Australia/Sydney:20261018T150000
DTEND;TZID=Australia/Sydney:20261018T180000
DTSTAMP:20260425T080740
CREATED:20221213T122438Z
LAST-MODIFIED:20240822T144353Z
UID:10004279-1792335600-1792346400@pottspointhotel.com.au
SUMMARY:Sunday Live Music
DESCRIPTION:Sundays from 3pm \n\n\n\nKick back and join us downstairs at Potts Point Hotel for live music\, with acoustic sounds every Sunday afternoon from 3pm. \n\n\n\nBook a table for dinner or pop down for light snacks from the bistro with a drink or two to finish off your week.
URL:https://pottspointhotel.com.au/events/sunday-live-music/2026-10-18/
LOCATION:Potts Point Hotel\, Ground\, Potts Point Hotel\, Potts Point\, NSW\, 2011\, Australia
CATEGORIES:Potts Point Hotel,Sundays
ATTACH;FMTTYPE=image/jpeg:https://pottspointhotel.com.au/storage/2022/12/Untitled-design-14-jpg.webp
ORGANIZER;CN="Potts Point Hotel":MAILTO:info@pottspointhotel.com.au
END:VEVENT
BEGIN:VEVENT
DTSTART;TZID=Australia/Sydney:20261022T183000
DTEND;TZID=Australia/Sydney:20261022T183000
DTSTAMP:20260425T080740
CREATED:20251217T025239Z
LAST-MODIFIED:20251220T150443Z
UID:10012702-1792693800-1792693800@pottspointhotel.com.au
SUMMARY:PPH Weekly Meat Raffle!
DESCRIPTION:Every Thursday at Potts Point Hotel!  \n\n\n\n4 Meat trays up for grabs\, tickets on sale from 6:30pm & drawn at 8:30pm. \n\n\n\nJoker Poker Jackpot also drawn at 8:30pm with a rolling Jackpot\, see our socials for this weeks jackpot! Good Luck!
URL:https://pottspointhotel.com.au/events/pph-weekly-meat-raffle/2026-10-22/
LOCATION:Potts Point Hotel\, Ground\, Potts Point Hotel\, Potts Point\, NSW\, 2011\, Australia
CATEGORIES:Potts Point Hotel
ATTACH;FMTTYPE=image/png:https://pottspointhotel.com.au/storage/2025/12/Screenshot-2025-12-17-at-11.38.01-am.png
ORGANIZER;CN="Potts Point Hotel":MAILTO:info@pottspointhotel.com.au
END:VEVENT
BEGIN:VEVENT
DTSTART;TZID=Australia/Sydney:20261025T150000
DTEND;TZID=Australia/Sydney:20261025T180000
DTSTAMP:20260425T080740
CREATED:20221213T122438Z
LAST-MODIFIED:20240822T144353Z
UID:10004280-1792940400-1792951200@pottspointhotel.com.au
SUMMARY:Sunday Live Music
DESCRIPTION:Sundays from 3pm \n\n\n\nKick back and join us downstairs at Potts Point Hotel for live music\, with acoustic sounds every Sunday afternoon from 3pm. \n\n\n\nBook a table for dinner or pop down for light snacks from the bistro with a drink or two to finish off your week.
URL:https://pottspointhotel.com.au/events/sunday-live-music/2026-10-25/
LOCATION:Potts Point Hotel\, Ground\, Potts Point Hotel\, Potts Point\, NSW\, 2011\, Australia
CATEGORIES:Potts Point Hotel,Sundays
ATTACH;FMTTYPE=image/jpeg:https://pottspointhotel.com.au/storage/2022/12/Untitled-design-14-jpg.webp
ORGANIZER;CN="Potts Point Hotel":MAILTO:info@pottspointhotel.com.au
END:VEVENT
BEGIN:VEVENT
DTSTART;TZID=Australia/Sydney:20261029T183000
DTEND;TZID=Australia/Sydney:20261029T183000
DTSTAMP:20260425T080740
CREATED:20251217T025239Z
LAST-MODIFIED:20251220T150443Z
UID:10012703-1793298600-1793298600@pottspointhotel.com.au
SUMMARY:PPH Weekly Meat Raffle!
DESCRIPTION:Every Thursday at Potts Point Hotel!  \n\n\n\n4 Meat trays up for grabs\, tickets on sale from 6:30pm & drawn at 8:30pm. \n\n\n\nJoker Poker Jackpot also drawn at 8:30pm with a rolling Jackpot\, see our socials for this weeks jackpot! Good Luck!
URL:https://pottspointhotel.com.au/events/pph-weekly-meat-raffle/2026-10-29/
LOCATION:Potts Point Hotel\, Ground\, Potts Point Hotel\, Potts Point\, NSW\, 2011\, Australia
CATEGORIES:Potts Point Hotel
ATTACH;FMTTYPE=image/png:https://pottspointhotel.com.au/storage/2025/12/Screenshot-2025-12-17-at-11.38.01-am.png
ORGANIZER;CN="Potts Point Hotel":MAILTO:info@pottspointhotel.com.au
END:VEVENT
BEGIN:VEVENT
DTSTART;TZID=Australia/Sydney:20261101T150000
DTEND;TZID=Australia/Sydney:20261101T180000
DTSTAMP:20260425T080740
CREATED:20221213T122438Z
LAST-MODIFIED:20240822T144353Z
UID:10004281-1793545200-1793556000@pottspointhotel.com.au
SUMMARY:Sunday Live Music
DESCRIPTION:Sundays from 3pm \n\n\n\nKick back and join us downstairs at Potts Point Hotel for live music\, with acoustic sounds every Sunday afternoon from 3pm. \n\n\n\nBook a table for dinner or pop down for light snacks from the bistro with a drink or two to finish off your week.
URL:https://pottspointhotel.com.au/events/sunday-live-music/2026-11-01/
LOCATION:Potts Point Hotel\, Ground\, Potts Point Hotel\, Potts Point\, NSW\, 2011\, Australia
CATEGORIES:Potts Point Hotel,Sundays
ATTACH;FMTTYPE=image/jpeg:https://pottspointhotel.com.au/storage/2022/12/Untitled-design-14-jpg.webp
ORGANIZER;CN="Potts Point Hotel":MAILTO:info@pottspointhotel.com.au
END:VEVENT
BEGIN:VEVENT
DTSTART;TZID=Australia/Sydney:20261105T183000
DTEND;TZID=Australia/Sydney:20261105T183000
DTSTAMP:20260425T080740
CREATED:20251217T025239Z
LAST-MODIFIED:20251220T150443Z
UID:10012704-1793903400-1793903400@pottspointhotel.com.au
SUMMARY:PPH Weekly Meat Raffle!
DESCRIPTION:Every Thursday at Potts Point Hotel!  \n\n\n\n4 Meat trays up for grabs\, tickets on sale from 6:30pm & drawn at 8:30pm. \n\n\n\nJoker Poker Jackpot also drawn at 8:30pm with a rolling Jackpot\, see our socials for this weeks jackpot! Good Luck!
URL:https://pottspointhotel.com.au/events/pph-weekly-meat-raffle/2026-11-05/
LOCATION:Potts Point Hotel\, Ground\, Potts Point Hotel\, Potts Point\, NSW\, 2011\, Australia
CATEGORIES:Potts Point Hotel
ATTACH;FMTTYPE=image/png:https://pottspointhotel.com.au/storage/2025/12/Screenshot-2025-12-17-at-11.38.01-am.png
ORGANIZER;CN="Potts Point Hotel":MAILTO:info@pottspointhotel.com.au
END:VEVENT
BEGIN:VEVENT
DTSTART;TZID=Australia/Sydney:20261108T150000
DTEND;TZID=Australia/Sydney:20261108T180000
DTSTAMP:20260425T080740
CREATED:20221213T122438Z
LAST-MODIFIED:20240822T144353Z
UID:10004282-1794150000-1794160800@pottspointhotel.com.au
SUMMARY:Sunday Live Music
DESCRIPTION:Sundays from 3pm \n\n\n\nKick back and join us downstairs at Potts Point Hotel for live music\, with acoustic sounds every Sunday afternoon from 3pm. \n\n\n\nBook a table for dinner or pop down for light snacks from the bistro with a drink or two to finish off your week.
URL:https://pottspointhotel.com.au/events/sunday-live-music/2026-11-08/
LOCATION:Potts Point Hotel\, Ground\, Potts Point Hotel\, Potts Point\, NSW\, 2011\, Australia
CATEGORIES:Potts Point Hotel,Sundays
ATTACH;FMTTYPE=image/jpeg:https://pottspointhotel.com.au/storage/2022/12/Untitled-design-14-jpg.webp
ORGANIZER;CN="Potts Point Hotel":MAILTO:info@pottspointhotel.com.au
END:VEVENT
BEGIN:VEVENT
DTSTART;TZID=Australia/Sydney:20261112T183000
DTEND;TZID=Australia/Sydney:20261112T183000
DTSTAMP:20260425T080740
CREATED:20251217T025239Z
LAST-MODIFIED:20251220T150443Z
UID:10012705-1794508200-1794508200@pottspointhotel.com.au
SUMMARY:PPH Weekly Meat Raffle!
DESCRIPTION:Every Thursday at Potts Point Hotel!  \n\n\n\n4 Meat trays up for grabs\, tickets on sale from 6:30pm & drawn at 8:30pm. \n\n\n\nJoker Poker Jackpot also drawn at 8:30pm with a rolling Jackpot\, see our socials for this weeks jackpot! Good Luck!
URL:https://pottspointhotel.com.au/events/pph-weekly-meat-raffle/2026-11-12/
LOCATION:Potts Point Hotel\, Ground\, Potts Point Hotel\, Potts Point\, NSW\, 2011\, Australia
CATEGORIES:Potts Point Hotel
ATTACH;FMTTYPE=image/png:https://pottspointhotel.com.au/storage/2025/12/Screenshot-2025-12-17-at-11.38.01-am.png
ORGANIZER;CN="Potts Point Hotel":MAILTO:info@pottspointhotel.com.au
END:VEVENT
BEGIN:VEVENT
DTSTART;TZID=Australia/Sydney:20261115T150000
DTEND;TZID=Australia/Sydney:20261115T180000
DTSTAMP:20260425T080740
CREATED:20221213T122438Z
LAST-MODIFIED:20240822T144353Z
UID:10004283-1794754800-1794765600@pottspointhotel.com.au
SUMMARY:Sunday Live Music
DESCRIPTION:Sundays from 3pm \n\n\n\nKick back and join us downstairs at Potts Point Hotel for live music\, with acoustic sounds every Sunday afternoon from 3pm. \n\n\n\nBook a table for dinner or pop down for light snacks from the bistro with a drink or two to finish off your week.
URL:https://pottspointhotel.com.au/events/sunday-live-music/2026-11-15/
LOCATION:Potts Point Hotel\, Ground\, Potts Point Hotel\, Potts Point\, NSW\, 2011\, Australia
CATEGORIES:Potts Point Hotel,Sundays
ATTACH;FMTTYPE=image/jpeg:https://pottspointhotel.com.au/storage/2022/12/Untitled-design-14-jpg.webp
ORGANIZER;CN="Potts Point Hotel":MAILTO:info@pottspointhotel.com.au
END:VEVENT
BEGIN:VEVENT
DTSTART;TZID=Australia/Sydney:20261119T183000
DTEND;TZID=Australia/Sydney:20261119T183000
DTSTAMP:20260425T080740
CREATED:20251217T025239Z
LAST-MODIFIED:20251220T150443Z
UID:10012706-1795113000-1795113000@pottspointhotel.com.au
SUMMARY:PPH Weekly Meat Raffle!
DESCRIPTION:Every Thursday at Potts Point Hotel!  \n\n\n\n4 Meat trays up for grabs\, tickets on sale from 6:30pm & drawn at 8:30pm. \n\n\n\nJoker Poker Jackpot also drawn at 8:30pm with a rolling Jackpot\, see our socials for this weeks jackpot! Good Luck!
URL:https://pottspointhotel.com.au/events/pph-weekly-meat-raffle/2026-11-19/
LOCATION:Potts Point Hotel\, Ground\, Potts Point Hotel\, Potts Point\, NSW\, 2011\, Australia
CATEGORIES:Potts Point Hotel
ATTACH;FMTTYPE=image/png:https://pottspointhotel.com.au/storage/2025/12/Screenshot-2025-12-17-at-11.38.01-am.png
ORGANIZER;CN="Potts Point Hotel":MAILTO:info@pottspointhotel.com.au
END:VEVENT
BEGIN:VEVENT
DTSTART;TZID=Australia/Sydney:20261122T150000
DTEND;TZID=Australia/Sydney:20261122T180000
DTSTAMP:20260425T080740
CREATED:20221213T122438Z
LAST-MODIFIED:20240822T144353Z
UID:10004284-1795359600-1795370400@pottspointhotel.com.au
SUMMARY:Sunday Live Music
DESCRIPTION:Sundays from 3pm \n\n\n\nKick back and join us downstairs at Potts Point Hotel for live music\, with acoustic sounds every Sunday afternoon from 3pm. \n\n\n\nBook a table for dinner or pop down for light snacks from the bistro with a drink or two to finish off your week.
URL:https://pottspointhotel.com.au/events/sunday-live-music/2026-11-22/
LOCATION:Potts Point Hotel\, Ground\, Potts Point Hotel\, Potts Point\, NSW\, 2011\, Australia
CATEGORIES:Potts Point Hotel,Sundays
ATTACH;FMTTYPE=image/jpeg:https://pottspointhotel.com.au/storage/2022/12/Untitled-design-14-jpg.webp
ORGANIZER;CN="Potts Point Hotel":MAILTO:info@pottspointhotel.com.au
END:VEVENT
BEGIN:VEVENT
DTSTART;TZID=Australia/Sydney:20261126T183000
DTEND;TZID=Australia/Sydney:20261126T183000
DTSTAMP:20260425T080740
CREATED:20251217T025239Z
LAST-MODIFIED:20251220T150443Z
UID:10012707-1795717800-1795717800@pottspointhotel.com.au
SUMMARY:PPH Weekly Meat Raffle!
DESCRIPTION:Every Thursday at Potts Point Hotel!  \n\n\n\n4 Meat trays up for grabs\, tickets on sale from 6:30pm & drawn at 8:30pm. \n\n\n\nJoker Poker Jackpot also drawn at 8:30pm with a rolling Jackpot\, see our socials for this weeks jackpot! Good Luck!
URL:https://pottspointhotel.com.au/events/pph-weekly-meat-raffle/2026-11-26/
LOCATION:Potts Point Hotel\, Ground\, Potts Point Hotel\, Potts Point\, NSW\, 2011\, Australia
CATEGORIES:Potts Point Hotel
ATTACH;FMTTYPE=image/png:https://pottspointhotel.com.au/storage/2025/12/Screenshot-2025-12-17-at-11.38.01-am.png
ORGANIZER;CN="Potts Point Hotel":MAILTO:info@pottspointhotel.com.au
END:VEVENT
BEGIN:VEVENT
DTSTART;TZID=Australia/Sydney:20261129T150000
DTEND;TZID=Australia/Sydney:20261129T180000
DTSTAMP:20260425T080740
CREATED:20221213T122438Z
LAST-MODIFIED:20240822T144353Z
UID:10004285-1795964400-1795975200@pottspointhotel.com.au
SUMMARY:Sunday Live Music
DESCRIPTION:Sundays from 3pm \n\n\n\nKick back and join us downstairs at Potts Point Hotel for live music\, with acoustic sounds every Sunday afternoon from 3pm. \n\n\n\nBook a table for dinner or pop down for light snacks from the bistro with a drink or two to finish off your week.
URL:https://pottspointhotel.com.au/events/sunday-live-music/2026-11-29/
LOCATION:Potts Point Hotel\, Ground\, Potts Point Hotel\, Potts Point\, NSW\, 2011\, Australia
CATEGORIES:Potts Point Hotel,Sundays
ATTACH;FMTTYPE=image/jpeg:https://pottspointhotel.com.au/storage/2022/12/Untitled-design-14-jpg.webp
ORGANIZER;CN="Potts Point Hotel":MAILTO:info@pottspointhotel.com.au
END:VEVENT
BEGIN:VEVENT
DTSTART;TZID=Australia/Sydney:20261203T183000
DTEND;TZID=Australia/Sydney:20261203T183000
DTSTAMP:20260425T080740
CREATED:20251217T025239Z
LAST-MODIFIED:20251220T150443Z
UID:10012708-1796322600-1796322600@pottspointhotel.com.au
SUMMARY:PPH Weekly Meat Raffle!
DESCRIPTION:Every Thursday at Potts Point Hotel!  \n\n\n\n4 Meat trays up for grabs\, tickets on sale from 6:30pm & drawn at 8:30pm. \n\n\n\nJoker Poker Jackpot also drawn at 8:30pm with a rolling Jackpot\, see our socials for this weeks jackpot! Good Luck!
URL:https://pottspointhotel.com.au/events/pph-weekly-meat-raffle/2026-12-03/
LOCATION:Potts Point Hotel\, Ground\, Potts Point Hotel\, Potts Point\, NSW\, 2011\, Australia
CATEGORIES:Potts Point Hotel
ATTACH;FMTTYPE=image/png:https://pottspointhotel.com.au/storage/2025/12/Screenshot-2025-12-17-at-11.38.01-am.png
ORGANIZER;CN="Potts Point Hotel":MAILTO:info@pottspointhotel.com.au
END:VEVENT
BEGIN:VEVENT
DTSTART;TZID=Australia/Sydney:20261206T150000
DTEND;TZID=Australia/Sydney:20261206T180000
DTSTAMP:20260425T080740
CREATED:20221213T122438Z
LAST-MODIFIED:20240822T144353Z
UID:10004286-1796569200-1796580000@pottspointhotel.com.au
SUMMARY:Sunday Live Music
DESCRIPTION:Sundays from 3pm \n\n\n\nKick back and join us downstairs at Potts Point Hotel for live music\, with acoustic sounds every Sunday afternoon from 3pm. \n\n\n\nBook a table for dinner or pop down for light snacks from the bistro with a drink or two to finish off your week.
URL:https://pottspointhotel.com.au/events/sunday-live-music/2026-12-06/
LOCATION:Potts Point Hotel\, Ground\, Potts Point Hotel\, Potts Point\, NSW\, 2011\, Australia
CATEGORIES:Potts Point Hotel,Sundays
ATTACH;FMTTYPE=image/jpeg:https://pottspointhotel.com.au/storage/2022/12/Untitled-design-14-jpg.webp
ORGANIZER;CN="Potts Point Hotel":MAILTO:info@pottspointhotel.com.au
END:VEVENT
BEGIN:VEVENT
DTSTART;TZID=Australia/Sydney:20261210T183000
DTEND;TZID=Australia/Sydney:20261210T183000
DTSTAMP:20260425T080740
CREATED:20251217T025239Z
LAST-MODIFIED:20251220T150443Z
UID:10012709-1796927400-1796927400@pottspointhotel.com.au
SUMMARY:PPH Weekly Meat Raffle!
DESCRIPTION:Every Thursday at Potts Point Hotel!  \n\n\n\n4 Meat trays up for grabs\, tickets on sale from 6:30pm & drawn at 8:30pm. \n\n\n\nJoker Poker Jackpot also drawn at 8:30pm with a rolling Jackpot\, see our socials for this weeks jackpot! Good Luck!
URL:https://pottspointhotel.com.au/events/pph-weekly-meat-raffle/2026-12-10/
LOCATION:Potts Point Hotel\, Ground\, Potts Point Hotel\, Potts Point\, NSW\, 2011\, Australia
CATEGORIES:Potts Point Hotel
ATTACH;FMTTYPE=image/png:https://pottspointhotel.com.au/storage/2025/12/Screenshot-2025-12-17-at-11.38.01-am.png
ORGANIZER;CN="Potts Point Hotel":MAILTO:info@pottspointhotel.com.au
END:VEVENT
BEGIN:VEVENT
DTSTART;TZID=Australia/Sydney:20261213T150000
DTEND;TZID=Australia/Sydney:20261213T180000
DTSTAMP:20260425T080740
CREATED:20221213T122438Z
LAST-MODIFIED:20240822T144353Z
UID:10004287-1797174000-1797184800@pottspointhotel.com.au
SUMMARY:Sunday Live Music
DESCRIPTION:Sundays from 3pm \n\n\n\nKick back and join us downstairs at Potts Point Hotel for live music\, with acoustic sounds every Sunday afternoon from 3pm. \n\n\n\nBook a table for dinner or pop down for light snacks from the bistro with a drink or two to finish off your week.
URL:https://pottspointhotel.com.au/events/sunday-live-music/2026-12-13/
LOCATION:Potts Point Hotel\, Ground\, Potts Point Hotel\, Potts Point\, NSW\, 2011\, Australia
CATEGORIES:Potts Point Hotel,Sundays
ATTACH;FMTTYPE=image/jpeg:https://pottspointhotel.com.au/storage/2022/12/Untitled-design-14-jpg.webp
ORGANIZER;CN="Potts Point Hotel":MAILTO:info@pottspointhotel.com.au
END:VEVENT
BEGIN:VEVENT
DTSTART;TZID=Australia/Sydney:20261217T183000
DTEND;TZID=Australia/Sydney:20261217T183000
DTSTAMP:20260425T080740
CREATED:20251217T025239Z
LAST-MODIFIED:20251220T150443Z
UID:10012710-1797532200-1797532200@pottspointhotel.com.au
SUMMARY:PPH Weekly Meat Raffle!
DESCRIPTION:Every Thursday at Potts Point Hotel!  \n\n\n\n4 Meat trays up for grabs\, tickets on sale from 6:30pm & drawn at 8:30pm. \n\n\n\nJoker Poker Jackpot also drawn at 8:30pm with a rolling Jackpot\, see our socials for this weeks jackpot! Good Luck!
URL:https://pottspointhotel.com.au/events/pph-weekly-meat-raffle/2026-12-17/
LOCATION:Potts Point Hotel\, Ground\, Potts Point Hotel\, Potts Point\, NSW\, 2011\, Australia
CATEGORIES:Potts Point Hotel
ATTACH;FMTTYPE=image/png:https://pottspointhotel.com.au/storage/2025/12/Screenshot-2025-12-17-at-11.38.01-am.png
ORGANIZER;CN="Potts Point Hotel":MAILTO:info@pottspointhotel.com.au
END:VEVENT
BEGIN:VEVENT
DTSTART;TZID=Australia/Sydney:20261220T150000
DTEND;TZID=Australia/Sydney:20261220T180000
DTSTAMP:20260425T080740
CREATED:20221213T122438Z
LAST-MODIFIED:20240822T144353Z
UID:10004288-1797778800-1797789600@pottspointhotel.com.au
SUMMARY:Sunday Live Music
DESCRIPTION:Sundays from 3pm \n\n\n\nKick back and join us downstairs at Potts Point Hotel for live music\, with acoustic sounds every Sunday afternoon from 3pm. \n\n\n\nBook a table for dinner or pop down for light snacks from the bistro with a drink or two to finish off your week.
URL:https://pottspointhotel.com.au/events/sunday-live-music/2026-12-20/
LOCATION:Potts Point Hotel\, Ground\, Potts Point Hotel\, Potts Point\, NSW\, 2011\, Australia
CATEGORIES:Potts Point Hotel,Sundays
ATTACH;FMTTYPE=image/jpeg:https://pottspointhotel.com.au/storage/2022/12/Untitled-design-14-jpg.webp
ORGANIZER;CN="Potts Point Hotel":MAILTO:info@pottspointhotel.com.au
END:VEVENT
BEGIN:VEVENT
DTSTART;TZID=Australia/Sydney:20261224T183000
DTEND;TZID=Australia/Sydney:20261224T183000
DTSTAMP:20260425T080740
CREATED:20251217T025239Z
LAST-MODIFIED:20251220T150443Z
UID:10012711-1798137000-1798137000@pottspointhotel.com.au
SUMMARY:PPH Weekly Meat Raffle!
DESCRIPTION:Every Thursday at Potts Point Hotel!  \n\n\n\n4 Meat trays up for grabs\, tickets on sale from 6:30pm & drawn at 8:30pm. \n\n\n\nJoker Poker Jackpot also drawn at 8:30pm with a rolling Jackpot\, see our socials for this weeks jackpot! Good Luck!
URL:https://pottspointhotel.com.au/events/pph-weekly-meat-raffle/2026-12-24/
LOCATION:Potts Point Hotel\, Ground\, Potts Point Hotel\, Potts Point\, NSW\, 2011\, Australia
CATEGORIES:Potts Point Hotel
ATTACH;FMTTYPE=image/png:https://pottspointhotel.com.au/storage/2025/12/Screenshot-2025-12-17-at-11.38.01-am.png
ORGANIZER;CN="Potts Point Hotel":MAILTO:info@pottspointhotel.com.au
END:VEVENT
BEGIN:VEVENT
DTSTART;TZID=Australia/Sydney:20261227T150000
DTEND;TZID=Australia/Sydney:20261227T180000
DTSTAMP:20260425T080740
CREATED:20221213T122438Z
LAST-MODIFIED:20240822T144353Z
UID:10004289-1798383600-1798394400@pottspointhotel.com.au
SUMMARY:Sunday Live Music
DESCRIPTION:Sundays from 3pm \n\n\n\nKick back and join us downstairs at Potts Point Hotel for live music\, with acoustic sounds every Sunday afternoon from 3pm. \n\n\n\nBook a table for dinner or pop down for light snacks from the bistro with a drink or two to finish off your week.
URL:https://pottspointhotel.com.au/events/sunday-live-music/2026-12-27/
LOCATION:Potts Point Hotel\, Ground\, Potts Point Hotel\, Potts Point\, NSW\, 2011\, Australia
CATEGORIES:Potts Point Hotel,Sundays
ATTACH;FMTTYPE=image/jpeg:https://pottspointhotel.com.au/storage/2022/12/Untitled-design-14-jpg.webp
ORGANIZER;CN="Potts Point Hotel":MAILTO:info@pottspointhotel.com.au
END:VEVENT
BEGIN:VEVENT
DTSTART;TZID=Australia/Sydney:20261231T183000
DTEND;TZID=Australia/Sydney:20261231T183000
DTSTAMP:20260425T080740
CREATED:20251217T025239Z
LAST-MODIFIED:20251220T150443Z
UID:10012712-1798741800-1798741800@pottspointhotel.com.au
SUMMARY:PPH Weekly Meat Raffle!
DESCRIPTION:Every Thursday at Potts Point Hotel!  \n\n\n\n4 Meat trays up for grabs\, tickets on sale from 6:30pm & drawn at 8:30pm. \n\n\n\nJoker Poker Jackpot also drawn at 8:30pm with a rolling Jackpot\, see our socials for this weeks jackpot! Good Luck!
URL:https://pottspointhotel.com.au/events/pph-weekly-meat-raffle/2026-12-31/
LOCATION:Potts Point Hotel\, Ground\, Potts Point Hotel\, Potts Point\, NSW\, 2011\, Australia
CATEGORIES:Potts Point Hotel
ATTACH;FMTTYPE=image/png:https://pottspointhotel.com.au/storage/2025/12/Screenshot-2025-12-17-at-11.38.01-am.png
ORGANIZER;CN="Potts Point Hotel":MAILTO:info@pottspointhotel.com.au
END:VEVENT
BEGIN:VEVENT
DTSTART;TZID=Australia/Sydney:20270103T150000
DTEND;TZID=Australia/Sydney:20270103T180000
DTSTAMP:20260425T080740
CREATED:20221213T122438Z
LAST-MODIFIED:20240822T144353Z
UID:10004290-1798988400-1798999200@pottspointhotel.com.au
SUMMARY:Sunday Live Music
DESCRIPTION:Sundays from 3pm \n\n\n\nKick back and join us downstairs at Potts Point Hotel for live music\, with acoustic sounds every Sunday afternoon from 3pm. \n\n\n\nBook a table for dinner or pop down for light snacks from the bistro with a drink or two to finish off your week.
URL:https://pottspointhotel.com.au/events/sunday-live-music/2027-01-03/
LOCATION:Potts Point Hotel\, Ground\, Potts Point Hotel\, Potts Point\, NSW\, 2011\, Australia
CATEGORIES:Potts Point Hotel,Sundays
ATTACH;FMTTYPE=image/jpeg:https://pottspointhotel.com.au/storage/2022/12/Untitled-design-14-jpg.webp
ORGANIZER;CN="Potts Point Hotel":MAILTO:info@pottspointhotel.com.au
END:VEVENT
BEGIN:VEVENT
DTSTART;TZID=Australia/Sydney:20270107T183000
DTEND;TZID=Australia/Sydney:20270107T183000
DTSTAMP:20260425T080740
CREATED:20251217T025239Z
LAST-MODIFIED:20251220T150443Z
UID:10012713-1799346600-1799346600@pottspointhotel.com.au
SUMMARY:PPH Weekly Meat Raffle!
DESCRIPTION:Every Thursday at Potts Point Hotel!  \n\n\n\n4 Meat trays up for grabs\, tickets on sale from 6:30pm & drawn at 8:30pm. \n\n\n\nJoker Poker Jackpot also drawn at 8:30pm with a rolling Jackpot\, see our socials for this weeks jackpot! Good Luck!
URL:https://pottspointhotel.com.au/events/pph-weekly-meat-raffle/2027-01-07/
LOCATION:Potts Point Hotel\, Ground\, Potts Point Hotel\, Potts Point\, NSW\, 2011\, Australia
CATEGORIES:Potts Point Hotel
ATTACH;FMTTYPE=image/png:https://pottspointhotel.com.au/storage/2025/12/Screenshot-2025-12-17-at-11.38.01-am.png
ORGANIZER;CN="Potts Point Hotel":MAILTO:info@pottspointhotel.com.au
END:VEVENT
BEGIN:VEVENT
DTSTART;TZID=Australia/Sydney:20270110T150000
DTEND;TZID=Australia/Sydney:20270110T180000
DTSTAMP:20260425T080740
CREATED:20221213T122438Z
LAST-MODIFIED:20240822T144353Z
UID:10004291-1799593200-1799604000@pottspointhotel.com.au
SUMMARY:Sunday Live Music
DESCRIPTION:Sundays from 3pm \n\n\n\nKick back and join us downstairs at Potts Point Hotel for live music\, with acoustic sounds every Sunday afternoon from 3pm. \n\n\n\nBook a table for dinner or pop down for light snacks from the bistro with a drink or two to finish off your week.
URL:https://pottspointhotel.com.au/events/sunday-live-music/2027-01-10/
LOCATION:Potts Point Hotel\, Ground\, Potts Point Hotel\, Potts Point\, NSW\, 2011\, Australia
CATEGORIES:Potts Point Hotel,Sundays
ATTACH;FMTTYPE=image/jpeg:https://pottspointhotel.com.au/storage/2022/12/Untitled-design-14-jpg.webp
ORGANIZER;CN="Potts Point Hotel":MAILTO:info@pottspointhotel.com.au
END:VEVENT
BEGIN:VEVENT
DTSTART;TZID=Australia/Sydney:20270114T183000
DTEND;TZID=Australia/Sydney:20270114T183000
DTSTAMP:20260425T080740
CREATED:20251217T025239Z
LAST-MODIFIED:20251220T150443Z
UID:10012714-1799951400-1799951400@pottspointhotel.com.au
SUMMARY:PPH Weekly Meat Raffle!
DESCRIPTION:Every Thursday at Potts Point Hotel!  \n\n\n\n4 Meat trays up for grabs\, tickets on sale from 6:30pm & drawn at 8:30pm. \n\n\n\nJoker Poker Jackpot also drawn at 8:30pm with a rolling Jackpot\, see our socials for this weeks jackpot! Good Luck!
URL:https://pottspointhotel.com.au/events/pph-weekly-meat-raffle/2027-01-14/
LOCATION:Potts Point Hotel\, Ground\, Potts Point Hotel\, Potts Point\, NSW\, 2011\, Australia
CATEGORIES:Potts Point Hotel
ATTACH;FMTTYPE=image/png:https://pottspointhotel.com.au/storage/2025/12/Screenshot-2025-12-17-at-11.38.01-am.png
ORGANIZER;CN="Potts Point Hotel":MAILTO:info@pottspointhotel.com.au
END:VEVENT
BEGIN:VEVENT
DTSTART;TZID=Australia/Sydney:20270117T150000
DTEND;TZID=Australia/Sydney:20270117T180000
DTSTAMP:20260425T080740
CREATED:20221213T122438Z
LAST-MODIFIED:20240822T144353Z
UID:10004292-1800198000-1800208800@pottspointhotel.com.au
SUMMARY:Sunday Live Music
DESCRIPTION:Sundays from 3pm \n\n\n\nKick back and join us downstairs at Potts Point Hotel for live music\, with acoustic sounds every Sunday afternoon from 3pm. \n\n\n\nBook a table for dinner or pop down for light snacks from the bistro with a drink or two to finish off your week.
URL:https://pottspointhotel.com.au/events/sunday-live-music/2027-01-17/
LOCATION:Potts Point Hotel\, Ground\, Potts Point Hotel\, Potts Point\, NSW\, 2011\, Australia
CATEGORIES:Potts Point Hotel,Sundays
ATTACH;FMTTYPE=image/jpeg:https://pottspointhotel.com.au/storage/2022/12/Untitled-design-14-jpg.webp
ORGANIZER;CN="Potts Point Hotel":MAILTO:info@pottspointhotel.com.au
END:VEVENT
END:VCALENDAR