BEGIN:VCALENDAR
VERSION:2.0
PRODID:-//Potts Point Hotel - ECPv6.15.18//NONSGML v1.0//EN
CALSCALE:GREGORIAN
METHOD:PUBLISH
X-WR-CALNAME:Potts Point Hotel
X-ORIGINAL-URL:https://pottspointhotel.com.au
X-WR-CALDESC:Events for Potts Point Hotel
REFRESH-INTERVAL;VALUE=DURATION:PT1H
X-Robots-Tag:noindex
X-PUBLISHED-TTL:PT1H
BEGIN:VTIMEZONE
TZID:Australia/Sydney
BEGIN:STANDARD
TZOFFSETFROM:+1100
TZOFFSETTO:+1000
TZNAME:AEST
DTSTART:20250405T160000
END:STANDARD
BEGIN:DAYLIGHT
TZOFFSETFROM:+1000
TZOFFSETTO:+1100
TZNAME:AEDT
DTSTART:20251004T160000
END:DAYLIGHT
BEGIN:STANDARD
TZOFFSETFROM:+1100
TZOFFSETTO:+1000
TZNAME:AEST
DTSTART:20260404T160000
END:STANDARD
BEGIN:DAYLIGHT
TZOFFSETFROM:+1000
TZOFFSETTO:+1100
TZNAME:AEDT
DTSTART:20261003T160000
END:DAYLIGHT
BEGIN:STANDARD
TZOFFSETFROM:+1100
TZOFFSETTO:+1000
TZNAME:AEST
DTSTART:20270403T160000
END:STANDARD
BEGIN:DAYLIGHT
TZOFFSETFROM:+1000
TZOFFSETTO:+1100
TZNAME:AEDT
DTSTART:20271002T160000
END:DAYLIGHT
END:VTIMEZONE
BEGIN:VEVENT
DTSTART;TZID=Australia/Sydney:20260426T150000
DTEND;TZID=Australia/Sydney:20260426T180000
DTSTAMP:20260422T060232
CREATED:20221213T122438Z
LAST-MODIFIED:20240822T144353Z
UID:10004254-1777215600-1777226400@pottspointhotel.com.au
SUMMARY:Sunday Live Music
DESCRIPTION:Sundays from 3pm \n\n\n\nKick back and join us downstairs at Potts Point Hotel for live music\, with acoustic sounds every Sunday afternoon from 3pm. \n\n\n\nBook a table for dinner or pop down for light snacks from the bistro with a drink or two to finish off your week.
URL:https://pottspointhotel.com.au/events/sunday-live-music/2026-04-26/
LOCATION:Potts Point Hotel\, Ground\, Potts Point Hotel\, Potts Point\, NSW\, 2011\, Australia
CATEGORIES:Potts Point Hotel,Sundays
ATTACH;FMTTYPE=image/jpeg:https://pottspointhotel.com.au/storage/2022/12/Untitled-design-14-jpg.webp
ORGANIZER;CN="Potts Point Hotel":MAILTO:info@pottspointhotel.com.au
END:VEVENT
BEGIN:VEVENT
DTSTART;TZID=Australia/Sydney:20260503T150000
DTEND;TZID=Australia/Sydney:20260503T180000
DTSTAMP:20260422T060232
CREATED:20221213T122438Z
LAST-MODIFIED:20240822T144353Z
UID:10004255-1777820400-1777831200@pottspointhotel.com.au
SUMMARY:Sunday Live Music
DESCRIPTION:Sundays from 3pm \n\n\n\nKick back and join us downstairs at Potts Point Hotel for live music\, with acoustic sounds every Sunday afternoon from 3pm. \n\n\n\nBook a table for dinner or pop down for light snacks from the bistro with a drink or two to finish off your week.
URL:https://pottspointhotel.com.au/events/sunday-live-music/2026-05-03/
LOCATION:Potts Point Hotel\, Ground\, Potts Point Hotel\, Potts Point\, NSW\, 2011\, Australia
CATEGORIES:Potts Point Hotel,Sundays
ATTACH;FMTTYPE=image/jpeg:https://pottspointhotel.com.au/storage/2022/12/Untitled-design-14-jpg.webp
ORGANIZER;CN="Potts Point Hotel":MAILTO:info@pottspointhotel.com.au
END:VEVENT
BEGIN:VEVENT
DTSTART;TZID=Australia/Sydney:20260510T150000
DTEND;TZID=Australia/Sydney:20260510T180000
DTSTAMP:20260422T060232
CREATED:20221213T122438Z
LAST-MODIFIED:20240822T144353Z
UID:10004256-1778425200-1778436000@pottspointhotel.com.au
SUMMARY:Sunday Live Music
DESCRIPTION:Sundays from 3pm \n\n\n\nKick back and join us downstairs at Potts Point Hotel for live music\, with acoustic sounds every Sunday afternoon from 3pm. \n\n\n\nBook a table for dinner or pop down for light snacks from the bistro with a drink or two to finish off your week.
URL:https://pottspointhotel.com.au/events/sunday-live-music/2026-05-10/
LOCATION:Potts Point Hotel\, Ground\, Potts Point Hotel\, Potts Point\, NSW\, 2011\, Australia
CATEGORIES:Potts Point Hotel,Sundays
ATTACH;FMTTYPE=image/jpeg:https://pottspointhotel.com.au/storage/2022/12/Untitled-design-14-jpg.webp
ORGANIZER;CN="Potts Point Hotel":MAILTO:info@pottspointhotel.com.au
END:VEVENT
BEGIN:VEVENT
DTSTART;TZID=Australia/Sydney:20260517T150000
DTEND;TZID=Australia/Sydney:20260517T180000
DTSTAMP:20260422T060232
CREATED:20221213T122438Z
LAST-MODIFIED:20240822T144353Z
UID:10004257-1779030000-1779040800@pottspointhotel.com.au
SUMMARY:Sunday Live Music
DESCRIPTION:Sundays from 3pm \n\n\n\nKick back and join us downstairs at Potts Point Hotel for live music\, with acoustic sounds every Sunday afternoon from 3pm. \n\n\n\nBook a table for dinner or pop down for light snacks from the bistro with a drink or two to finish off your week.
URL:https://pottspointhotel.com.au/events/sunday-live-music/2026-05-17/
LOCATION:Potts Point Hotel\, Ground\, Potts Point Hotel\, Potts Point\, NSW\, 2011\, Australia
CATEGORIES:Potts Point Hotel,Sundays
ATTACH;FMTTYPE=image/jpeg:https://pottspointhotel.com.au/storage/2022/12/Untitled-design-14-jpg.webp
ORGANIZER;CN="Potts Point Hotel":MAILTO:info@pottspointhotel.com.au
END:VEVENT
BEGIN:VEVENT
DTSTART;TZID=Australia/Sydney:20260524T150000
DTEND;TZID=Australia/Sydney:20260524T180000
DTSTAMP:20260422T060232
CREATED:20221213T122438Z
LAST-MODIFIED:20240822T144353Z
UID:10004258-1779634800-1779645600@pottspointhotel.com.au
SUMMARY:Sunday Live Music
DESCRIPTION:Sundays from 3pm \n\n\n\nKick back and join us downstairs at Potts Point Hotel for live music\, with acoustic sounds every Sunday afternoon from 3pm. \n\n\n\nBook a table for dinner or pop down for light snacks from the bistro with a drink or two to finish off your week.
URL:https://pottspointhotel.com.au/events/sunday-live-music/2026-05-24/
LOCATION:Potts Point Hotel\, Ground\, Potts Point Hotel\, Potts Point\, NSW\, 2011\, Australia
CATEGORIES:Potts Point Hotel,Sundays
ATTACH;FMTTYPE=image/jpeg:https://pottspointhotel.com.au/storage/2022/12/Untitled-design-14-jpg.webp
ORGANIZER;CN="Potts Point Hotel":MAILTO:info@pottspointhotel.com.au
END:VEVENT
BEGIN:VEVENT
DTSTART;TZID=Australia/Sydney:20260531T150000
DTEND;TZID=Australia/Sydney:20260531T180000
DTSTAMP:20260422T060232
CREATED:20221213T122438Z
LAST-MODIFIED:20240822T144353Z
UID:10004259-1780239600-1780250400@pottspointhotel.com.au
SUMMARY:Sunday Live Music
DESCRIPTION:Sundays from 3pm \n\n\n\nKick back and join us downstairs at Potts Point Hotel for live music\, with acoustic sounds every Sunday afternoon from 3pm. \n\n\n\nBook a table for dinner or pop down for light snacks from the bistro with a drink or two to finish off your week.
URL:https://pottspointhotel.com.au/events/sunday-live-music/2026-05-31/
LOCATION:Potts Point Hotel\, Ground\, Potts Point Hotel\, Potts Point\, NSW\, 2011\, Australia
CATEGORIES:Potts Point Hotel,Sundays
ATTACH;FMTTYPE=image/jpeg:https://pottspointhotel.com.au/storage/2022/12/Untitled-design-14-jpg.webp
ORGANIZER;CN="Potts Point Hotel":MAILTO:info@pottspointhotel.com.au
END:VEVENT
BEGIN:VEVENT
DTSTART;TZID=Australia/Sydney:20260607T150000
DTEND;TZID=Australia/Sydney:20260607T180000
DTSTAMP:20260422T060232
CREATED:20221213T122438Z
LAST-MODIFIED:20240822T144353Z
UID:10004260-1780844400-1780855200@pottspointhotel.com.au
SUMMARY:Sunday Live Music
DESCRIPTION:Sundays from 3pm \n\n\n\nKick back and join us downstairs at Potts Point Hotel for live music\, with acoustic sounds every Sunday afternoon from 3pm. \n\n\n\nBook a table for dinner or pop down for light snacks from the bistro with a drink or two to finish off your week.
URL:https://pottspointhotel.com.au/events/sunday-live-music/2026-06-07/
LOCATION:Potts Point Hotel\, Ground\, Potts Point Hotel\, Potts Point\, NSW\, 2011\, Australia
CATEGORIES:Potts Point Hotel,Sundays
ATTACH;FMTTYPE=image/jpeg:https://pottspointhotel.com.au/storage/2022/12/Untitled-design-14-jpg.webp
ORGANIZER;CN="Potts Point Hotel":MAILTO:info@pottspointhotel.com.au
END:VEVENT
BEGIN:VEVENT
DTSTART;TZID=Australia/Sydney:20260614T150000
DTEND;TZID=Australia/Sydney:20260614T180000
DTSTAMP:20260422T060232
CREATED:20221213T122438Z
LAST-MODIFIED:20240822T144353Z
UID:10004261-1781449200-1781460000@pottspointhotel.com.au
SUMMARY:Sunday Live Music
DESCRIPTION:Sundays from 3pm \n\n\n\nKick back and join us downstairs at Potts Point Hotel for live music\, with acoustic sounds every Sunday afternoon from 3pm. \n\n\n\nBook a table for dinner or pop down for light snacks from the bistro with a drink or two to finish off your week.
URL:https://pottspointhotel.com.au/events/sunday-live-music/2026-06-14/
LOCATION:Potts Point Hotel\, Ground\, Potts Point Hotel\, Potts Point\, NSW\, 2011\, Australia
CATEGORIES:Potts Point Hotel,Sundays
ATTACH;FMTTYPE=image/jpeg:https://pottspointhotel.com.au/storage/2022/12/Untitled-design-14-jpg.webp
ORGANIZER;CN="Potts Point Hotel":MAILTO:info@pottspointhotel.com.au
END:VEVENT
BEGIN:VEVENT
DTSTART;TZID=Australia/Sydney:20260621T150000
DTEND;TZID=Australia/Sydney:20260621T180000
DTSTAMP:20260422T060232
CREATED:20221213T122438Z
LAST-MODIFIED:20240822T144353Z
UID:10004262-1782054000-1782064800@pottspointhotel.com.au
SUMMARY:Sunday Live Music
DESCRIPTION:Sundays from 3pm \n\n\n\nKick back and join us downstairs at Potts Point Hotel for live music\, with acoustic sounds every Sunday afternoon from 3pm. \n\n\n\nBook a table for dinner or pop down for light snacks from the bistro with a drink or two to finish off your week.
URL:https://pottspointhotel.com.au/events/sunday-live-music/2026-06-21/
LOCATION:Potts Point Hotel\, Ground\, Potts Point Hotel\, Potts Point\, NSW\, 2011\, Australia
CATEGORIES:Potts Point Hotel,Sundays
ATTACH;FMTTYPE=image/jpeg:https://pottspointhotel.com.au/storage/2022/12/Untitled-design-14-jpg.webp
ORGANIZER;CN="Potts Point Hotel":MAILTO:info@pottspointhotel.com.au
END:VEVENT
BEGIN:VEVENT
DTSTART;TZID=Australia/Sydney:20260628T150000
DTEND;TZID=Australia/Sydney:20260628T180000
DTSTAMP:20260422T060232
CREATED:20221213T122438Z
LAST-MODIFIED:20240822T144353Z
UID:10004263-1782658800-1782669600@pottspointhotel.com.au
SUMMARY:Sunday Live Music
DESCRIPTION:Sundays from 3pm \n\n\n\nKick back and join us downstairs at Potts Point Hotel for live music\, with acoustic sounds every Sunday afternoon from 3pm. \n\n\n\nBook a table for dinner or pop down for light snacks from the bistro with a drink or two to finish off your week.
URL:https://pottspointhotel.com.au/events/sunday-live-music/2026-06-28/
LOCATION:Potts Point Hotel\, Ground\, Potts Point Hotel\, Potts Point\, NSW\, 2011\, Australia
CATEGORIES:Potts Point Hotel,Sundays
ATTACH;FMTTYPE=image/jpeg:https://pottspointhotel.com.au/storage/2022/12/Untitled-design-14-jpg.webp
ORGANIZER;CN="Potts Point Hotel":MAILTO:info@pottspointhotel.com.au
END:VEVENT
BEGIN:VEVENT
DTSTART;TZID=Australia/Sydney:20260705T150000
DTEND;TZID=Australia/Sydney:20260705T180000
DTSTAMP:20260422T060232
CREATED:20221213T122438Z
LAST-MODIFIED:20240822T144353Z
UID:10004264-1783263600-1783274400@pottspointhotel.com.au
SUMMARY:Sunday Live Music
DESCRIPTION:Sundays from 3pm \n\n\n\nKick back and join us downstairs at Potts Point Hotel for live music\, with acoustic sounds every Sunday afternoon from 3pm. \n\n\n\nBook a table for dinner or pop down for light snacks from the bistro with a drink or two to finish off your week.
URL:https://pottspointhotel.com.au/events/sunday-live-music/2026-07-05/
LOCATION:Potts Point Hotel\, Ground\, Potts Point Hotel\, Potts Point\, NSW\, 2011\, Australia
CATEGORIES:Potts Point Hotel,Sundays
ATTACH;FMTTYPE=image/jpeg:https://pottspointhotel.com.au/storage/2022/12/Untitled-design-14-jpg.webp
ORGANIZER;CN="Potts Point Hotel":MAILTO:info@pottspointhotel.com.au
END:VEVENT
BEGIN:VEVENT
DTSTART;TZID=Australia/Sydney:20260712T150000
DTEND;TZID=Australia/Sydney:20260712T180000
DTSTAMP:20260422T060232
CREATED:20221213T122438Z
LAST-MODIFIED:20240822T144353Z
UID:10004265-1783868400-1783879200@pottspointhotel.com.au
SUMMARY:Sunday Live Music
DESCRIPTION:Sundays from 3pm \n\n\n\nKick back and join us downstairs at Potts Point Hotel for live music\, with acoustic sounds every Sunday afternoon from 3pm. \n\n\n\nBook a table for dinner or pop down for light snacks from the bistro with a drink or two to finish off your week.
URL:https://pottspointhotel.com.au/events/sunday-live-music/2026-07-12/
LOCATION:Potts Point Hotel\, Ground\, Potts Point Hotel\, Potts Point\, NSW\, 2011\, Australia
CATEGORIES:Potts Point Hotel,Sundays
ATTACH;FMTTYPE=image/jpeg:https://pottspointhotel.com.au/storage/2022/12/Untitled-design-14-jpg.webp
ORGANIZER;CN="Potts Point Hotel":MAILTO:info@pottspointhotel.com.au
END:VEVENT
BEGIN:VEVENT
DTSTART;TZID=Australia/Sydney:20260719T150000
DTEND;TZID=Australia/Sydney:20260719T180000
DTSTAMP:20260422T060232
CREATED:20221213T122438Z
LAST-MODIFIED:20240822T144353Z
UID:10004266-1784473200-1784484000@pottspointhotel.com.au
SUMMARY:Sunday Live Music
DESCRIPTION:Sundays from 3pm \n\n\n\nKick back and join us downstairs at Potts Point Hotel for live music\, with acoustic sounds every Sunday afternoon from 3pm. \n\n\n\nBook a table for dinner or pop down for light snacks from the bistro with a drink or two to finish off your week.
URL:https://pottspointhotel.com.au/events/sunday-live-music/2026-07-19/
LOCATION:Potts Point Hotel\, Ground\, Potts Point Hotel\, Potts Point\, NSW\, 2011\, Australia
CATEGORIES:Potts Point Hotel,Sundays
ATTACH;FMTTYPE=image/jpeg:https://pottspointhotel.com.au/storage/2022/12/Untitled-design-14-jpg.webp
ORGANIZER;CN="Potts Point Hotel":MAILTO:info@pottspointhotel.com.au
END:VEVENT
BEGIN:VEVENT
DTSTART;TZID=Australia/Sydney:20260726T150000
DTEND;TZID=Australia/Sydney:20260726T180000
DTSTAMP:20260422T060232
CREATED:20221213T122438Z
LAST-MODIFIED:20240822T144353Z
UID:10004267-1785078000-1785088800@pottspointhotel.com.au
SUMMARY:Sunday Live Music
DESCRIPTION:Sundays from 3pm \n\n\n\nKick back and join us downstairs at Potts Point Hotel for live music\, with acoustic sounds every Sunday afternoon from 3pm. \n\n\n\nBook a table for dinner or pop down for light snacks from the bistro with a drink or two to finish off your week.
URL:https://pottspointhotel.com.au/events/sunday-live-music/2026-07-26/
LOCATION:Potts Point Hotel\, Ground\, Potts Point Hotel\, Potts Point\, NSW\, 2011\, Australia
CATEGORIES:Potts Point Hotel,Sundays
ATTACH;FMTTYPE=image/jpeg:https://pottspointhotel.com.au/storage/2022/12/Untitled-design-14-jpg.webp
ORGANIZER;CN="Potts Point Hotel":MAILTO:info@pottspointhotel.com.au
END:VEVENT
BEGIN:VEVENT
DTSTART;TZID=Australia/Sydney:20260802T150000
DTEND;TZID=Australia/Sydney:20260802T180000
DTSTAMP:20260422T060232
CREATED:20221213T122438Z
LAST-MODIFIED:20240822T144353Z
UID:10004268-1785682800-1785693600@pottspointhotel.com.au
SUMMARY:Sunday Live Music
DESCRIPTION:Sundays from 3pm \n\n\n\nKick back and join us downstairs at Potts Point Hotel for live music\, with acoustic sounds every Sunday afternoon from 3pm. \n\n\n\nBook a table for dinner or pop down for light snacks from the bistro with a drink or two to finish off your week.
URL:https://pottspointhotel.com.au/events/sunday-live-music/2026-08-02/
LOCATION:Potts Point Hotel\, Ground\, Potts Point Hotel\, Potts Point\, NSW\, 2011\, Australia
CATEGORIES:Potts Point Hotel,Sundays
ATTACH;FMTTYPE=image/jpeg:https://pottspointhotel.com.au/storage/2022/12/Untitled-design-14-jpg.webp
ORGANIZER;CN="Potts Point Hotel":MAILTO:info@pottspointhotel.com.au
END:VEVENT
BEGIN:VEVENT
DTSTART;TZID=Australia/Sydney:20260809T150000
DTEND;TZID=Australia/Sydney:20260809T180000
DTSTAMP:20260422T060232
CREATED:20221213T122438Z
LAST-MODIFIED:20240822T144353Z
UID:10004269-1786287600-1786298400@pottspointhotel.com.au
SUMMARY:Sunday Live Music
DESCRIPTION:Sundays from 3pm \n\n\n\nKick back and join us downstairs at Potts Point Hotel for live music\, with acoustic sounds every Sunday afternoon from 3pm. \n\n\n\nBook a table for dinner or pop down for light snacks from the bistro with a drink or two to finish off your week.
URL:https://pottspointhotel.com.au/events/sunday-live-music/2026-08-09/
LOCATION:Potts Point Hotel\, Ground\, Potts Point Hotel\, Potts Point\, NSW\, 2011\, Australia
CATEGORIES:Potts Point Hotel,Sundays
ATTACH;FMTTYPE=image/jpeg:https://pottspointhotel.com.au/storage/2022/12/Untitled-design-14-jpg.webp
ORGANIZER;CN="Potts Point Hotel":MAILTO:info@pottspointhotel.com.au
END:VEVENT
BEGIN:VEVENT
DTSTART;TZID=Australia/Sydney:20260816T150000
DTEND;TZID=Australia/Sydney:20260816T180000
DTSTAMP:20260422T060232
CREATED:20221213T122438Z
LAST-MODIFIED:20240822T144353Z
UID:10004270-1786892400-1786903200@pottspointhotel.com.au
SUMMARY:Sunday Live Music
DESCRIPTION:Sundays from 3pm \n\n\n\nKick back and join us downstairs at Potts Point Hotel for live music\, with acoustic sounds every Sunday afternoon from 3pm. \n\n\n\nBook a table for dinner or pop down for light snacks from the bistro with a drink or two to finish off your week.
URL:https://pottspointhotel.com.au/events/sunday-live-music/2026-08-16/
LOCATION:Potts Point Hotel\, Ground\, Potts Point Hotel\, Potts Point\, NSW\, 2011\, Australia
CATEGORIES:Potts Point Hotel,Sundays
ATTACH;FMTTYPE=image/jpeg:https://pottspointhotel.com.au/storage/2022/12/Untitled-design-14-jpg.webp
ORGANIZER;CN="Potts Point Hotel":MAILTO:info@pottspointhotel.com.au
END:VEVENT
BEGIN:VEVENT
DTSTART;TZID=Australia/Sydney:20260823T150000
DTEND;TZID=Australia/Sydney:20260823T180000
DTSTAMP:20260422T060232
CREATED:20221213T122438Z
LAST-MODIFIED:20240822T144353Z
UID:10004271-1787497200-1787508000@pottspointhotel.com.au
SUMMARY:Sunday Live Music
DESCRIPTION:Sundays from 3pm \n\n\n\nKick back and join us downstairs at Potts Point Hotel for live music\, with acoustic sounds every Sunday afternoon from 3pm. \n\n\n\nBook a table for dinner or pop down for light snacks from the bistro with a drink or two to finish off your week.
URL:https://pottspointhotel.com.au/events/sunday-live-music/2026-08-23/
LOCATION:Potts Point Hotel\, Ground\, Potts Point Hotel\, Potts Point\, NSW\, 2011\, Australia
CATEGORIES:Potts Point Hotel,Sundays
ATTACH;FMTTYPE=image/jpeg:https://pottspointhotel.com.au/storage/2022/12/Untitled-design-14-jpg.webp
ORGANIZER;CN="Potts Point Hotel":MAILTO:info@pottspointhotel.com.au
END:VEVENT
BEGIN:VEVENT
DTSTART;TZID=Australia/Sydney:20260830T150000
DTEND;TZID=Australia/Sydney:20260830T180000
DTSTAMP:20260422T060232
CREATED:20221213T122438Z
LAST-MODIFIED:20240822T144353Z
UID:10004272-1788102000-1788112800@pottspointhotel.com.au
SUMMARY:Sunday Live Music
DESCRIPTION:Sundays from 3pm \n\n\n\nKick back and join us downstairs at Potts Point Hotel for live music\, with acoustic sounds every Sunday afternoon from 3pm. \n\n\n\nBook a table for dinner or pop down for light snacks from the bistro with a drink or two to finish off your week.
URL:https://pottspointhotel.com.au/events/sunday-live-music/2026-08-30/
LOCATION:Potts Point Hotel\, Ground\, Potts Point Hotel\, Potts Point\, NSW\, 2011\, Australia
CATEGORIES:Potts Point Hotel,Sundays
ATTACH;FMTTYPE=image/jpeg:https://pottspointhotel.com.au/storage/2022/12/Untitled-design-14-jpg.webp
ORGANIZER;CN="Potts Point Hotel":MAILTO:info@pottspointhotel.com.au
END:VEVENT
BEGIN:VEVENT
DTSTART;TZID=Australia/Sydney:20260906T150000
DTEND;TZID=Australia/Sydney:20260906T180000
DTSTAMP:20260422T060232
CREATED:20221213T122438Z
LAST-MODIFIED:20240822T144353Z
UID:10004273-1788706800-1788717600@pottspointhotel.com.au
SUMMARY:Sunday Live Music
DESCRIPTION:Sundays from 3pm \n\n\n\nKick back and join us downstairs at Potts Point Hotel for live music\, with acoustic sounds every Sunday afternoon from 3pm. \n\n\n\nBook a table for dinner or pop down for light snacks from the bistro with a drink or two to finish off your week.
URL:https://pottspointhotel.com.au/events/sunday-live-music/2026-09-06/
LOCATION:Potts Point Hotel\, Ground\, Potts Point Hotel\, Potts Point\, NSW\, 2011\, Australia
CATEGORIES:Potts Point Hotel,Sundays
ATTACH;FMTTYPE=image/jpeg:https://pottspointhotel.com.au/storage/2022/12/Untitled-design-14-jpg.webp
ORGANIZER;CN="Potts Point Hotel":MAILTO:info@pottspointhotel.com.au
END:VEVENT
BEGIN:VEVENT
DTSTART;TZID=Australia/Sydney:20260913T150000
DTEND;TZID=Australia/Sydney:20260913T180000
DTSTAMP:20260422T060232
CREATED:20221213T122438Z
LAST-MODIFIED:20240822T144353Z
UID:10004274-1789311600-1789322400@pottspointhotel.com.au
SUMMARY:Sunday Live Music
DESCRIPTION:Sundays from 3pm \n\n\n\nKick back and join us downstairs at Potts Point Hotel for live music\, with acoustic sounds every Sunday afternoon from 3pm. \n\n\n\nBook a table for dinner or pop down for light snacks from the bistro with a drink or two to finish off your week.
URL:https://pottspointhotel.com.au/events/sunday-live-music/2026-09-13/
LOCATION:Potts Point Hotel\, Ground\, Potts Point Hotel\, Potts Point\, NSW\, 2011\, Australia
CATEGORIES:Potts Point Hotel,Sundays
ATTACH;FMTTYPE=image/jpeg:https://pottspointhotel.com.au/storage/2022/12/Untitled-design-14-jpg.webp
ORGANIZER;CN="Potts Point Hotel":MAILTO:info@pottspointhotel.com.au
END:VEVENT
BEGIN:VEVENT
DTSTART;TZID=Australia/Sydney:20260920T150000
DTEND;TZID=Australia/Sydney:20260920T180000
DTSTAMP:20260422T060232
CREATED:20221213T122438Z
LAST-MODIFIED:20240822T144353Z
UID:10004275-1789916400-1789927200@pottspointhotel.com.au
SUMMARY:Sunday Live Music
DESCRIPTION:Sundays from 3pm \n\n\n\nKick back and join us downstairs at Potts Point Hotel for live music\, with acoustic sounds every Sunday afternoon from 3pm. \n\n\n\nBook a table for dinner or pop down for light snacks from the bistro with a drink or two to finish off your week.
URL:https://pottspointhotel.com.au/events/sunday-live-music/2026-09-20/
LOCATION:Potts Point Hotel\, Ground\, Potts Point Hotel\, Potts Point\, NSW\, 2011\, Australia
CATEGORIES:Potts Point Hotel,Sundays
ATTACH;FMTTYPE=image/jpeg:https://pottspointhotel.com.au/storage/2022/12/Untitled-design-14-jpg.webp
ORGANIZER;CN="Potts Point Hotel":MAILTO:info@pottspointhotel.com.au
END:VEVENT
BEGIN:VEVENT
DTSTART;TZID=Australia/Sydney:20260927T150000
DTEND;TZID=Australia/Sydney:20260927T180000
DTSTAMP:20260422T060232
CREATED:20221213T122438Z
LAST-MODIFIED:20240822T144353Z
UID:10004276-1790521200-1790532000@pottspointhotel.com.au
SUMMARY:Sunday Live Music
DESCRIPTION:Sundays from 3pm \n\n\n\nKick back and join us downstairs at Potts Point Hotel for live music\, with acoustic sounds every Sunday afternoon from 3pm. \n\n\n\nBook a table for dinner or pop down for light snacks from the bistro with a drink or two to finish off your week.
URL:https://pottspointhotel.com.au/events/sunday-live-music/2026-09-27/
LOCATION:Potts Point Hotel\, Ground\, Potts Point Hotel\, Potts Point\, NSW\, 2011\, Australia
CATEGORIES:Potts Point Hotel,Sundays
ATTACH;FMTTYPE=image/jpeg:https://pottspointhotel.com.au/storage/2022/12/Untitled-design-14-jpg.webp
ORGANIZER;CN="Potts Point Hotel":MAILTO:info@pottspointhotel.com.au
END:VEVENT
BEGIN:VEVENT
DTSTART;TZID=Australia/Sydney:20261004T150000
DTEND;TZID=Australia/Sydney:20261004T180000
DTSTAMP:20260422T060232
CREATED:20221213T122438Z
LAST-MODIFIED:20240822T144353Z
UID:10004277-1791126000-1791136800@pottspointhotel.com.au
SUMMARY:Sunday Live Music
DESCRIPTION:Sundays from 3pm \n\n\n\nKick back and join us downstairs at Potts Point Hotel for live music\, with acoustic sounds every Sunday afternoon from 3pm. \n\n\n\nBook a table for dinner or pop down for light snacks from the bistro with a drink or two to finish off your week.
URL:https://pottspointhotel.com.au/events/sunday-live-music/2026-10-04/
LOCATION:Potts Point Hotel\, Ground\, Potts Point Hotel\, Potts Point\, NSW\, 2011\, Australia
CATEGORIES:Potts Point Hotel,Sundays
ATTACH;FMTTYPE=image/jpeg:https://pottspointhotel.com.au/storage/2022/12/Untitled-design-14-jpg.webp
ORGANIZER;CN="Potts Point Hotel":MAILTO:info@pottspointhotel.com.au
END:VEVENT
BEGIN:VEVENT
DTSTART;TZID=Australia/Sydney:20261011T150000
DTEND;TZID=Australia/Sydney:20261011T180000
DTSTAMP:20260422T060232
CREATED:20221213T122438Z
LAST-MODIFIED:20240822T144353Z
UID:10004278-1791730800-1791741600@pottspointhotel.com.au
SUMMARY:Sunday Live Music
DESCRIPTION:Sundays from 3pm \n\n\n\nKick back and join us downstairs at Potts Point Hotel for live music\, with acoustic sounds every Sunday afternoon from 3pm. \n\n\n\nBook a table for dinner or pop down for light snacks from the bistro with a drink or two to finish off your week.
URL:https://pottspointhotel.com.au/events/sunday-live-music/2026-10-11/
LOCATION:Potts Point Hotel\, Ground\, Potts Point Hotel\, Potts Point\, NSW\, 2011\, Australia
CATEGORIES:Potts Point Hotel,Sundays
ATTACH;FMTTYPE=image/jpeg:https://pottspointhotel.com.au/storage/2022/12/Untitled-design-14-jpg.webp
ORGANIZER;CN="Potts Point Hotel":MAILTO:info@pottspointhotel.com.au
END:VEVENT
BEGIN:VEVENT
DTSTART;TZID=Australia/Sydney:20261018T150000
DTEND;TZID=Australia/Sydney:20261018T180000
DTSTAMP:20260422T060232
CREATED:20221213T122438Z
LAST-MODIFIED:20240822T144353Z
UID:10004279-1792335600-1792346400@pottspointhotel.com.au
SUMMARY:Sunday Live Music
DESCRIPTION:Sundays from 3pm \n\n\n\nKick back and join us downstairs at Potts Point Hotel for live music\, with acoustic sounds every Sunday afternoon from 3pm. \n\n\n\nBook a table for dinner or pop down for light snacks from the bistro with a drink or two to finish off your week.
URL:https://pottspointhotel.com.au/events/sunday-live-music/2026-10-18/
LOCATION:Potts Point Hotel\, Ground\, Potts Point Hotel\, Potts Point\, NSW\, 2011\, Australia
CATEGORIES:Potts Point Hotel,Sundays
ATTACH;FMTTYPE=image/jpeg:https://pottspointhotel.com.au/storage/2022/12/Untitled-design-14-jpg.webp
ORGANIZER;CN="Potts Point Hotel":MAILTO:info@pottspointhotel.com.au
END:VEVENT
BEGIN:VEVENT
DTSTART;TZID=Australia/Sydney:20261025T150000
DTEND;TZID=Australia/Sydney:20261025T180000
DTSTAMP:20260422T060232
CREATED:20221213T122438Z
LAST-MODIFIED:20240822T144353Z
UID:10004280-1792940400-1792951200@pottspointhotel.com.au
SUMMARY:Sunday Live Music
DESCRIPTION:Sundays from 3pm \n\n\n\nKick back and join us downstairs at Potts Point Hotel for live music\, with acoustic sounds every Sunday afternoon from 3pm. \n\n\n\nBook a table for dinner or pop down for light snacks from the bistro with a drink or two to finish off your week.
URL:https://pottspointhotel.com.au/events/sunday-live-music/2026-10-25/
LOCATION:Potts Point Hotel\, Ground\, Potts Point Hotel\, Potts Point\, NSW\, 2011\, Australia
CATEGORIES:Potts Point Hotel,Sundays
ATTACH;FMTTYPE=image/jpeg:https://pottspointhotel.com.au/storage/2022/12/Untitled-design-14-jpg.webp
ORGANIZER;CN="Potts Point Hotel":MAILTO:info@pottspointhotel.com.au
END:VEVENT
BEGIN:VEVENT
DTSTART;TZID=Australia/Sydney:20261101T150000
DTEND;TZID=Australia/Sydney:20261101T180000
DTSTAMP:20260422T060232
CREATED:20221213T122438Z
LAST-MODIFIED:20240822T144353Z
UID:10004281-1793545200-1793556000@pottspointhotel.com.au
SUMMARY:Sunday Live Music
DESCRIPTION:Sundays from 3pm \n\n\n\nKick back and join us downstairs at Potts Point Hotel for live music\, with acoustic sounds every Sunday afternoon from 3pm. \n\n\n\nBook a table for dinner or pop down for light snacks from the bistro with a drink or two to finish off your week.
URL:https://pottspointhotel.com.au/events/sunday-live-music/2026-11-01/
LOCATION:Potts Point Hotel\, Ground\, Potts Point Hotel\, Potts Point\, NSW\, 2011\, Australia
CATEGORIES:Potts Point Hotel,Sundays
ATTACH;FMTTYPE=image/jpeg:https://pottspointhotel.com.au/storage/2022/12/Untitled-design-14-jpg.webp
ORGANIZER;CN="Potts Point Hotel":MAILTO:info@pottspointhotel.com.au
END:VEVENT
BEGIN:VEVENT
DTSTART;TZID=Australia/Sydney:20261108T150000
DTEND;TZID=Australia/Sydney:20261108T180000
DTSTAMP:20260422T060232
CREATED:20221213T122438Z
LAST-MODIFIED:20240822T144353Z
UID:10004282-1794150000-1794160800@pottspointhotel.com.au
SUMMARY:Sunday Live Music
DESCRIPTION:Sundays from 3pm \n\n\n\nKick back and join us downstairs at Potts Point Hotel for live music\, with acoustic sounds every Sunday afternoon from 3pm. \n\n\n\nBook a table for dinner or pop down for light snacks from the bistro with a drink or two to finish off your week.
URL:https://pottspointhotel.com.au/events/sunday-live-music/2026-11-08/
LOCATION:Potts Point Hotel\, Ground\, Potts Point Hotel\, Potts Point\, NSW\, 2011\, Australia
CATEGORIES:Potts Point Hotel,Sundays
ATTACH;FMTTYPE=image/jpeg:https://pottspointhotel.com.au/storage/2022/12/Untitled-design-14-jpg.webp
ORGANIZER;CN="Potts Point Hotel":MAILTO:info@pottspointhotel.com.au
END:VEVENT
BEGIN:VEVENT
DTSTART;TZID=Australia/Sydney:20261115T150000
DTEND;TZID=Australia/Sydney:20261115T180000
DTSTAMP:20260422T060232
CREATED:20221213T122438Z
LAST-MODIFIED:20240822T144353Z
UID:10004283-1794754800-1794765600@pottspointhotel.com.au
SUMMARY:Sunday Live Music
DESCRIPTION:Sundays from 3pm \n\n\n\nKick back and join us downstairs at Potts Point Hotel for live music\, with acoustic sounds every Sunday afternoon from 3pm. \n\n\n\nBook a table for dinner or pop down for light snacks from the bistro with a drink or two to finish off your week.
URL:https://pottspointhotel.com.au/events/sunday-live-music/2026-11-15/
LOCATION:Potts Point Hotel\, Ground\, Potts Point Hotel\, Potts Point\, NSW\, 2011\, Australia
CATEGORIES:Potts Point Hotel,Sundays
ATTACH;FMTTYPE=image/jpeg:https://pottspointhotel.com.au/storage/2022/12/Untitled-design-14-jpg.webp
ORGANIZER;CN="Potts Point Hotel":MAILTO:info@pottspointhotel.com.au
END:VEVENT
END:VCALENDAR