BEGIN:VCALENDAR
VERSION:2.0
PRODID:-//Potts Point Hotel - ECPv6.15.18//NONSGML v1.0//EN
CALSCALE:GREGORIAN
METHOD:PUBLISH
X-WR-CALNAME:Potts Point Hotel
X-ORIGINAL-URL:https://pottspointhotel.com.au
X-WR-CALDESC:Events for Potts Point Hotel
REFRESH-INTERVAL;VALUE=DURATION:PT1H
X-Robots-Tag:noindex
X-PUBLISHED-TTL:PT1H
BEGIN:VTIMEZONE
TZID:Australia/Sydney
BEGIN:STANDARD
TZOFFSETFROM:+1100
TZOFFSETTO:+1000
TZNAME:AEST
DTSTART:20250405T160000
END:STANDARD
BEGIN:DAYLIGHT
TZOFFSETFROM:+1000
TZOFFSETTO:+1100
TZNAME:AEDT
DTSTART:20251004T160000
END:DAYLIGHT
BEGIN:STANDARD
TZOFFSETFROM:+1100
TZOFFSETTO:+1000
TZNAME:AEST
DTSTART:20260404T160000
END:STANDARD
BEGIN:DAYLIGHT
TZOFFSETFROM:+1000
TZOFFSETTO:+1100
TZNAME:AEDT
DTSTART:20261003T160000
END:DAYLIGHT
BEGIN:STANDARD
TZOFFSETFROM:+1100
TZOFFSETTO:+1000
TZNAME:AEST
DTSTART:20270403T160000
END:STANDARD
BEGIN:DAYLIGHT
TZOFFSETFROM:+1000
TZOFFSETTO:+1100
TZNAME:AEDT
DTSTART:20271002T160000
END:DAYLIGHT
BEGIN:STANDARD
TZOFFSETFROM:+1100
TZOFFSETTO:+1000
TZNAME:AEST
DTSTART:20280401T160000
END:STANDARD
BEGIN:DAYLIGHT
TZOFFSETFROM:+1000
TZOFFSETTO:+1100
TZNAME:AEDT
DTSTART:20280930T160000
END:DAYLIGHT
END:VTIMEZONE
BEGIN:VEVENT
DTSTART;TZID=Australia/Sydney:20261231T183000
DTEND;TZID=Australia/Sydney:20261231T183000
DTSTAMP:20260424T054452
CREATED:20251217T025239Z
LAST-MODIFIED:20251220T150443Z
UID:10012712-1798741800-1798741800@pottspointhotel.com.au
SUMMARY:PPH Weekly Meat Raffle!
DESCRIPTION:Every Thursday at Potts Point Hotel!  \n\n\n\n4 Meat trays up for grabs\, tickets on sale from 6:30pm & drawn at 8:30pm. \n\n\n\nJoker Poker Jackpot also drawn at 8:30pm with a rolling Jackpot\, see our socials for this weeks jackpot! Good Luck!
URL:https://pottspointhotel.com.au/events/pph-weekly-meat-raffle/2026-12-31/
LOCATION:Potts Point Hotel\, Ground\, Potts Point Hotel\, Potts Point\, NSW\, 2011\, Australia
CATEGORIES:Potts Point Hotel
ATTACH;FMTTYPE=image/png:https://pottspointhotel.com.au/storage/2025/12/Screenshot-2025-12-17-at-11.38.01-am.png
ORGANIZER;CN="Potts Point Hotel":MAILTO:info@pottspointhotel.com.au
END:VEVENT
BEGIN:VEVENT
DTSTART;TZID=Australia/Sydney:20270103T120000
DTEND;TZID=Australia/Sydney:20270103T120000
DTSTAMP:20260424T054452
CREATED:20240822T040656Z
LAST-MODIFIED:20240822T142945Z
UID:10005072-1798977600-1798977600@pottspointhotel.com.au
SUMMARY:Kids Eat Free
DESCRIPTION:Bring the whole family down for lunch or dinner at the Potts Point Hotel on Sunday to enjoy our kids eat free deal. \n\n\n\nConditions apply:  \n\n\n\nAvailable with the purchase of any main meal. Children under the age of 15 yrs only. Maximum of 2 children per adult ordering a main meal. Free meal is available from kids menu items only.
URL:https://pottspointhotel.com.au/events/kids-eat-free-2/2027-01-03/
LOCATION:Potts Point Hotel\, Ground\, Potts Point Hotel\, Potts Point\, NSW\, 2011\, Australia
CATEGORIES:Sundays
ATTACH;FMTTYPE=image/jpeg:https://pottspointhotel.com.au/storage/2023/01/1-jpg.webp
ORGANIZER;CN="Potts Point Hotel":MAILTO:info@pottspointhotel.com.au
END:VEVENT
BEGIN:VEVENT
DTSTART;TZID=Australia/Sydney:20270103T150000
DTEND;TZID=Australia/Sydney:20270103T180000
DTSTAMP:20260424T054452
CREATED:20221213T122438Z
LAST-MODIFIED:20240822T144353Z
UID:10004290-1798988400-1798999200@pottspointhotel.com.au
SUMMARY:Sunday Live Music
DESCRIPTION:Sundays from 3pm \n\n\n\nKick back and join us downstairs at Potts Point Hotel for live music\, with acoustic sounds every Sunday afternoon from 3pm. \n\n\n\nBook a table for dinner or pop down for light snacks from the bistro with a drink or two to finish off your week.
URL:https://pottspointhotel.com.au/events/sunday-live-music/2027-01-03/
LOCATION:Potts Point Hotel\, Ground\, Potts Point Hotel\, Potts Point\, NSW\, 2011\, Australia
CATEGORIES:Potts Point Hotel,Sundays
ATTACH;FMTTYPE=image/jpeg:https://pottspointhotel.com.au/storage/2022/12/Untitled-design-14-jpg.webp
ORGANIZER;CN="Potts Point Hotel":MAILTO:info@pottspointhotel.com.au
END:VEVENT
BEGIN:VEVENT
DTSTART;TZID=Australia/Sydney:20270107T183000
DTEND;TZID=Australia/Sydney:20270107T183000
DTSTAMP:20260424T054452
CREATED:20251217T025239Z
LAST-MODIFIED:20251220T150443Z
UID:10012713-1799346600-1799346600@pottspointhotel.com.au
SUMMARY:PPH Weekly Meat Raffle!
DESCRIPTION:Every Thursday at Potts Point Hotel!  \n\n\n\n4 Meat trays up for grabs\, tickets on sale from 6:30pm & drawn at 8:30pm. \n\n\n\nJoker Poker Jackpot also drawn at 8:30pm with a rolling Jackpot\, see our socials for this weeks jackpot! Good Luck!
URL:https://pottspointhotel.com.au/events/pph-weekly-meat-raffle/2027-01-07/
LOCATION:Potts Point Hotel\, Ground\, Potts Point Hotel\, Potts Point\, NSW\, 2011\, Australia
CATEGORIES:Potts Point Hotel
ATTACH;FMTTYPE=image/png:https://pottspointhotel.com.au/storage/2025/12/Screenshot-2025-12-17-at-11.38.01-am.png
ORGANIZER;CN="Potts Point Hotel":MAILTO:info@pottspointhotel.com.au
END:VEVENT
BEGIN:VEVENT
DTSTART;TZID=Australia/Sydney:20270110T120000
DTEND;TZID=Australia/Sydney:20270110T120000
DTSTAMP:20260424T054452
CREATED:20240822T040656Z
LAST-MODIFIED:20240822T142945Z
UID:10005073-1799582400-1799582400@pottspointhotel.com.au
SUMMARY:Kids Eat Free
DESCRIPTION:Bring the whole family down for lunch or dinner at the Potts Point Hotel on Sunday to enjoy our kids eat free deal. \n\n\n\nConditions apply:  \n\n\n\nAvailable with the purchase of any main meal. Children under the age of 15 yrs only. Maximum of 2 children per adult ordering a main meal. Free meal is available from kids menu items only.
URL:https://pottspointhotel.com.au/events/kids-eat-free-2/2027-01-10/
LOCATION:Potts Point Hotel\, Ground\, Potts Point Hotel\, Potts Point\, NSW\, 2011\, Australia
CATEGORIES:Sundays
ATTACH;FMTTYPE=image/jpeg:https://pottspointhotel.com.au/storage/2023/01/1-jpg.webp
ORGANIZER;CN="Potts Point Hotel":MAILTO:info@pottspointhotel.com.au
END:VEVENT
BEGIN:VEVENT
DTSTART;TZID=Australia/Sydney:20270110T150000
DTEND;TZID=Australia/Sydney:20270110T180000
DTSTAMP:20260424T054452
CREATED:20221213T122438Z
LAST-MODIFIED:20240822T144353Z
UID:10004291-1799593200-1799604000@pottspointhotel.com.au
SUMMARY:Sunday Live Music
DESCRIPTION:Sundays from 3pm \n\n\n\nKick back and join us downstairs at Potts Point Hotel for live music\, with acoustic sounds every Sunday afternoon from 3pm. \n\n\n\nBook a table for dinner or pop down for light snacks from the bistro with a drink or two to finish off your week.
URL:https://pottspointhotel.com.au/events/sunday-live-music/2027-01-10/
LOCATION:Potts Point Hotel\, Ground\, Potts Point Hotel\, Potts Point\, NSW\, 2011\, Australia
CATEGORIES:Potts Point Hotel,Sundays
ATTACH;FMTTYPE=image/jpeg:https://pottspointhotel.com.au/storage/2022/12/Untitled-design-14-jpg.webp
ORGANIZER;CN="Potts Point Hotel":MAILTO:info@pottspointhotel.com.au
END:VEVENT
BEGIN:VEVENT
DTSTART;TZID=Australia/Sydney:20270114T183000
DTEND;TZID=Australia/Sydney:20270114T183000
DTSTAMP:20260424T054452
CREATED:20251217T025239Z
LAST-MODIFIED:20251220T150443Z
UID:10012714-1799951400-1799951400@pottspointhotel.com.au
SUMMARY:PPH Weekly Meat Raffle!
DESCRIPTION:Every Thursday at Potts Point Hotel!  \n\n\n\n4 Meat trays up for grabs\, tickets on sale from 6:30pm & drawn at 8:30pm. \n\n\n\nJoker Poker Jackpot also drawn at 8:30pm with a rolling Jackpot\, see our socials for this weeks jackpot! Good Luck!
URL:https://pottspointhotel.com.au/events/pph-weekly-meat-raffle/2027-01-14/
LOCATION:Potts Point Hotel\, Ground\, Potts Point Hotel\, Potts Point\, NSW\, 2011\, Australia
CATEGORIES:Potts Point Hotel
ATTACH;FMTTYPE=image/png:https://pottspointhotel.com.au/storage/2025/12/Screenshot-2025-12-17-at-11.38.01-am.png
ORGANIZER;CN="Potts Point Hotel":MAILTO:info@pottspointhotel.com.au
END:VEVENT
BEGIN:VEVENT
DTSTART;TZID=Australia/Sydney:20270117T120000
DTEND;TZID=Australia/Sydney:20270117T120000
DTSTAMP:20260424T054452
CREATED:20240822T040656Z
LAST-MODIFIED:20240822T142945Z
UID:10005074-1800187200-1800187200@pottspointhotel.com.au
SUMMARY:Kids Eat Free
DESCRIPTION:Bring the whole family down for lunch or dinner at the Potts Point Hotel on Sunday to enjoy our kids eat free deal. \n\n\n\nConditions apply:  \n\n\n\nAvailable with the purchase of any main meal. Children under the age of 15 yrs only. Maximum of 2 children per adult ordering a main meal. Free meal is available from kids menu items only.
URL:https://pottspointhotel.com.au/events/kids-eat-free-2/2027-01-17/
LOCATION:Potts Point Hotel\, Ground\, Potts Point Hotel\, Potts Point\, NSW\, 2011\, Australia
CATEGORIES:Sundays
ATTACH;FMTTYPE=image/jpeg:https://pottspointhotel.com.au/storage/2023/01/1-jpg.webp
ORGANIZER;CN="Potts Point Hotel":MAILTO:info@pottspointhotel.com.au
END:VEVENT
BEGIN:VEVENT
DTSTART;TZID=Australia/Sydney:20270117T150000
DTEND;TZID=Australia/Sydney:20270117T180000
DTSTAMP:20260424T054452
CREATED:20221213T122438Z
LAST-MODIFIED:20240822T144353Z
UID:10004292-1800198000-1800208800@pottspointhotel.com.au
SUMMARY:Sunday Live Music
DESCRIPTION:Sundays from 3pm \n\n\n\nKick back and join us downstairs at Potts Point Hotel for live music\, with acoustic sounds every Sunday afternoon from 3pm. \n\n\n\nBook a table for dinner or pop down for light snacks from the bistro with a drink or two to finish off your week.
URL:https://pottspointhotel.com.au/events/sunday-live-music/2027-01-17/
LOCATION:Potts Point Hotel\, Ground\, Potts Point Hotel\, Potts Point\, NSW\, 2011\, Australia
CATEGORIES:Potts Point Hotel,Sundays
ATTACH;FMTTYPE=image/jpeg:https://pottspointhotel.com.au/storage/2022/12/Untitled-design-14-jpg.webp
ORGANIZER;CN="Potts Point Hotel":MAILTO:info@pottspointhotel.com.au
END:VEVENT
BEGIN:VEVENT
DTSTART;TZID=Australia/Sydney:20270121T183000
DTEND;TZID=Australia/Sydney:20270121T183000
DTSTAMP:20260424T054452
CREATED:20251217T025239Z
LAST-MODIFIED:20251220T150443Z
UID:10012715-1800556200-1800556200@pottspointhotel.com.au
SUMMARY:PPH Weekly Meat Raffle!
DESCRIPTION:Every Thursday at Potts Point Hotel!  \n\n\n\n4 Meat trays up for grabs\, tickets on sale from 6:30pm & drawn at 8:30pm. \n\n\n\nJoker Poker Jackpot also drawn at 8:30pm with a rolling Jackpot\, see our socials for this weeks jackpot! Good Luck!
URL:https://pottspointhotel.com.au/events/pph-weekly-meat-raffle/2027-01-21/
LOCATION:Potts Point Hotel\, Ground\, Potts Point Hotel\, Potts Point\, NSW\, 2011\, Australia
CATEGORIES:Potts Point Hotel
ATTACH;FMTTYPE=image/png:https://pottspointhotel.com.au/storage/2025/12/Screenshot-2025-12-17-at-11.38.01-am.png
ORGANIZER;CN="Potts Point Hotel":MAILTO:info@pottspointhotel.com.au
END:VEVENT
BEGIN:VEVENT
DTSTART;TZID=Australia/Sydney:20270124T120000
DTEND;TZID=Australia/Sydney:20270124T120000
DTSTAMP:20260424T054452
CREATED:20240822T040656Z
LAST-MODIFIED:20240822T142945Z
UID:10005075-1800792000-1800792000@pottspointhotel.com.au
SUMMARY:Kids Eat Free
DESCRIPTION:Bring the whole family down for lunch or dinner at the Potts Point Hotel on Sunday to enjoy our kids eat free deal. \n\n\n\nConditions apply:  \n\n\n\nAvailable with the purchase of any main meal. Children under the age of 15 yrs only. Maximum of 2 children per adult ordering a main meal. Free meal is available from kids menu items only.
URL:https://pottspointhotel.com.au/events/kids-eat-free-2/2027-01-24/
LOCATION:Potts Point Hotel\, Ground\, Potts Point Hotel\, Potts Point\, NSW\, 2011\, Australia
CATEGORIES:Sundays
ATTACH;FMTTYPE=image/jpeg:https://pottspointhotel.com.au/storage/2023/01/1-jpg.webp
ORGANIZER;CN="Potts Point Hotel":MAILTO:info@pottspointhotel.com.au
END:VEVENT
BEGIN:VEVENT
DTSTART;TZID=Australia/Sydney:20270124T150000
DTEND;TZID=Australia/Sydney:20270124T180000
DTSTAMP:20260424T054452
CREATED:20221213T122438Z
LAST-MODIFIED:20240822T144353Z
UID:10004293-1800802800-1800813600@pottspointhotel.com.au
SUMMARY:Sunday Live Music
DESCRIPTION:Sundays from 3pm \n\n\n\nKick back and join us downstairs at Potts Point Hotel for live music\, with acoustic sounds every Sunday afternoon from 3pm. \n\n\n\nBook a table for dinner or pop down for light snacks from the bistro with a drink or two to finish off your week.
URL:https://pottspointhotel.com.au/events/sunday-live-music/2027-01-24/
LOCATION:Potts Point Hotel\, Ground\, Potts Point Hotel\, Potts Point\, NSW\, 2011\, Australia
CATEGORIES:Potts Point Hotel,Sundays
ATTACH;FMTTYPE=image/jpeg:https://pottspointhotel.com.au/storage/2022/12/Untitled-design-14-jpg.webp
ORGANIZER;CN="Potts Point Hotel":MAILTO:info@pottspointhotel.com.au
END:VEVENT
BEGIN:VEVENT
DTSTART;TZID=Australia/Sydney:20270128T183000
DTEND;TZID=Australia/Sydney:20270128T183000
DTSTAMP:20260424T054452
CREATED:20251217T025239Z
LAST-MODIFIED:20251220T150443Z
UID:10012716-1801161000-1801161000@pottspointhotel.com.au
SUMMARY:PPH Weekly Meat Raffle!
DESCRIPTION:Every Thursday at Potts Point Hotel!  \n\n\n\n4 Meat trays up for grabs\, tickets on sale from 6:30pm & drawn at 8:30pm. \n\n\n\nJoker Poker Jackpot also drawn at 8:30pm with a rolling Jackpot\, see our socials for this weeks jackpot! Good Luck!
URL:https://pottspointhotel.com.au/events/pph-weekly-meat-raffle/2027-01-28/
LOCATION:Potts Point Hotel\, Ground\, Potts Point Hotel\, Potts Point\, NSW\, 2011\, Australia
CATEGORIES:Potts Point Hotel
ATTACH;FMTTYPE=image/png:https://pottspointhotel.com.au/storage/2025/12/Screenshot-2025-12-17-at-11.38.01-am.png
ORGANIZER;CN="Potts Point Hotel":MAILTO:info@pottspointhotel.com.au
END:VEVENT
BEGIN:VEVENT
DTSTART;TZID=Australia/Sydney:20270131T120000
DTEND;TZID=Australia/Sydney:20270131T120000
DTSTAMP:20260424T054452
CREATED:20240822T040656Z
LAST-MODIFIED:20240822T142945Z
UID:10005076-1801396800-1801396800@pottspointhotel.com.au
SUMMARY:Kids Eat Free
DESCRIPTION:Bring the whole family down for lunch or dinner at the Potts Point Hotel on Sunday to enjoy our kids eat free deal. \n\n\n\nConditions apply:  \n\n\n\nAvailable with the purchase of any main meal. Children under the age of 15 yrs only. Maximum of 2 children per adult ordering a main meal. Free meal is available from kids menu items only.
URL:https://pottspointhotel.com.au/events/kids-eat-free-2/2027-01-31/
LOCATION:Potts Point Hotel\, Ground\, Potts Point Hotel\, Potts Point\, NSW\, 2011\, Australia
CATEGORIES:Sundays
ATTACH;FMTTYPE=image/jpeg:https://pottspointhotel.com.au/storage/2023/01/1-jpg.webp
ORGANIZER;CN="Potts Point Hotel":MAILTO:info@pottspointhotel.com.au
END:VEVENT
BEGIN:VEVENT
DTSTART;TZID=Australia/Sydney:20270131T150000
DTEND;TZID=Australia/Sydney:20270131T180000
DTSTAMP:20260424T054452
CREATED:20221213T122438Z
LAST-MODIFIED:20240822T144353Z
UID:10004294-1801407600-1801418400@pottspointhotel.com.au
SUMMARY:Sunday Live Music
DESCRIPTION:Sundays from 3pm \n\n\n\nKick back and join us downstairs at Potts Point Hotel for live music\, with acoustic sounds every Sunday afternoon from 3pm. \n\n\n\nBook a table for dinner or pop down for light snacks from the bistro with a drink or two to finish off your week.
URL:https://pottspointhotel.com.au/events/sunday-live-music/2027-01-31/
LOCATION:Potts Point Hotel\, Ground\, Potts Point Hotel\, Potts Point\, NSW\, 2011\, Australia
CATEGORIES:Potts Point Hotel,Sundays
ATTACH;FMTTYPE=image/jpeg:https://pottspointhotel.com.au/storage/2022/12/Untitled-design-14-jpg.webp
ORGANIZER;CN="Potts Point Hotel":MAILTO:info@pottspointhotel.com.au
END:VEVENT
BEGIN:VEVENT
DTSTART;TZID=Australia/Sydney:20270204T183000
DTEND;TZID=Australia/Sydney:20270204T183000
DTSTAMP:20260424T054452
CREATED:20251217T025239Z
LAST-MODIFIED:20251220T150443Z
UID:10012717-1801765800-1801765800@pottspointhotel.com.au
SUMMARY:PPH Weekly Meat Raffle!
DESCRIPTION:Every Thursday at Potts Point Hotel!  \n\n\n\n4 Meat trays up for grabs\, tickets on sale from 6:30pm & drawn at 8:30pm. \n\n\n\nJoker Poker Jackpot also drawn at 8:30pm with a rolling Jackpot\, see our socials for this weeks jackpot! Good Luck!
URL:https://pottspointhotel.com.au/events/pph-weekly-meat-raffle/2027-02-04/
LOCATION:Potts Point Hotel\, Ground\, Potts Point Hotel\, Potts Point\, NSW\, 2011\, Australia
CATEGORIES:Potts Point Hotel
ATTACH;FMTTYPE=image/png:https://pottspointhotel.com.au/storage/2025/12/Screenshot-2025-12-17-at-11.38.01-am.png
ORGANIZER;CN="Potts Point Hotel":MAILTO:info@pottspointhotel.com.au
END:VEVENT
BEGIN:VEVENT
DTSTART;TZID=Australia/Sydney:20270207T120000
DTEND;TZID=Australia/Sydney:20270207T120000
DTSTAMP:20260424T054452
CREATED:20240822T040656Z
LAST-MODIFIED:20240822T142945Z
UID:10005077-1802001600-1802001600@pottspointhotel.com.au
SUMMARY:Kids Eat Free
DESCRIPTION:Bring the whole family down for lunch or dinner at the Potts Point Hotel on Sunday to enjoy our kids eat free deal. \n\n\n\nConditions apply:  \n\n\n\nAvailable with the purchase of any main meal. Children under the age of 15 yrs only. Maximum of 2 children per adult ordering a main meal. Free meal is available from kids menu items only.
URL:https://pottspointhotel.com.au/events/kids-eat-free-2/2027-02-07/
LOCATION:Potts Point Hotel\, Ground\, Potts Point Hotel\, Potts Point\, NSW\, 2011\, Australia
CATEGORIES:Sundays
ATTACH;FMTTYPE=image/jpeg:https://pottspointhotel.com.au/storage/2023/01/1-jpg.webp
ORGANIZER;CN="Potts Point Hotel":MAILTO:info@pottspointhotel.com.au
END:VEVENT
BEGIN:VEVENT
DTSTART;TZID=Australia/Sydney:20270207T150000
DTEND;TZID=Australia/Sydney:20270207T180000
DTSTAMP:20260424T054452
CREATED:20221213T122438Z
LAST-MODIFIED:20240822T144353Z
UID:10004295-1802012400-1802023200@pottspointhotel.com.au
SUMMARY:Sunday Live Music
DESCRIPTION:Sundays from 3pm \n\n\n\nKick back and join us downstairs at Potts Point Hotel for live music\, with acoustic sounds every Sunday afternoon from 3pm. \n\n\n\nBook a table for dinner or pop down for light snacks from the bistro with a drink or two to finish off your week.
URL:https://pottspointhotel.com.au/events/sunday-live-music/2027-02-07/
LOCATION:Potts Point Hotel\, Ground\, Potts Point Hotel\, Potts Point\, NSW\, 2011\, Australia
CATEGORIES:Potts Point Hotel,Sundays
ATTACH;FMTTYPE=image/jpeg:https://pottspointhotel.com.au/storage/2022/12/Untitled-design-14-jpg.webp
ORGANIZER;CN="Potts Point Hotel":MAILTO:info@pottspointhotel.com.au
END:VEVENT
BEGIN:VEVENT
DTSTART;TZID=Australia/Sydney:20270211T183000
DTEND;TZID=Australia/Sydney:20270211T183000
DTSTAMP:20260424T054452
CREATED:20251217T025239Z
LAST-MODIFIED:20251220T150443Z
UID:10012718-1802370600-1802370600@pottspointhotel.com.au
SUMMARY:PPH Weekly Meat Raffle!
DESCRIPTION:Every Thursday at Potts Point Hotel!  \n\n\n\n4 Meat trays up for grabs\, tickets on sale from 6:30pm & drawn at 8:30pm. \n\n\n\nJoker Poker Jackpot also drawn at 8:30pm with a rolling Jackpot\, see our socials for this weeks jackpot! Good Luck!
URL:https://pottspointhotel.com.au/events/pph-weekly-meat-raffle/2027-02-11/
LOCATION:Potts Point Hotel\, Ground\, Potts Point Hotel\, Potts Point\, NSW\, 2011\, Australia
CATEGORIES:Potts Point Hotel
ATTACH;FMTTYPE=image/png:https://pottspointhotel.com.au/storage/2025/12/Screenshot-2025-12-17-at-11.38.01-am.png
ORGANIZER;CN="Potts Point Hotel":MAILTO:info@pottspointhotel.com.au
END:VEVENT
BEGIN:VEVENT
DTSTART;TZID=Australia/Sydney:20270214T120000
DTEND;TZID=Australia/Sydney:20270214T120000
DTSTAMP:20260424T054452
CREATED:20240822T040656Z
LAST-MODIFIED:20240822T142945Z
UID:10005078-1802606400-1802606400@pottspointhotel.com.au
SUMMARY:Kids Eat Free
DESCRIPTION:Bring the whole family down for lunch or dinner at the Potts Point Hotel on Sunday to enjoy our kids eat free deal. \n\n\n\nConditions apply:  \n\n\n\nAvailable with the purchase of any main meal. Children under the age of 15 yrs only. Maximum of 2 children per adult ordering a main meal. Free meal is available from kids menu items only.
URL:https://pottspointhotel.com.au/events/kids-eat-free-2/2027-02-14/
LOCATION:Potts Point Hotel\, Ground\, Potts Point Hotel\, Potts Point\, NSW\, 2011\, Australia
CATEGORIES:Sundays
ATTACH;FMTTYPE=image/jpeg:https://pottspointhotel.com.au/storage/2023/01/1-jpg.webp
ORGANIZER;CN="Potts Point Hotel":MAILTO:info@pottspointhotel.com.au
END:VEVENT
BEGIN:VEVENT
DTSTART;TZID=Australia/Sydney:20270214T150000
DTEND;TZID=Australia/Sydney:20270214T180000
DTSTAMP:20260424T054452
CREATED:20221213T122438Z
LAST-MODIFIED:20240822T144353Z
UID:10004296-1802617200-1802628000@pottspointhotel.com.au
SUMMARY:Sunday Live Music
DESCRIPTION:Sundays from 3pm \n\n\n\nKick back and join us downstairs at Potts Point Hotel for live music\, with acoustic sounds every Sunday afternoon from 3pm. \n\n\n\nBook a table for dinner or pop down for light snacks from the bistro with a drink or two to finish off your week.
URL:https://pottspointhotel.com.au/events/sunday-live-music/2027-02-14/
LOCATION:Potts Point Hotel\, Ground\, Potts Point Hotel\, Potts Point\, NSW\, 2011\, Australia
CATEGORIES:Potts Point Hotel,Sundays
ATTACH;FMTTYPE=image/jpeg:https://pottspointhotel.com.au/storage/2022/12/Untitled-design-14-jpg.webp
ORGANIZER;CN="Potts Point Hotel":MAILTO:info@pottspointhotel.com.au
END:VEVENT
BEGIN:VEVENT
DTSTART;TZID=Australia/Sydney:20270218T183000
DTEND;TZID=Australia/Sydney:20270218T183000
DTSTAMP:20260424T054452
CREATED:20251217T025239Z
LAST-MODIFIED:20251220T150443Z
UID:10012719-1802975400-1802975400@pottspointhotel.com.au
SUMMARY:PPH Weekly Meat Raffle!
DESCRIPTION:Every Thursday at Potts Point Hotel!  \n\n\n\n4 Meat trays up for grabs\, tickets on sale from 6:30pm & drawn at 8:30pm. \n\n\n\nJoker Poker Jackpot also drawn at 8:30pm with a rolling Jackpot\, see our socials for this weeks jackpot! Good Luck!
URL:https://pottspointhotel.com.au/events/pph-weekly-meat-raffle/2027-02-18/
LOCATION:Potts Point Hotel\, Ground\, Potts Point Hotel\, Potts Point\, NSW\, 2011\, Australia
CATEGORIES:Potts Point Hotel
ATTACH;FMTTYPE=image/png:https://pottspointhotel.com.au/storage/2025/12/Screenshot-2025-12-17-at-11.38.01-am.png
ORGANIZER;CN="Potts Point Hotel":MAILTO:info@pottspointhotel.com.au
END:VEVENT
BEGIN:VEVENT
DTSTART;TZID=Australia/Sydney:20270221T120000
DTEND;TZID=Australia/Sydney:20270221T120000
DTSTAMP:20260424T054452
CREATED:20240822T040656Z
LAST-MODIFIED:20240822T142945Z
UID:10005079-1803211200-1803211200@pottspointhotel.com.au
SUMMARY:Kids Eat Free
DESCRIPTION:Bring the whole family down for lunch or dinner at the Potts Point Hotel on Sunday to enjoy our kids eat free deal. \n\n\n\nConditions apply:  \n\n\n\nAvailable with the purchase of any main meal. Children under the age of 15 yrs only. Maximum of 2 children per adult ordering a main meal. Free meal is available from kids menu items only.
URL:https://pottspointhotel.com.au/events/kids-eat-free-2/2027-02-21/
LOCATION:Potts Point Hotel\, Ground\, Potts Point Hotel\, Potts Point\, NSW\, 2011\, Australia
CATEGORIES:Sundays
ATTACH;FMTTYPE=image/jpeg:https://pottspointhotel.com.au/storage/2023/01/1-jpg.webp
ORGANIZER;CN="Potts Point Hotel":MAILTO:info@pottspointhotel.com.au
END:VEVENT
BEGIN:VEVENT
DTSTART;TZID=Australia/Sydney:20270221T150000
DTEND;TZID=Australia/Sydney:20270221T180000
DTSTAMP:20260424T054452
CREATED:20221213T122438Z
LAST-MODIFIED:20240822T144353Z
UID:10004297-1803222000-1803232800@pottspointhotel.com.au
SUMMARY:Sunday Live Music
DESCRIPTION:Sundays from 3pm \n\n\n\nKick back and join us downstairs at Potts Point Hotel for live music\, with acoustic sounds every Sunday afternoon from 3pm. \n\n\n\nBook a table for dinner or pop down for light snacks from the bistro with a drink or two to finish off your week.
URL:https://pottspointhotel.com.au/events/sunday-live-music/2027-02-21/
LOCATION:Potts Point Hotel\, Ground\, Potts Point Hotel\, Potts Point\, NSW\, 2011\, Australia
CATEGORIES:Potts Point Hotel,Sundays
ATTACH;FMTTYPE=image/jpeg:https://pottspointhotel.com.au/storage/2022/12/Untitled-design-14-jpg.webp
ORGANIZER;CN="Potts Point Hotel":MAILTO:info@pottspointhotel.com.au
END:VEVENT
BEGIN:VEVENT
DTSTART;TZID=Australia/Sydney:20270225T183000
DTEND;TZID=Australia/Sydney:20270225T183000
DTSTAMP:20260424T054452
CREATED:20251217T025239Z
LAST-MODIFIED:20251220T150443Z
UID:10012720-1803580200-1803580200@pottspointhotel.com.au
SUMMARY:PPH Weekly Meat Raffle!
DESCRIPTION:Every Thursday at Potts Point Hotel!  \n\n\n\n4 Meat trays up for grabs\, tickets on sale from 6:30pm & drawn at 8:30pm. \n\n\n\nJoker Poker Jackpot also drawn at 8:30pm with a rolling Jackpot\, see our socials for this weeks jackpot! Good Luck!
URL:https://pottspointhotel.com.au/events/pph-weekly-meat-raffle/2027-02-25/
LOCATION:Potts Point Hotel\, Ground\, Potts Point Hotel\, Potts Point\, NSW\, 2011\, Australia
CATEGORIES:Potts Point Hotel
ATTACH;FMTTYPE=image/png:https://pottspointhotel.com.au/storage/2025/12/Screenshot-2025-12-17-at-11.38.01-am.png
ORGANIZER;CN="Potts Point Hotel":MAILTO:info@pottspointhotel.com.au
END:VEVENT
BEGIN:VEVENT
DTSTART;TZID=Australia/Sydney:20270228T120000
DTEND;TZID=Australia/Sydney:20270228T120000
DTSTAMP:20260424T054452
CREATED:20240822T040656Z
LAST-MODIFIED:20240822T142945Z
UID:10005080-1803816000-1803816000@pottspointhotel.com.au
SUMMARY:Kids Eat Free
DESCRIPTION:Bring the whole family down for lunch or dinner at the Potts Point Hotel on Sunday to enjoy our kids eat free deal. \n\n\n\nConditions apply:  \n\n\n\nAvailable with the purchase of any main meal. Children under the age of 15 yrs only. Maximum of 2 children per adult ordering a main meal. Free meal is available from kids menu items only.
URL:https://pottspointhotel.com.au/events/kids-eat-free-2/2027-02-28/
LOCATION:Potts Point Hotel\, Ground\, Potts Point Hotel\, Potts Point\, NSW\, 2011\, Australia
CATEGORIES:Sundays
ATTACH;FMTTYPE=image/jpeg:https://pottspointhotel.com.au/storage/2023/01/1-jpg.webp
ORGANIZER;CN="Potts Point Hotel":MAILTO:info@pottspointhotel.com.au
END:VEVENT
BEGIN:VEVENT
DTSTART;TZID=Australia/Sydney:20270228T150000
DTEND;TZID=Australia/Sydney:20270228T180000
DTSTAMP:20260424T054452
CREATED:20221213T122438Z
LAST-MODIFIED:20240822T144353Z
UID:10004298-1803826800-1803837600@pottspointhotel.com.au
SUMMARY:Sunday Live Music
DESCRIPTION:Sundays from 3pm \n\n\n\nKick back and join us downstairs at Potts Point Hotel for live music\, with acoustic sounds every Sunday afternoon from 3pm. \n\n\n\nBook a table for dinner or pop down for light snacks from the bistro with a drink or two to finish off your week.
URL:https://pottspointhotel.com.au/events/sunday-live-music/2027-02-28/
LOCATION:Potts Point Hotel\, Ground\, Potts Point Hotel\, Potts Point\, NSW\, 2011\, Australia
CATEGORIES:Potts Point Hotel,Sundays
ATTACH;FMTTYPE=image/jpeg:https://pottspointhotel.com.au/storage/2022/12/Untitled-design-14-jpg.webp
ORGANIZER;CN="Potts Point Hotel":MAILTO:info@pottspointhotel.com.au
END:VEVENT
BEGIN:VEVENT
DTSTART;TZID=Australia/Sydney:20270304T183000
DTEND;TZID=Australia/Sydney:20270304T183000
DTSTAMP:20260424T054452
CREATED:20251217T025239Z
LAST-MODIFIED:20251220T150443Z
UID:10012721-1804185000-1804185000@pottspointhotel.com.au
SUMMARY:PPH Weekly Meat Raffle!
DESCRIPTION:Every Thursday at Potts Point Hotel!  \n\n\n\n4 Meat trays up for grabs\, tickets on sale from 6:30pm & drawn at 8:30pm. \n\n\n\nJoker Poker Jackpot also drawn at 8:30pm with a rolling Jackpot\, see our socials for this weeks jackpot! Good Luck!
URL:https://pottspointhotel.com.au/events/pph-weekly-meat-raffle/2027-03-04/
LOCATION:Potts Point Hotel\, Ground\, Potts Point Hotel\, Potts Point\, NSW\, 2011\, Australia
CATEGORIES:Potts Point Hotel
ATTACH;FMTTYPE=image/png:https://pottspointhotel.com.au/storage/2025/12/Screenshot-2025-12-17-at-11.38.01-am.png
ORGANIZER;CN="Potts Point Hotel":MAILTO:info@pottspointhotel.com.au
END:VEVENT
BEGIN:VEVENT
DTSTART;TZID=Australia/Sydney:20270307T120000
DTEND;TZID=Australia/Sydney:20270307T120000
DTSTAMP:20260424T054452
CREATED:20240822T040656Z
LAST-MODIFIED:20240822T142945Z
UID:10005081-1804420800-1804420800@pottspointhotel.com.au
SUMMARY:Kids Eat Free
DESCRIPTION:Bring the whole family down for lunch or dinner at the Potts Point Hotel on Sunday to enjoy our kids eat free deal. \n\n\n\nConditions apply:  \n\n\n\nAvailable with the purchase of any main meal. Children under the age of 15 yrs only. Maximum of 2 children per adult ordering a main meal. Free meal is available from kids menu items only.
URL:https://pottspointhotel.com.au/events/kids-eat-free-2/2027-03-07/
LOCATION:Potts Point Hotel\, Ground\, Potts Point Hotel\, Potts Point\, NSW\, 2011\, Australia
CATEGORIES:Sundays
ATTACH;FMTTYPE=image/jpeg:https://pottspointhotel.com.au/storage/2023/01/1-jpg.webp
ORGANIZER;CN="Potts Point Hotel":MAILTO:info@pottspointhotel.com.au
END:VEVENT
BEGIN:VEVENT
DTSTART;TZID=Australia/Sydney:20270307T150000
DTEND;TZID=Australia/Sydney:20270307T180000
DTSTAMP:20260424T054452
CREATED:20221213T122438Z
LAST-MODIFIED:20240822T144353Z
UID:10004299-1804431600-1804442400@pottspointhotel.com.au
SUMMARY:Sunday Live Music
DESCRIPTION:Sundays from 3pm \n\n\n\nKick back and join us downstairs at Potts Point Hotel for live music\, with acoustic sounds every Sunday afternoon from 3pm. \n\n\n\nBook a table for dinner or pop down for light snacks from the bistro with a drink or two to finish off your week.
URL:https://pottspointhotel.com.au/events/sunday-live-music/2027-03-07/
LOCATION:Potts Point Hotel\, Ground\, Potts Point Hotel\, Potts Point\, NSW\, 2011\, Australia
CATEGORIES:Potts Point Hotel,Sundays
ATTACH;FMTTYPE=image/jpeg:https://pottspointhotel.com.au/storage/2022/12/Untitled-design-14-jpg.webp
ORGANIZER;CN="Potts Point Hotel":MAILTO:info@pottspointhotel.com.au
END:VEVENT
END:VCALENDAR