BEGIN:VCALENDAR
VERSION:2.0
PRODID:-//Potts Point Hotel - ECPv6.15.18//NONSGML v1.0//EN
CALSCALE:GREGORIAN
METHOD:PUBLISH
X-ORIGINAL-URL:https://pottspointhotel.com.au
X-WR-CALDESC:Events for Potts Point Hotel
REFRESH-INTERVAL;VALUE=DURATION:PT1H
X-Robots-Tag:noindex
X-PUBLISHED-TTL:PT1H
BEGIN:VTIMEZONE
TZID:Australia/Sydney
BEGIN:STANDARD
TZOFFSETFROM:+1100
TZOFFSETTO:+1000
TZNAME:AEST
DTSTART:20280401T160000
END:STANDARD
BEGIN:DAYLIGHT
TZOFFSETFROM:+1000
TZOFFSETTO:+1100
TZNAME:AEDT
DTSTART:20280930T160000
END:DAYLIGHT
BEGIN:STANDARD
TZOFFSETFROM:+1100
TZOFFSETTO:+1000
TZNAME:AEST
DTSTART:20290331T160000
END:STANDARD
BEGIN:DAYLIGHT
TZOFFSETFROM:+1000
TZOFFSETTO:+1100
TZNAME:AEDT
DTSTART:20291006T160000
END:DAYLIGHT
BEGIN:STANDARD
TZOFFSETFROM:+1100
TZOFFSETTO:+1000
TZNAME:AEST
DTSTART:20300406T160000
END:STANDARD
BEGIN:DAYLIGHT
TZOFFSETFROM:+1000
TZOFFSETTO:+1100
TZNAME:AEDT
DTSTART:20301005T160000
END:DAYLIGHT
END:VTIMEZONE
BEGIN:VEVENT
DTSTART;TZID=Australia/Sydney:20290715T120000
DTEND;TZID=Australia/Sydney:20290715T120000
DTSTAMP:20260423T032503
CREATED:20240822T040656Z
LAST-MODIFIED:20240822T142945Z
UID:10011821-1878811200-1878811200@pottspointhotel.com.au
SUMMARY:Kids Eat Free
DESCRIPTION:Bring the whole family down for lunch or dinner at the Potts Point Hotel on Sunday to enjoy our kids eat free deal. \n\n\n\nConditions apply:  \n\n\n\nAvailable with the purchase of any main meal. Children under the age of 15 yrs only. Maximum of 2 children per adult ordering a main meal. Free meal is available from kids menu items only.
URL:https://pottspointhotel.com.au/events/kids-eat-free-2/2029-07-15/
LOCATION:Potts Point Hotel\, Ground\, Potts Point Hotel\, Potts Point\, NSW\, 2011\, Australia
CATEGORIES:Sundays
ATTACH;FMTTYPE=image/jpeg:https://pottspointhotel.com.au/storage/2023/01/1-jpg.webp
ORGANIZER;CN="Potts Point Hotel":MAILTO:info@pottspointhotel.com.au
END:VEVENT
BEGIN:VEVENT
DTSTART;TZID=Australia/Sydney:20290722T120000
DTEND;TZID=Australia/Sydney:20290722T120000
DTSTAMP:20260423T032503
CREATED:20240822T040656Z
LAST-MODIFIED:20240822T142945Z
UID:10011822-1879416000-1879416000@pottspointhotel.com.au
SUMMARY:Kids Eat Free
DESCRIPTION:Bring the whole family down for lunch or dinner at the Potts Point Hotel on Sunday to enjoy our kids eat free deal. \n\n\n\nConditions apply:  \n\n\n\nAvailable with the purchase of any main meal. Children under the age of 15 yrs only. Maximum of 2 children per adult ordering a main meal. Free meal is available from kids menu items only.
URL:https://pottspointhotel.com.au/events/kids-eat-free-2/2029-07-22/
LOCATION:Potts Point Hotel\, Ground\, Potts Point Hotel\, Potts Point\, NSW\, 2011\, Australia
CATEGORIES:Sundays
ATTACH;FMTTYPE=image/jpeg:https://pottspointhotel.com.au/storage/2023/01/1-jpg.webp
ORGANIZER;CN="Potts Point Hotel":MAILTO:info@pottspointhotel.com.au
END:VEVENT
BEGIN:VEVENT
DTSTART;TZID=Australia/Sydney:20290729T120000
DTEND;TZID=Australia/Sydney:20290729T120000
DTSTAMP:20260423T032503
CREATED:20240822T040656Z
LAST-MODIFIED:20240822T142945Z
UID:10011823-1880020800-1880020800@pottspointhotel.com.au
SUMMARY:Kids Eat Free
DESCRIPTION:Bring the whole family down for lunch or dinner at the Potts Point Hotel on Sunday to enjoy our kids eat free deal. \n\n\n\nConditions apply:  \n\n\n\nAvailable with the purchase of any main meal. Children under the age of 15 yrs only. Maximum of 2 children per adult ordering a main meal. Free meal is available from kids menu items only.
URL:https://pottspointhotel.com.au/events/kids-eat-free-2/2029-07-29/
LOCATION:Potts Point Hotel\, Ground\, Potts Point Hotel\, Potts Point\, NSW\, 2011\, Australia
CATEGORIES:Sundays
ATTACH;FMTTYPE=image/jpeg:https://pottspointhotel.com.au/storage/2023/01/1-jpg.webp
ORGANIZER;CN="Potts Point Hotel":MAILTO:info@pottspointhotel.com.au
END:VEVENT
BEGIN:VEVENT
DTSTART;TZID=Australia/Sydney:20290805T120000
DTEND;TZID=Australia/Sydney:20290805T120000
DTSTAMP:20260423T032503
CREATED:20240822T040656Z
LAST-MODIFIED:20240822T142945Z
UID:10011824-1880625600-1880625600@pottspointhotel.com.au
SUMMARY:Kids Eat Free
DESCRIPTION:Bring the whole family down for lunch or dinner at the Potts Point Hotel on Sunday to enjoy our kids eat free deal. \n\n\n\nConditions apply:  \n\n\n\nAvailable with the purchase of any main meal. Children under the age of 15 yrs only. Maximum of 2 children per adult ordering a main meal. Free meal is available from kids menu items only.
URL:https://pottspointhotel.com.au/events/kids-eat-free-2/2029-08-05/
LOCATION:Potts Point Hotel\, Ground\, Potts Point Hotel\, Potts Point\, NSW\, 2011\, Australia
CATEGORIES:Sundays
ATTACH;FMTTYPE=image/jpeg:https://pottspointhotel.com.au/storage/2023/01/1-jpg.webp
ORGANIZER;CN="Potts Point Hotel":MAILTO:info@pottspointhotel.com.au
END:VEVENT
BEGIN:VEVENT
DTSTART;TZID=Australia/Sydney:20290812T120000
DTEND;TZID=Australia/Sydney:20290812T120000
DTSTAMP:20260423T032503
CREATED:20240822T040656Z
LAST-MODIFIED:20240822T142945Z
UID:10011825-1881230400-1881230400@pottspointhotel.com.au
SUMMARY:Kids Eat Free
DESCRIPTION:Bring the whole family down for lunch or dinner at the Potts Point Hotel on Sunday to enjoy our kids eat free deal. \n\n\n\nConditions apply:  \n\n\n\nAvailable with the purchase of any main meal. Children under the age of 15 yrs only. Maximum of 2 children per adult ordering a main meal. Free meal is available from kids menu items only.
URL:https://pottspointhotel.com.au/events/kids-eat-free-2/2029-08-12/
LOCATION:Potts Point Hotel\, Ground\, Potts Point Hotel\, Potts Point\, NSW\, 2011\, Australia
CATEGORIES:Sundays
ATTACH;FMTTYPE=image/jpeg:https://pottspointhotel.com.au/storage/2023/01/1-jpg.webp
ORGANIZER;CN="Potts Point Hotel":MAILTO:info@pottspointhotel.com.au
END:VEVENT
BEGIN:VEVENT
DTSTART;TZID=Australia/Sydney:20290819T120000
DTEND;TZID=Australia/Sydney:20290819T120000
DTSTAMP:20260423T032503
CREATED:20240822T040656Z
LAST-MODIFIED:20240822T142945Z
UID:10011826-1881835200-1881835200@pottspointhotel.com.au
SUMMARY:Kids Eat Free
DESCRIPTION:Bring the whole family down for lunch or dinner at the Potts Point Hotel on Sunday to enjoy our kids eat free deal. \n\n\n\nConditions apply:  \n\n\n\nAvailable with the purchase of any main meal. Children under the age of 15 yrs only. Maximum of 2 children per adult ordering a main meal. Free meal is available from kids menu items only.
URL:https://pottspointhotel.com.au/events/kids-eat-free-2/2029-08-19/
LOCATION:Potts Point Hotel\, Ground\, Potts Point Hotel\, Potts Point\, NSW\, 2011\, Australia
CATEGORIES:Sundays
ATTACH;FMTTYPE=image/jpeg:https://pottspointhotel.com.au/storage/2023/01/1-jpg.webp
ORGANIZER;CN="Potts Point Hotel":MAILTO:info@pottspointhotel.com.au
END:VEVENT
END:VCALENDAR