BEGIN:VCALENDAR
VERSION:2.0
PRODID:-//Potts Point Hotel - ECPv6.15.18//NONSGML v1.0//EN
CALSCALE:GREGORIAN
METHOD:PUBLISH
X-ORIGINAL-URL:https://pottspointhotel.com.au
X-WR-CALDESC:Events for Potts Point Hotel
REFRESH-INTERVAL;VALUE=DURATION:PT1H
X-Robots-Tag:noindex
X-PUBLISHED-TTL:PT1H
BEGIN:VTIMEZONE
TZID:Australia/Sydney
BEGIN:STANDARD
TZOFFSETFROM:+1100
TZOFFSETTO:+1000
TZNAME:AEST
DTSTART:20260404T160000
END:STANDARD
BEGIN:DAYLIGHT
TZOFFSETFROM:+1000
TZOFFSETTO:+1100
TZNAME:AEDT
DTSTART:20261003T160000
END:DAYLIGHT
BEGIN:STANDARD
TZOFFSETFROM:+1100
TZOFFSETTO:+1000
TZNAME:AEST
DTSTART:20270403T160000
END:STANDARD
BEGIN:DAYLIGHT
TZOFFSETFROM:+1000
TZOFFSETTO:+1100
TZNAME:AEDT
DTSTART:20271002T160000
END:DAYLIGHT
BEGIN:STANDARD
TZOFFSETFROM:+1100
TZOFFSETTO:+1000
TZNAME:AEST
DTSTART:20280401T160000
END:STANDARD
BEGIN:DAYLIGHT
TZOFFSETFROM:+1000
TZOFFSETTO:+1100
TZNAME:AEDT
DTSTART:20280930T160000
END:DAYLIGHT
END:VTIMEZONE
BEGIN:VEVENT
DTSTART;TZID=Australia/Sydney:20270812T183000
DTEND;TZID=Australia/Sydney:20270812T183000
DTSTAMP:20260424T151844
CREATED:20251217T025239Z
LAST-MODIFIED:20251220T150443Z
UID:10012744-1818095400-1818095400@pottspointhotel.com.au
SUMMARY:PPH Weekly Meat Raffle!
DESCRIPTION:Every Thursday at Potts Point Hotel!  \n\n\n\n4 Meat trays up for grabs\, tickets on sale from 6:30pm & drawn at 8:30pm. \n\n\n\nJoker Poker Jackpot also drawn at 8:30pm with a rolling Jackpot\, see our socials for this weeks jackpot! Good Luck!
URL:https://pottspointhotel.com.au/events/pph-weekly-meat-raffle/2027-08-12/
LOCATION:Potts Point Hotel\, Ground\, Potts Point Hotel\, Potts Point\, NSW\, 2011\, Australia
CATEGORIES:Potts Point Hotel
ATTACH;FMTTYPE=image/png:https://pottspointhotel.com.au/storage/2025/12/Screenshot-2025-12-17-at-11.38.01-am.png
ORGANIZER;CN="Potts Point Hotel":MAILTO:info@pottspointhotel.com.au
END:VEVENT
BEGIN:VEVENT
DTSTART;TZID=Australia/Sydney:20270815T120000
DTEND;TZID=Australia/Sydney:20270815T120000
DTSTAMP:20260424T151844
CREATED:20240822T040656Z
LAST-MODIFIED:20240822T142945Z
UID:10005104-1818331200-1818331200@pottspointhotel.com.au
SUMMARY:Kids Eat Free
DESCRIPTION:Bring the whole family down for lunch or dinner at the Potts Point Hotel on Sunday to enjoy our kids eat free deal. \n\n\n\nConditions apply:  \n\n\n\nAvailable with the purchase of any main meal. Children under the age of 15 yrs only. Maximum of 2 children per adult ordering a main meal. Free meal is available from kids menu items only.
URL:https://pottspointhotel.com.au/events/kids-eat-free-2/2027-08-15/
LOCATION:Potts Point Hotel\, Ground\, Potts Point Hotel\, Potts Point\, NSW\, 2011\, Australia
CATEGORIES:Sundays
ATTACH;FMTTYPE=image/jpeg:https://pottspointhotel.com.au/storage/2023/01/1-jpg.webp
ORGANIZER;CN="Potts Point Hotel":MAILTO:info@pottspointhotel.com.au
END:VEVENT
BEGIN:VEVENT
DTSTART;TZID=Australia/Sydney:20270815T150000
DTEND;TZID=Australia/Sydney:20270815T180000
DTSTAMP:20260424T151844
CREATED:20221213T122438Z
LAST-MODIFIED:20240822T144353Z
UID:10004322-1818342000-1818352800@pottspointhotel.com.au
SUMMARY:Sunday Live Music
DESCRIPTION:Sundays from 3pm \n\n\n\nKick back and join us downstairs at Potts Point Hotel for live music\, with acoustic sounds every Sunday afternoon from 3pm. \n\n\n\nBook a table for dinner or pop down for light snacks from the bistro with a drink or two to finish off your week.
URL:https://pottspointhotel.com.au/events/sunday-live-music/2027-08-15/
LOCATION:Potts Point Hotel\, Ground\, Potts Point Hotel\, Potts Point\, NSW\, 2011\, Australia
CATEGORIES:Potts Point Hotel,Sundays
ATTACH;FMTTYPE=image/jpeg:https://pottspointhotel.com.au/storage/2022/12/Untitled-design-14-jpg.webp
ORGANIZER;CN="Potts Point Hotel":MAILTO:info@pottspointhotel.com.au
END:VEVENT
BEGIN:VEVENT
DTSTART;TZID=Australia/Sydney:20270819T183000
DTEND;TZID=Australia/Sydney:20270819T183000
DTSTAMP:20260424T151844
CREATED:20251217T025239Z
LAST-MODIFIED:20251220T150443Z
UID:10012745-1818700200-1818700200@pottspointhotel.com.au
SUMMARY:PPH Weekly Meat Raffle!
DESCRIPTION:Every Thursday at Potts Point Hotel!  \n\n\n\n4 Meat trays up for grabs\, tickets on sale from 6:30pm & drawn at 8:30pm. \n\n\n\nJoker Poker Jackpot also drawn at 8:30pm with a rolling Jackpot\, see our socials for this weeks jackpot! Good Luck!
URL:https://pottspointhotel.com.au/events/pph-weekly-meat-raffle/2027-08-19/
LOCATION:Potts Point Hotel\, Ground\, Potts Point Hotel\, Potts Point\, NSW\, 2011\, Australia
CATEGORIES:Potts Point Hotel
ATTACH;FMTTYPE=image/png:https://pottspointhotel.com.au/storage/2025/12/Screenshot-2025-12-17-at-11.38.01-am.png
ORGANIZER;CN="Potts Point Hotel":MAILTO:info@pottspointhotel.com.au
END:VEVENT
BEGIN:VEVENT
DTSTART;TZID=Australia/Sydney:20270822T120000
DTEND;TZID=Australia/Sydney:20270822T120000
DTSTAMP:20260424T151844
CREATED:20240822T040656Z
LAST-MODIFIED:20240822T142945Z
UID:10005105-1818936000-1818936000@pottspointhotel.com.au
SUMMARY:Kids Eat Free
DESCRIPTION:Bring the whole family down for lunch or dinner at the Potts Point Hotel on Sunday to enjoy our kids eat free deal. \n\n\n\nConditions apply:  \n\n\n\nAvailable with the purchase of any main meal. Children under the age of 15 yrs only. Maximum of 2 children per adult ordering a main meal. Free meal is available from kids menu items only.
URL:https://pottspointhotel.com.au/events/kids-eat-free-2/2027-08-22/
LOCATION:Potts Point Hotel\, Ground\, Potts Point Hotel\, Potts Point\, NSW\, 2011\, Australia
CATEGORIES:Sundays
ATTACH;FMTTYPE=image/jpeg:https://pottspointhotel.com.au/storage/2023/01/1-jpg.webp
ORGANIZER;CN="Potts Point Hotel":MAILTO:info@pottspointhotel.com.au
END:VEVENT
BEGIN:VEVENT
DTSTART;TZID=Australia/Sydney:20270822T150000
DTEND;TZID=Australia/Sydney:20270822T180000
DTSTAMP:20260424T151844
CREATED:20221213T122438Z
LAST-MODIFIED:20240822T144353Z
UID:10004323-1818946800-1818957600@pottspointhotel.com.au
SUMMARY:Sunday Live Music
DESCRIPTION:Sundays from 3pm \n\n\n\nKick back and join us downstairs at Potts Point Hotel for live music\, with acoustic sounds every Sunday afternoon from 3pm. \n\n\n\nBook a table for dinner or pop down for light snacks from the bistro with a drink or two to finish off your week.
URL:https://pottspointhotel.com.au/events/sunday-live-music/2027-08-22/
LOCATION:Potts Point Hotel\, Ground\, Potts Point Hotel\, Potts Point\, NSW\, 2011\, Australia
CATEGORIES:Potts Point Hotel,Sundays
ATTACH;FMTTYPE=image/jpeg:https://pottspointhotel.com.au/storage/2022/12/Untitled-design-14-jpg.webp
ORGANIZER;CN="Potts Point Hotel":MAILTO:info@pottspointhotel.com.au
END:VEVENT
BEGIN:VEVENT
DTSTART;TZID=Australia/Sydney:20270826T183000
DTEND;TZID=Australia/Sydney:20270826T183000
DTSTAMP:20260424T151844
CREATED:20251217T025239Z
LAST-MODIFIED:20251220T150443Z
UID:10012746-1819305000-1819305000@pottspointhotel.com.au
SUMMARY:PPH Weekly Meat Raffle!
DESCRIPTION:Every Thursday at Potts Point Hotel!  \n\n\n\n4 Meat trays up for grabs\, tickets on sale from 6:30pm & drawn at 8:30pm. \n\n\n\nJoker Poker Jackpot also drawn at 8:30pm with a rolling Jackpot\, see our socials for this weeks jackpot! Good Luck!
URL:https://pottspointhotel.com.au/events/pph-weekly-meat-raffle/2027-08-26/
LOCATION:Potts Point Hotel\, Ground\, Potts Point Hotel\, Potts Point\, NSW\, 2011\, Australia
CATEGORIES:Potts Point Hotel
ATTACH;FMTTYPE=image/png:https://pottspointhotel.com.au/storage/2025/12/Screenshot-2025-12-17-at-11.38.01-am.png
ORGANIZER;CN="Potts Point Hotel":MAILTO:info@pottspointhotel.com.au
END:VEVENT
BEGIN:VEVENT
DTSTART;TZID=Australia/Sydney:20270829T120000
DTEND;TZID=Australia/Sydney:20270829T120000
DTSTAMP:20260424T151844
CREATED:20240822T040656Z
LAST-MODIFIED:20240822T142945Z
UID:10005106-1819540800-1819540800@pottspointhotel.com.au
SUMMARY:Kids Eat Free
DESCRIPTION:Bring the whole family down for lunch or dinner at the Potts Point Hotel on Sunday to enjoy our kids eat free deal. \n\n\n\nConditions apply:  \n\n\n\nAvailable with the purchase of any main meal. Children under the age of 15 yrs only. Maximum of 2 children per adult ordering a main meal. Free meal is available from kids menu items only.
URL:https://pottspointhotel.com.au/events/kids-eat-free-2/2027-08-29/
LOCATION:Potts Point Hotel\, Ground\, Potts Point Hotel\, Potts Point\, NSW\, 2011\, Australia
CATEGORIES:Sundays
ATTACH;FMTTYPE=image/jpeg:https://pottspointhotel.com.au/storage/2023/01/1-jpg.webp
ORGANIZER;CN="Potts Point Hotel":MAILTO:info@pottspointhotel.com.au
END:VEVENT
BEGIN:VEVENT
DTSTART;TZID=Australia/Sydney:20270829T150000
DTEND;TZID=Australia/Sydney:20270829T180000
DTSTAMP:20260424T151844
CREATED:20221213T122438Z
LAST-MODIFIED:20240822T144353Z
UID:10004324-1819551600-1819562400@pottspointhotel.com.au
SUMMARY:Sunday Live Music
DESCRIPTION:Sundays from 3pm \n\n\n\nKick back and join us downstairs at Potts Point Hotel for live music\, with acoustic sounds every Sunday afternoon from 3pm. \n\n\n\nBook a table for dinner or pop down for light snacks from the bistro with a drink or two to finish off your week.
URL:https://pottspointhotel.com.au/events/sunday-live-music/2027-08-29/
LOCATION:Potts Point Hotel\, Ground\, Potts Point Hotel\, Potts Point\, NSW\, 2011\, Australia
CATEGORIES:Potts Point Hotel,Sundays
ATTACH;FMTTYPE=image/jpeg:https://pottspointhotel.com.au/storage/2022/12/Untitled-design-14-jpg.webp
ORGANIZER;CN="Potts Point Hotel":MAILTO:info@pottspointhotel.com.au
END:VEVENT
BEGIN:VEVENT
DTSTART;TZID=Australia/Sydney:20270902T183000
DTEND;TZID=Australia/Sydney:20270902T183000
DTSTAMP:20260424T151844
CREATED:20251217T025239Z
LAST-MODIFIED:20251220T150443Z
UID:10012747-1819909800-1819909800@pottspointhotel.com.au
SUMMARY:PPH Weekly Meat Raffle!
DESCRIPTION:Every Thursday at Potts Point Hotel!  \n\n\n\n4 Meat trays up for grabs\, tickets on sale from 6:30pm & drawn at 8:30pm. \n\n\n\nJoker Poker Jackpot also drawn at 8:30pm with a rolling Jackpot\, see our socials for this weeks jackpot! Good Luck!
URL:https://pottspointhotel.com.au/events/pph-weekly-meat-raffle/2027-09-02/
LOCATION:Potts Point Hotel\, Ground\, Potts Point Hotel\, Potts Point\, NSW\, 2011\, Australia
CATEGORIES:Potts Point Hotel
ATTACH;FMTTYPE=image/png:https://pottspointhotel.com.au/storage/2025/12/Screenshot-2025-12-17-at-11.38.01-am.png
ORGANIZER;CN="Potts Point Hotel":MAILTO:info@pottspointhotel.com.au
END:VEVENT
BEGIN:VEVENT
DTSTART;TZID=Australia/Sydney:20270905T120000
DTEND;TZID=Australia/Sydney:20270905T120000
DTSTAMP:20260424T151844
CREATED:20240822T040656Z
LAST-MODIFIED:20240822T142945Z
UID:10005107-1820145600-1820145600@pottspointhotel.com.au
SUMMARY:Kids Eat Free
DESCRIPTION:Bring the whole family down for lunch or dinner at the Potts Point Hotel on Sunday to enjoy our kids eat free deal. \n\n\n\nConditions apply:  \n\n\n\nAvailable with the purchase of any main meal. Children under the age of 15 yrs only. Maximum of 2 children per adult ordering a main meal. Free meal is available from kids menu items only.
URL:https://pottspointhotel.com.au/events/kids-eat-free-2/2027-09-05/
LOCATION:Potts Point Hotel\, Ground\, Potts Point Hotel\, Potts Point\, NSW\, 2011\, Australia
CATEGORIES:Sundays
ATTACH;FMTTYPE=image/jpeg:https://pottspointhotel.com.au/storage/2023/01/1-jpg.webp
ORGANIZER;CN="Potts Point Hotel":MAILTO:info@pottspointhotel.com.au
END:VEVENT
BEGIN:VEVENT
DTSTART;TZID=Australia/Sydney:20270905T150000
DTEND;TZID=Australia/Sydney:20270905T180000
DTSTAMP:20260424T151844
CREATED:20221213T122438Z
LAST-MODIFIED:20240822T144353Z
UID:10004325-1820156400-1820167200@pottspointhotel.com.au
SUMMARY:Sunday Live Music
DESCRIPTION:Sundays from 3pm \n\n\n\nKick back and join us downstairs at Potts Point Hotel for live music\, with acoustic sounds every Sunday afternoon from 3pm. \n\n\n\nBook a table for dinner or pop down for light snacks from the bistro with a drink or two to finish off your week.
URL:https://pottspointhotel.com.au/events/sunday-live-music/2027-09-05/
LOCATION:Potts Point Hotel\, Ground\, Potts Point Hotel\, Potts Point\, NSW\, 2011\, Australia
CATEGORIES:Potts Point Hotel,Sundays
ATTACH;FMTTYPE=image/jpeg:https://pottspointhotel.com.au/storage/2022/12/Untitled-design-14-jpg.webp
ORGANIZER;CN="Potts Point Hotel":MAILTO:info@pottspointhotel.com.au
END:VEVENT
BEGIN:VEVENT
DTSTART;TZID=Australia/Sydney:20270909T183000
DTEND;TZID=Australia/Sydney:20270909T183000
DTSTAMP:20260424T151844
CREATED:20251217T025239Z
LAST-MODIFIED:20251220T150443Z
UID:10012748-1820514600-1820514600@pottspointhotel.com.au
SUMMARY:PPH Weekly Meat Raffle!
DESCRIPTION:Every Thursday at Potts Point Hotel!  \n\n\n\n4 Meat trays up for grabs\, tickets on sale from 6:30pm & drawn at 8:30pm. \n\n\n\nJoker Poker Jackpot also drawn at 8:30pm with a rolling Jackpot\, see our socials for this weeks jackpot! Good Luck!
URL:https://pottspointhotel.com.au/events/pph-weekly-meat-raffle/2027-09-09/
LOCATION:Potts Point Hotel\, Ground\, Potts Point Hotel\, Potts Point\, NSW\, 2011\, Australia
CATEGORIES:Potts Point Hotel
ATTACH;FMTTYPE=image/png:https://pottspointhotel.com.au/storage/2025/12/Screenshot-2025-12-17-at-11.38.01-am.png
ORGANIZER;CN="Potts Point Hotel":MAILTO:info@pottspointhotel.com.au
END:VEVENT
BEGIN:VEVENT
DTSTART;TZID=Australia/Sydney:20270912T120000
DTEND;TZID=Australia/Sydney:20270912T120000
DTSTAMP:20260424T151844
CREATED:20240822T040656Z
LAST-MODIFIED:20240822T142945Z
UID:10005108-1820750400-1820750400@pottspointhotel.com.au
SUMMARY:Kids Eat Free
DESCRIPTION:Bring the whole family down for lunch or dinner at the Potts Point Hotel on Sunday to enjoy our kids eat free deal. \n\n\n\nConditions apply:  \n\n\n\nAvailable with the purchase of any main meal. Children under the age of 15 yrs only. Maximum of 2 children per adult ordering a main meal. Free meal is available from kids menu items only.
URL:https://pottspointhotel.com.au/events/kids-eat-free-2/2027-09-12/
LOCATION:Potts Point Hotel\, Ground\, Potts Point Hotel\, Potts Point\, NSW\, 2011\, Australia
CATEGORIES:Sundays
ATTACH;FMTTYPE=image/jpeg:https://pottspointhotel.com.au/storage/2023/01/1-jpg.webp
ORGANIZER;CN="Potts Point Hotel":MAILTO:info@pottspointhotel.com.au
END:VEVENT
BEGIN:VEVENT
DTSTART;TZID=Australia/Sydney:20270912T150000
DTEND;TZID=Australia/Sydney:20270912T180000
DTSTAMP:20260424T151844
CREATED:20221213T122438Z
LAST-MODIFIED:20240822T144353Z
UID:10004326-1820761200-1820772000@pottspointhotel.com.au
SUMMARY:Sunday Live Music
DESCRIPTION:Sundays from 3pm \n\n\n\nKick back and join us downstairs at Potts Point Hotel for live music\, with acoustic sounds every Sunday afternoon from 3pm. \n\n\n\nBook a table for dinner or pop down for light snacks from the bistro with a drink or two to finish off your week.
URL:https://pottspointhotel.com.au/events/sunday-live-music/2027-09-12/
LOCATION:Potts Point Hotel\, Ground\, Potts Point Hotel\, Potts Point\, NSW\, 2011\, Australia
CATEGORIES:Potts Point Hotel,Sundays
ATTACH;FMTTYPE=image/jpeg:https://pottspointhotel.com.au/storage/2022/12/Untitled-design-14-jpg.webp
ORGANIZER;CN="Potts Point Hotel":MAILTO:info@pottspointhotel.com.au
END:VEVENT
BEGIN:VEVENT
DTSTART;TZID=Australia/Sydney:20270916T183000
DTEND;TZID=Australia/Sydney:20270916T183000
DTSTAMP:20260424T151844
CREATED:20251217T025239Z
LAST-MODIFIED:20251220T150443Z
UID:10012749-1821119400-1821119400@pottspointhotel.com.au
SUMMARY:PPH Weekly Meat Raffle!
DESCRIPTION:Every Thursday at Potts Point Hotel!  \n\n\n\n4 Meat trays up for grabs\, tickets on sale from 6:30pm & drawn at 8:30pm. \n\n\n\nJoker Poker Jackpot also drawn at 8:30pm with a rolling Jackpot\, see our socials for this weeks jackpot! Good Luck!
URL:https://pottspointhotel.com.au/events/pph-weekly-meat-raffle/2027-09-16/
LOCATION:Potts Point Hotel\, Ground\, Potts Point Hotel\, Potts Point\, NSW\, 2011\, Australia
CATEGORIES:Potts Point Hotel
ATTACH;FMTTYPE=image/png:https://pottspointhotel.com.au/storage/2025/12/Screenshot-2025-12-17-at-11.38.01-am.png
ORGANIZER;CN="Potts Point Hotel":MAILTO:info@pottspointhotel.com.au
END:VEVENT
BEGIN:VEVENT
DTSTART;TZID=Australia/Sydney:20270919T120000
DTEND;TZID=Australia/Sydney:20270919T120000
DTSTAMP:20260424T151844
CREATED:20240822T040656Z
LAST-MODIFIED:20240822T142945Z
UID:10005109-1821355200-1821355200@pottspointhotel.com.au
SUMMARY:Kids Eat Free
DESCRIPTION:Bring the whole family down for lunch or dinner at the Potts Point Hotel on Sunday to enjoy our kids eat free deal. \n\n\n\nConditions apply:  \n\n\n\nAvailable with the purchase of any main meal. Children under the age of 15 yrs only. Maximum of 2 children per adult ordering a main meal. Free meal is available from kids menu items only.
URL:https://pottspointhotel.com.au/events/kids-eat-free-2/2027-09-19/
LOCATION:Potts Point Hotel\, Ground\, Potts Point Hotel\, Potts Point\, NSW\, 2011\, Australia
CATEGORIES:Sundays
ATTACH;FMTTYPE=image/jpeg:https://pottspointhotel.com.au/storage/2023/01/1-jpg.webp
ORGANIZER;CN="Potts Point Hotel":MAILTO:info@pottspointhotel.com.au
END:VEVENT
BEGIN:VEVENT
DTSTART;TZID=Australia/Sydney:20270919T150000
DTEND;TZID=Australia/Sydney:20270919T180000
DTSTAMP:20260424T151844
CREATED:20221213T122438Z
LAST-MODIFIED:20240822T144353Z
UID:10004327-1821366000-1821376800@pottspointhotel.com.au
SUMMARY:Sunday Live Music
DESCRIPTION:Sundays from 3pm \n\n\n\nKick back and join us downstairs at Potts Point Hotel for live music\, with acoustic sounds every Sunday afternoon from 3pm. \n\n\n\nBook a table for dinner or pop down for light snacks from the bistro with a drink or two to finish off your week.
URL:https://pottspointhotel.com.au/events/sunday-live-music/2027-09-19/
LOCATION:Potts Point Hotel\, Ground\, Potts Point Hotel\, Potts Point\, NSW\, 2011\, Australia
CATEGORIES:Potts Point Hotel,Sundays
ATTACH;FMTTYPE=image/jpeg:https://pottspointhotel.com.au/storage/2022/12/Untitled-design-14-jpg.webp
ORGANIZER;CN="Potts Point Hotel":MAILTO:info@pottspointhotel.com.au
END:VEVENT
BEGIN:VEVENT
DTSTART;TZID=Australia/Sydney:20270923T183000
DTEND;TZID=Australia/Sydney:20270923T183000
DTSTAMP:20260424T151844
CREATED:20251217T025239Z
LAST-MODIFIED:20251220T150443Z
UID:10012750-1821724200-1821724200@pottspointhotel.com.au
SUMMARY:PPH Weekly Meat Raffle!
DESCRIPTION:Every Thursday at Potts Point Hotel!  \n\n\n\n4 Meat trays up for grabs\, tickets on sale from 6:30pm & drawn at 8:30pm. \n\n\n\nJoker Poker Jackpot also drawn at 8:30pm with a rolling Jackpot\, see our socials for this weeks jackpot! Good Luck!
URL:https://pottspointhotel.com.au/events/pph-weekly-meat-raffle/2027-09-23/
LOCATION:Potts Point Hotel\, Ground\, Potts Point Hotel\, Potts Point\, NSW\, 2011\, Australia
CATEGORIES:Potts Point Hotel
ATTACH;FMTTYPE=image/png:https://pottspointhotel.com.au/storage/2025/12/Screenshot-2025-12-17-at-11.38.01-am.png
ORGANIZER;CN="Potts Point Hotel":MAILTO:info@pottspointhotel.com.au
END:VEVENT
BEGIN:VEVENT
DTSTART;TZID=Australia/Sydney:20270926T120000
DTEND;TZID=Australia/Sydney:20270926T120000
DTSTAMP:20260424T151844
CREATED:20240822T040656Z
LAST-MODIFIED:20240822T142945Z
UID:10005110-1821960000-1821960000@pottspointhotel.com.au
SUMMARY:Kids Eat Free
DESCRIPTION:Bring the whole family down for lunch or dinner at the Potts Point Hotel on Sunday to enjoy our kids eat free deal. \n\n\n\nConditions apply:  \n\n\n\nAvailable with the purchase of any main meal. Children under the age of 15 yrs only. Maximum of 2 children per adult ordering a main meal. Free meal is available from kids menu items only.
URL:https://pottspointhotel.com.au/events/kids-eat-free-2/2027-09-26/
LOCATION:Potts Point Hotel\, Ground\, Potts Point Hotel\, Potts Point\, NSW\, 2011\, Australia
CATEGORIES:Sundays
ATTACH;FMTTYPE=image/jpeg:https://pottspointhotel.com.au/storage/2023/01/1-jpg.webp
ORGANIZER;CN="Potts Point Hotel":MAILTO:info@pottspointhotel.com.au
END:VEVENT
BEGIN:VEVENT
DTSTART;TZID=Australia/Sydney:20270926T150000
DTEND;TZID=Australia/Sydney:20270926T180000
DTSTAMP:20260424T151844
CREATED:20221213T122438Z
LAST-MODIFIED:20240822T144353Z
UID:10004328-1821970800-1821981600@pottspointhotel.com.au
SUMMARY:Sunday Live Music
DESCRIPTION:Sundays from 3pm \n\n\n\nKick back and join us downstairs at Potts Point Hotel for live music\, with acoustic sounds every Sunday afternoon from 3pm. \n\n\n\nBook a table for dinner or pop down for light snacks from the bistro with a drink or two to finish off your week.
URL:https://pottspointhotel.com.au/events/sunday-live-music/2027-09-26/
LOCATION:Potts Point Hotel\, Ground\, Potts Point Hotel\, Potts Point\, NSW\, 2011\, Australia
CATEGORIES:Potts Point Hotel,Sundays
ATTACH;FMTTYPE=image/jpeg:https://pottspointhotel.com.au/storage/2022/12/Untitled-design-14-jpg.webp
ORGANIZER;CN="Potts Point Hotel":MAILTO:info@pottspointhotel.com.au
END:VEVENT
BEGIN:VEVENT
DTSTART;TZID=Australia/Sydney:20270930T183000
DTEND;TZID=Australia/Sydney:20270930T183000
DTSTAMP:20260424T151844
CREATED:20251217T025239Z
LAST-MODIFIED:20251220T150443Z
UID:10012751-1822329000-1822329000@pottspointhotel.com.au
SUMMARY:PPH Weekly Meat Raffle!
DESCRIPTION:Every Thursday at Potts Point Hotel!  \n\n\n\n4 Meat trays up for grabs\, tickets on sale from 6:30pm & drawn at 8:30pm. \n\n\n\nJoker Poker Jackpot also drawn at 8:30pm with a rolling Jackpot\, see our socials for this weeks jackpot! Good Luck!
URL:https://pottspointhotel.com.au/events/pph-weekly-meat-raffle/2027-09-30/
LOCATION:Potts Point Hotel\, Ground\, Potts Point Hotel\, Potts Point\, NSW\, 2011\, Australia
CATEGORIES:Potts Point Hotel
ATTACH;FMTTYPE=image/png:https://pottspointhotel.com.au/storage/2025/12/Screenshot-2025-12-17-at-11.38.01-am.png
ORGANIZER;CN="Potts Point Hotel":MAILTO:info@pottspointhotel.com.au
END:VEVENT
BEGIN:VEVENT
DTSTART;TZID=Australia/Sydney:20271003T120000
DTEND;TZID=Australia/Sydney:20271003T120000
DTSTAMP:20260424T151844
CREATED:20240822T040656Z
LAST-MODIFIED:20240822T142945Z
UID:10005111-1822564800-1822564800@pottspointhotel.com.au
SUMMARY:Kids Eat Free
DESCRIPTION:Bring the whole family down for lunch or dinner at the Potts Point Hotel on Sunday to enjoy our kids eat free deal. \n\n\n\nConditions apply:  \n\n\n\nAvailable with the purchase of any main meal. Children under the age of 15 yrs only. Maximum of 2 children per adult ordering a main meal. Free meal is available from kids menu items only.
URL:https://pottspointhotel.com.au/events/kids-eat-free-2/2027-10-03/
LOCATION:Potts Point Hotel\, Ground\, Potts Point Hotel\, Potts Point\, NSW\, 2011\, Australia
CATEGORIES:Sundays
ATTACH;FMTTYPE=image/jpeg:https://pottspointhotel.com.au/storage/2023/01/1-jpg.webp
ORGANIZER;CN="Potts Point Hotel":MAILTO:info@pottspointhotel.com.au
END:VEVENT
BEGIN:VEVENT
DTSTART;TZID=Australia/Sydney:20271003T150000
DTEND;TZID=Australia/Sydney:20271003T180000
DTSTAMP:20260424T151844
CREATED:20221213T122438Z
LAST-MODIFIED:20240822T144353Z
UID:10004329-1822575600-1822586400@pottspointhotel.com.au
SUMMARY:Sunday Live Music
DESCRIPTION:Sundays from 3pm \n\n\n\nKick back and join us downstairs at Potts Point Hotel for live music\, with acoustic sounds every Sunday afternoon from 3pm. \n\n\n\nBook a table for dinner or pop down for light snacks from the bistro with a drink or two to finish off your week.
URL:https://pottspointhotel.com.au/events/sunday-live-music/2027-10-03/
LOCATION:Potts Point Hotel\, Ground\, Potts Point Hotel\, Potts Point\, NSW\, 2011\, Australia
CATEGORIES:Potts Point Hotel,Sundays
ATTACH;FMTTYPE=image/jpeg:https://pottspointhotel.com.au/storage/2022/12/Untitled-design-14-jpg.webp
ORGANIZER;CN="Potts Point Hotel":MAILTO:info@pottspointhotel.com.au
END:VEVENT
BEGIN:VEVENT
DTSTART;TZID=Australia/Sydney:20271007T183000
DTEND;TZID=Australia/Sydney:20271007T183000
DTSTAMP:20260424T151844
CREATED:20251217T025239Z
LAST-MODIFIED:20251220T150443Z
UID:10012752-1822933800-1822933800@pottspointhotel.com.au
SUMMARY:PPH Weekly Meat Raffle!
DESCRIPTION:Every Thursday at Potts Point Hotel!  \n\n\n\n4 Meat trays up for grabs\, tickets on sale from 6:30pm & drawn at 8:30pm. \n\n\n\nJoker Poker Jackpot also drawn at 8:30pm with a rolling Jackpot\, see our socials for this weeks jackpot! Good Luck!
URL:https://pottspointhotel.com.au/events/pph-weekly-meat-raffle/2027-10-07/
LOCATION:Potts Point Hotel\, Ground\, Potts Point Hotel\, Potts Point\, NSW\, 2011\, Australia
CATEGORIES:Potts Point Hotel
ATTACH;FMTTYPE=image/png:https://pottspointhotel.com.au/storage/2025/12/Screenshot-2025-12-17-at-11.38.01-am.png
ORGANIZER;CN="Potts Point Hotel":MAILTO:info@pottspointhotel.com.au
END:VEVENT
BEGIN:VEVENT
DTSTART;TZID=Australia/Sydney:20271010T120000
DTEND;TZID=Australia/Sydney:20271010T120000
DTSTAMP:20260424T151844
CREATED:20240822T040656Z
LAST-MODIFIED:20240822T142945Z
UID:10005112-1823169600-1823169600@pottspointhotel.com.au
SUMMARY:Kids Eat Free
DESCRIPTION:Bring the whole family down for lunch or dinner at the Potts Point Hotel on Sunday to enjoy our kids eat free deal. \n\n\n\nConditions apply:  \n\n\n\nAvailable with the purchase of any main meal. Children under the age of 15 yrs only. Maximum of 2 children per adult ordering a main meal. Free meal is available from kids menu items only.
URL:https://pottspointhotel.com.au/events/kids-eat-free-2/2027-10-10/
LOCATION:Potts Point Hotel\, Ground\, Potts Point Hotel\, Potts Point\, NSW\, 2011\, Australia
CATEGORIES:Sundays
ATTACH;FMTTYPE=image/jpeg:https://pottspointhotel.com.au/storage/2023/01/1-jpg.webp
ORGANIZER;CN="Potts Point Hotel":MAILTO:info@pottspointhotel.com.au
END:VEVENT
BEGIN:VEVENT
DTSTART;TZID=Australia/Sydney:20271010T150000
DTEND;TZID=Australia/Sydney:20271010T180000
DTSTAMP:20260424T151844
CREATED:20221213T122438Z
LAST-MODIFIED:20240822T144353Z
UID:10004330-1823180400-1823191200@pottspointhotel.com.au
SUMMARY:Sunday Live Music
DESCRIPTION:Sundays from 3pm \n\n\n\nKick back and join us downstairs at Potts Point Hotel for live music\, with acoustic sounds every Sunday afternoon from 3pm. \n\n\n\nBook a table for dinner or pop down for light snacks from the bistro with a drink or two to finish off your week.
URL:https://pottspointhotel.com.au/events/sunday-live-music/2027-10-10/
LOCATION:Potts Point Hotel\, Ground\, Potts Point Hotel\, Potts Point\, NSW\, 2011\, Australia
CATEGORIES:Potts Point Hotel,Sundays
ATTACH;FMTTYPE=image/jpeg:https://pottspointhotel.com.au/storage/2022/12/Untitled-design-14-jpg.webp
ORGANIZER;CN="Potts Point Hotel":MAILTO:info@pottspointhotel.com.au
END:VEVENT
BEGIN:VEVENT
DTSTART;TZID=Australia/Sydney:20271014T183000
DTEND;TZID=Australia/Sydney:20271014T183000
DTSTAMP:20260424T151844
CREATED:20251217T025239Z
LAST-MODIFIED:20251220T150443Z
UID:10012753-1823538600-1823538600@pottspointhotel.com.au
SUMMARY:PPH Weekly Meat Raffle!
DESCRIPTION:Every Thursday at Potts Point Hotel!  \n\n\n\n4 Meat trays up for grabs\, tickets on sale from 6:30pm & drawn at 8:30pm. \n\n\n\nJoker Poker Jackpot also drawn at 8:30pm with a rolling Jackpot\, see our socials for this weeks jackpot! Good Luck!
URL:https://pottspointhotel.com.au/events/pph-weekly-meat-raffle/2027-10-14/
LOCATION:Potts Point Hotel\, Ground\, Potts Point Hotel\, Potts Point\, NSW\, 2011\, Australia
CATEGORIES:Potts Point Hotel
ATTACH;FMTTYPE=image/png:https://pottspointhotel.com.au/storage/2025/12/Screenshot-2025-12-17-at-11.38.01-am.png
ORGANIZER;CN="Potts Point Hotel":MAILTO:info@pottspointhotel.com.au
END:VEVENT
BEGIN:VEVENT
DTSTART;TZID=Australia/Sydney:20271017T120000
DTEND;TZID=Australia/Sydney:20271017T120000
DTSTAMP:20260424T151844
CREATED:20240822T040656Z
LAST-MODIFIED:20240822T142945Z
UID:10005113-1823774400-1823774400@pottspointhotel.com.au
SUMMARY:Kids Eat Free
DESCRIPTION:Bring the whole family down for lunch or dinner at the Potts Point Hotel on Sunday to enjoy our kids eat free deal. \n\n\n\nConditions apply:  \n\n\n\nAvailable with the purchase of any main meal. Children under the age of 15 yrs only. Maximum of 2 children per adult ordering a main meal. Free meal is available from kids menu items only.
URL:https://pottspointhotel.com.au/events/kids-eat-free-2/2027-10-17/
LOCATION:Potts Point Hotel\, Ground\, Potts Point Hotel\, Potts Point\, NSW\, 2011\, Australia
CATEGORIES:Sundays
ATTACH;FMTTYPE=image/jpeg:https://pottspointhotel.com.au/storage/2023/01/1-jpg.webp
ORGANIZER;CN="Potts Point Hotel":MAILTO:info@pottspointhotel.com.au
END:VEVENT
BEGIN:VEVENT
DTSTART;TZID=Australia/Sydney:20271017T150000
DTEND;TZID=Australia/Sydney:20271017T180000
DTSTAMP:20260424T151844
CREATED:20221213T122438Z
LAST-MODIFIED:20240822T144353Z
UID:10004331-1823785200-1823796000@pottspointhotel.com.au
SUMMARY:Sunday Live Music
DESCRIPTION:Sundays from 3pm \n\n\n\nKick back and join us downstairs at Potts Point Hotel for live music\, with acoustic sounds every Sunday afternoon from 3pm. \n\n\n\nBook a table for dinner or pop down for light snacks from the bistro with a drink or two to finish off your week.
URL:https://pottspointhotel.com.au/events/sunday-live-music/2027-10-17/
LOCATION:Potts Point Hotel\, Ground\, Potts Point Hotel\, Potts Point\, NSW\, 2011\, Australia
CATEGORIES:Potts Point Hotel,Sundays
ATTACH;FMTTYPE=image/jpeg:https://pottspointhotel.com.au/storage/2022/12/Untitled-design-14-jpg.webp
ORGANIZER;CN="Potts Point Hotel":MAILTO:info@pottspointhotel.com.au
END:VEVENT
END:VCALENDAR