BEGIN:VCALENDAR
VERSION:2.0
PRODID:-//Potts Point Hotel - ECPv6.15.18//NONSGML v1.0//EN
CALSCALE:GREGORIAN
METHOD:PUBLISH
X-ORIGINAL-URL:https://pottspointhotel.com.au
X-WR-CALDESC:Events for Potts Point Hotel
REFRESH-INTERVAL;VALUE=DURATION:PT1H
X-Robots-Tag:noindex
X-PUBLISHED-TTL:PT1H
BEGIN:VTIMEZONE
TZID:Australia/Sydney
BEGIN:STANDARD
TZOFFSETFROM:+1100
TZOFFSETTO:+1000
TZNAME:AEST
DTSTART:20270403T160000
END:STANDARD
BEGIN:DAYLIGHT
TZOFFSETFROM:+1000
TZOFFSETTO:+1100
TZNAME:AEDT
DTSTART:20271002T160000
END:DAYLIGHT
BEGIN:STANDARD
TZOFFSETFROM:+1100
TZOFFSETTO:+1000
TZNAME:AEST
DTSTART:20280401T160000
END:STANDARD
BEGIN:DAYLIGHT
TZOFFSETFROM:+1000
TZOFFSETTO:+1100
TZNAME:AEDT
DTSTART:20280930T160000
END:DAYLIGHT
BEGIN:STANDARD
TZOFFSETFROM:+1100
TZOFFSETTO:+1000
TZNAME:AEST
DTSTART:20290331T160000
END:STANDARD
BEGIN:DAYLIGHT
TZOFFSETFROM:+1000
TZOFFSETTO:+1100
TZNAME:AEDT
DTSTART:20291006T160000
END:DAYLIGHT
END:VTIMEZONE
BEGIN:VEVENT
DTSTART;TZID=Australia/Sydney:20280420T183000
DTEND;TZID=Australia/Sydney:20280420T183000
DTSTAMP:20260425T041831
CREATED:20251217T025239Z
LAST-MODIFIED:20251220T150443Z
UID:10012780-1839868200-1839868200@pottspointhotel.com.au
SUMMARY:PPH Weekly Meat Raffle!
DESCRIPTION:Every Thursday at Potts Point Hotel!  \n\n\n\n4 Meat trays up for grabs\, tickets on sale from 6:30pm & drawn at 8:30pm. \n\n\n\nJoker Poker Jackpot also drawn at 8:30pm with a rolling Jackpot\, see our socials for this weeks jackpot! Good Luck!
URL:https://pottspointhotel.com.au/events/pph-weekly-meat-raffle/2028-04-20/
LOCATION:Potts Point Hotel\, Ground\, Potts Point Hotel\, Potts Point\, NSW\, 2011\, Australia
CATEGORIES:Potts Point Hotel
ATTACH;FMTTYPE=image/png:https://pottspointhotel.com.au/storage/2025/12/Screenshot-2025-12-17-at-11.38.01-am.png
ORGANIZER;CN="Potts Point Hotel":MAILTO:info@pottspointhotel.com.au
END:VEVENT
BEGIN:VEVENT
DTSTART;TZID=Australia/Sydney:20280423T120000
DTEND;TZID=Australia/Sydney:20280423T120000
DTSTAMP:20260425T041831
CREATED:20240822T040656Z
LAST-MODIFIED:20240822T142945Z
UID:10011757-1840104000-1840104000@pottspointhotel.com.au
SUMMARY:Kids Eat Free
DESCRIPTION:Bring the whole family down for lunch or dinner at the Potts Point Hotel on Sunday to enjoy our kids eat free deal. \n\n\n\nConditions apply:  \n\n\n\nAvailable with the purchase of any main meal. Children under the age of 15 yrs only. Maximum of 2 children per adult ordering a main meal. Free meal is available from kids menu items only.
URL:https://pottspointhotel.com.au/events/kids-eat-free-2/2028-04-23/
LOCATION:Potts Point Hotel\, Ground\, Potts Point Hotel\, Potts Point\, NSW\, 2011\, Australia
CATEGORIES:Sundays
ATTACH;FMTTYPE=image/jpeg:https://pottspointhotel.com.au/storage/2023/01/1-jpg.webp
ORGANIZER;CN="Potts Point Hotel":MAILTO:info@pottspointhotel.com.au
END:VEVENT
BEGIN:VEVENT
DTSTART;TZID=Australia/Sydney:20280423T150000
DTEND;TZID=Australia/Sydney:20280423T180000
DTSTAMP:20260425T041831
CREATED:20221213T122438Z
LAST-MODIFIED:20240822T144353Z
UID:10011999-1840114800-1840125600@pottspointhotel.com.au
SUMMARY:Sunday Live Music
DESCRIPTION:Sundays from 3pm \n\n\n\nKick back and join us downstairs at Potts Point Hotel for live music\, with acoustic sounds every Sunday afternoon from 3pm. \n\n\n\nBook a table for dinner or pop down for light snacks from the bistro with a drink or two to finish off your week.
URL:https://pottspointhotel.com.au/events/sunday-live-music/2028-04-23/
LOCATION:Potts Point Hotel\, Ground\, Potts Point Hotel\, Potts Point\, NSW\, 2011\, Australia
CATEGORIES:Potts Point Hotel,Sundays
ATTACH;FMTTYPE=image/jpeg:https://pottspointhotel.com.au/storage/2022/12/Untitled-design-14-jpg.webp
ORGANIZER;CN="Potts Point Hotel":MAILTO:info@pottspointhotel.com.au
END:VEVENT
BEGIN:VEVENT
DTSTART;TZID=Australia/Sydney:20280427T183000
DTEND;TZID=Australia/Sydney:20280427T183000
DTSTAMP:20260425T041831
CREATED:20251217T025239Z
LAST-MODIFIED:20251220T150443Z
UID:10012781-1840473000-1840473000@pottspointhotel.com.au
SUMMARY:PPH Weekly Meat Raffle!
DESCRIPTION:Every Thursday at Potts Point Hotel!  \n\n\n\n4 Meat trays up for grabs\, tickets on sale from 6:30pm & drawn at 8:30pm. \n\n\n\nJoker Poker Jackpot also drawn at 8:30pm with a rolling Jackpot\, see our socials for this weeks jackpot! Good Luck!
URL:https://pottspointhotel.com.au/events/pph-weekly-meat-raffle/2028-04-27/
LOCATION:Potts Point Hotel\, Ground\, Potts Point Hotel\, Potts Point\, NSW\, 2011\, Australia
CATEGORIES:Potts Point Hotel
ATTACH;FMTTYPE=image/png:https://pottspointhotel.com.au/storage/2025/12/Screenshot-2025-12-17-at-11.38.01-am.png
ORGANIZER;CN="Potts Point Hotel":MAILTO:info@pottspointhotel.com.au
END:VEVENT
BEGIN:VEVENT
DTSTART;TZID=Australia/Sydney:20280430T120000
DTEND;TZID=Australia/Sydney:20280430T120000
DTSTAMP:20260425T041831
CREATED:20240822T040656Z
LAST-MODIFIED:20240822T142945Z
UID:10011758-1840708800-1840708800@pottspointhotel.com.au
SUMMARY:Kids Eat Free
DESCRIPTION:Bring the whole family down for lunch or dinner at the Potts Point Hotel on Sunday to enjoy our kids eat free deal. \n\n\n\nConditions apply:  \n\n\n\nAvailable with the purchase of any main meal. Children under the age of 15 yrs only. Maximum of 2 children per adult ordering a main meal. Free meal is available from kids menu items only.
URL:https://pottspointhotel.com.au/events/kids-eat-free-2/2028-04-30/
LOCATION:Potts Point Hotel\, Ground\, Potts Point Hotel\, Potts Point\, NSW\, 2011\, Australia
CATEGORIES:Sundays
ATTACH;FMTTYPE=image/jpeg:https://pottspointhotel.com.au/storage/2023/01/1-jpg.webp
ORGANIZER;CN="Potts Point Hotel":MAILTO:info@pottspointhotel.com.au
END:VEVENT
BEGIN:VEVENT
DTSTART;TZID=Australia/Sydney:20280430T150000
DTEND;TZID=Australia/Sydney:20280430T180000
DTSTAMP:20260425T041831
CREATED:20221213T122438Z
LAST-MODIFIED:20240822T144353Z
UID:10012000-1840719600-1840730400@pottspointhotel.com.au
SUMMARY:Sunday Live Music
DESCRIPTION:Sundays from 3pm \n\n\n\nKick back and join us downstairs at Potts Point Hotel for live music\, with acoustic sounds every Sunday afternoon from 3pm. \n\n\n\nBook a table for dinner or pop down for light snacks from the bistro with a drink or two to finish off your week.
URL:https://pottspointhotel.com.au/events/sunday-live-music/2028-04-30/
LOCATION:Potts Point Hotel\, Ground\, Potts Point Hotel\, Potts Point\, NSW\, 2011\, Australia
CATEGORIES:Potts Point Hotel,Sundays
ATTACH;FMTTYPE=image/jpeg:https://pottspointhotel.com.au/storage/2022/12/Untitled-design-14-jpg.webp
ORGANIZER;CN="Potts Point Hotel":MAILTO:info@pottspointhotel.com.au
END:VEVENT
BEGIN:VEVENT
DTSTART;TZID=Australia/Sydney:20280504T183000
DTEND;TZID=Australia/Sydney:20280504T183000
DTSTAMP:20260425T041831
CREATED:20251217T025239Z
LAST-MODIFIED:20251220T150443Z
UID:10012782-1841077800-1841077800@pottspointhotel.com.au
SUMMARY:PPH Weekly Meat Raffle!
DESCRIPTION:Every Thursday at Potts Point Hotel!  \n\n\n\n4 Meat trays up for grabs\, tickets on sale from 6:30pm & drawn at 8:30pm. \n\n\n\nJoker Poker Jackpot also drawn at 8:30pm with a rolling Jackpot\, see our socials for this weeks jackpot! Good Luck!
URL:https://pottspointhotel.com.au/events/pph-weekly-meat-raffle/2028-05-04/
LOCATION:Potts Point Hotel\, Ground\, Potts Point Hotel\, Potts Point\, NSW\, 2011\, Australia
CATEGORIES:Potts Point Hotel
ATTACH;FMTTYPE=image/png:https://pottspointhotel.com.au/storage/2025/12/Screenshot-2025-12-17-at-11.38.01-am.png
ORGANIZER;CN="Potts Point Hotel":MAILTO:info@pottspointhotel.com.au
END:VEVENT
BEGIN:VEVENT
DTSTART;TZID=Australia/Sydney:20280507T120000
DTEND;TZID=Australia/Sydney:20280507T120000
DTSTAMP:20260425T041831
CREATED:20240822T040656Z
LAST-MODIFIED:20240822T142945Z
UID:10011759-1841313600-1841313600@pottspointhotel.com.au
SUMMARY:Kids Eat Free
DESCRIPTION:Bring the whole family down for lunch or dinner at the Potts Point Hotel on Sunday to enjoy our kids eat free deal. \n\n\n\nConditions apply:  \n\n\n\nAvailable with the purchase of any main meal. Children under the age of 15 yrs only. Maximum of 2 children per adult ordering a main meal. Free meal is available from kids menu items only.
URL:https://pottspointhotel.com.au/events/kids-eat-free-2/2028-05-07/
LOCATION:Potts Point Hotel\, Ground\, Potts Point Hotel\, Potts Point\, NSW\, 2011\, Australia
CATEGORIES:Sundays
ATTACH;FMTTYPE=image/jpeg:https://pottspointhotel.com.au/storage/2023/01/1-jpg.webp
ORGANIZER;CN="Potts Point Hotel":MAILTO:info@pottspointhotel.com.au
END:VEVENT
BEGIN:VEVENT
DTSTART;TZID=Australia/Sydney:20280507T150000
DTEND;TZID=Australia/Sydney:20280507T180000
DTSTAMP:20260425T041831
CREATED:20221213T122438Z
LAST-MODIFIED:20240822T144353Z
UID:10012001-1841324400-1841335200@pottspointhotel.com.au
SUMMARY:Sunday Live Music
DESCRIPTION:Sundays from 3pm \n\n\n\nKick back and join us downstairs at Potts Point Hotel for live music\, with acoustic sounds every Sunday afternoon from 3pm. \n\n\n\nBook a table for dinner or pop down for light snacks from the bistro with a drink or two to finish off your week.
URL:https://pottspointhotel.com.au/events/sunday-live-music/2028-05-07/
LOCATION:Potts Point Hotel\, Ground\, Potts Point Hotel\, Potts Point\, NSW\, 2011\, Australia
CATEGORIES:Potts Point Hotel,Sundays
ATTACH;FMTTYPE=image/jpeg:https://pottspointhotel.com.au/storage/2022/12/Untitled-design-14-jpg.webp
ORGANIZER;CN="Potts Point Hotel":MAILTO:info@pottspointhotel.com.au
END:VEVENT
BEGIN:VEVENT
DTSTART;TZID=Australia/Sydney:20280511T183000
DTEND;TZID=Australia/Sydney:20280511T183000
DTSTAMP:20260425T041831
CREATED:20251217T025239Z
LAST-MODIFIED:20251220T150443Z
UID:10012783-1841682600-1841682600@pottspointhotel.com.au
SUMMARY:PPH Weekly Meat Raffle!
DESCRIPTION:Every Thursday at Potts Point Hotel!  \n\n\n\n4 Meat trays up for grabs\, tickets on sale from 6:30pm & drawn at 8:30pm. \n\n\n\nJoker Poker Jackpot also drawn at 8:30pm with a rolling Jackpot\, see our socials for this weeks jackpot! Good Luck!
URL:https://pottspointhotel.com.au/events/pph-weekly-meat-raffle/2028-05-11/
LOCATION:Potts Point Hotel\, Ground\, Potts Point Hotel\, Potts Point\, NSW\, 2011\, Australia
CATEGORIES:Potts Point Hotel
ATTACH;FMTTYPE=image/png:https://pottspointhotel.com.au/storage/2025/12/Screenshot-2025-12-17-at-11.38.01-am.png
ORGANIZER;CN="Potts Point Hotel":MAILTO:info@pottspointhotel.com.au
END:VEVENT
BEGIN:VEVENT
DTSTART;TZID=Australia/Sydney:20280514T120000
DTEND;TZID=Australia/Sydney:20280514T120000
DTSTAMP:20260425T041831
CREATED:20240822T040656Z
LAST-MODIFIED:20240822T142945Z
UID:10011760-1841918400-1841918400@pottspointhotel.com.au
SUMMARY:Kids Eat Free
DESCRIPTION:Bring the whole family down for lunch or dinner at the Potts Point Hotel on Sunday to enjoy our kids eat free deal. \n\n\n\nConditions apply:  \n\n\n\nAvailable with the purchase of any main meal. Children under the age of 15 yrs only. Maximum of 2 children per adult ordering a main meal. Free meal is available from kids menu items only.
URL:https://pottspointhotel.com.au/events/kids-eat-free-2/2028-05-14/
LOCATION:Potts Point Hotel\, Ground\, Potts Point Hotel\, Potts Point\, NSW\, 2011\, Australia
CATEGORIES:Sundays
ATTACH;FMTTYPE=image/jpeg:https://pottspointhotel.com.au/storage/2023/01/1-jpg.webp
ORGANIZER;CN="Potts Point Hotel":MAILTO:info@pottspointhotel.com.au
END:VEVENT
BEGIN:VEVENT
DTSTART;TZID=Australia/Sydney:20280514T150000
DTEND;TZID=Australia/Sydney:20280514T180000
DTSTAMP:20260425T041831
CREATED:20221213T122438Z
LAST-MODIFIED:20240822T144353Z
UID:10012002-1841929200-1841940000@pottspointhotel.com.au
SUMMARY:Sunday Live Music
DESCRIPTION:Sundays from 3pm \n\n\n\nKick back and join us downstairs at Potts Point Hotel for live music\, with acoustic sounds every Sunday afternoon from 3pm. \n\n\n\nBook a table for dinner or pop down for light snacks from the bistro with a drink or two to finish off your week.
URL:https://pottspointhotel.com.au/events/sunday-live-music/2028-05-14/
LOCATION:Potts Point Hotel\, Ground\, Potts Point Hotel\, Potts Point\, NSW\, 2011\, Australia
CATEGORIES:Potts Point Hotel,Sundays
ATTACH;FMTTYPE=image/jpeg:https://pottspointhotel.com.au/storage/2022/12/Untitled-design-14-jpg.webp
ORGANIZER;CN="Potts Point Hotel":MAILTO:info@pottspointhotel.com.au
END:VEVENT
BEGIN:VEVENT
DTSTART;TZID=Australia/Sydney:20280518T183000
DTEND;TZID=Australia/Sydney:20280518T183000
DTSTAMP:20260425T041831
CREATED:20251217T025239Z
LAST-MODIFIED:20251220T150443Z
UID:10012784-1842287400-1842287400@pottspointhotel.com.au
SUMMARY:PPH Weekly Meat Raffle!
DESCRIPTION:Every Thursday at Potts Point Hotel!  \n\n\n\n4 Meat trays up for grabs\, tickets on sale from 6:30pm & drawn at 8:30pm. \n\n\n\nJoker Poker Jackpot also drawn at 8:30pm with a rolling Jackpot\, see our socials for this weeks jackpot! Good Luck!
URL:https://pottspointhotel.com.au/events/pph-weekly-meat-raffle/2028-05-18/
LOCATION:Potts Point Hotel\, Ground\, Potts Point Hotel\, Potts Point\, NSW\, 2011\, Australia
CATEGORIES:Potts Point Hotel
ATTACH;FMTTYPE=image/png:https://pottspointhotel.com.au/storage/2025/12/Screenshot-2025-12-17-at-11.38.01-am.png
ORGANIZER;CN="Potts Point Hotel":MAILTO:info@pottspointhotel.com.au
END:VEVENT
BEGIN:VEVENT
DTSTART;TZID=Australia/Sydney:20280521T120000
DTEND;TZID=Australia/Sydney:20280521T120000
DTSTAMP:20260425T041831
CREATED:20240822T040656Z
LAST-MODIFIED:20240822T142945Z
UID:10011761-1842523200-1842523200@pottspointhotel.com.au
SUMMARY:Kids Eat Free
DESCRIPTION:Bring the whole family down for lunch or dinner at the Potts Point Hotel on Sunday to enjoy our kids eat free deal. \n\n\n\nConditions apply:  \n\n\n\nAvailable with the purchase of any main meal. Children under the age of 15 yrs only. Maximum of 2 children per adult ordering a main meal. Free meal is available from kids menu items only.
URL:https://pottspointhotel.com.au/events/kids-eat-free-2/2028-05-21/
LOCATION:Potts Point Hotel\, Ground\, Potts Point Hotel\, Potts Point\, NSW\, 2011\, Australia
CATEGORIES:Sundays
ATTACH;FMTTYPE=image/jpeg:https://pottspointhotel.com.au/storage/2023/01/1-jpg.webp
ORGANIZER;CN="Potts Point Hotel":MAILTO:info@pottspointhotel.com.au
END:VEVENT
BEGIN:VEVENT
DTSTART;TZID=Australia/Sydney:20280521T150000
DTEND;TZID=Australia/Sydney:20280521T180000
DTSTAMP:20260425T041831
CREATED:20221213T122438Z
LAST-MODIFIED:20240822T144353Z
UID:10012003-1842534000-1842544800@pottspointhotel.com.au
SUMMARY:Sunday Live Music
DESCRIPTION:Sundays from 3pm \n\n\n\nKick back and join us downstairs at Potts Point Hotel for live music\, with acoustic sounds every Sunday afternoon from 3pm. \n\n\n\nBook a table for dinner or pop down for light snacks from the bistro with a drink or two to finish off your week.
URL:https://pottspointhotel.com.au/events/sunday-live-music/2028-05-21/
LOCATION:Potts Point Hotel\, Ground\, Potts Point Hotel\, Potts Point\, NSW\, 2011\, Australia
CATEGORIES:Potts Point Hotel,Sundays
ATTACH;FMTTYPE=image/jpeg:https://pottspointhotel.com.au/storage/2022/12/Untitled-design-14-jpg.webp
ORGANIZER;CN="Potts Point Hotel":MAILTO:info@pottspointhotel.com.au
END:VEVENT
BEGIN:VEVENT
DTSTART;TZID=Australia/Sydney:20280525T183000
DTEND;TZID=Australia/Sydney:20280525T183000
DTSTAMP:20260425T041831
CREATED:20251217T025239Z
LAST-MODIFIED:20251220T150443Z
UID:10012785-1842892200-1842892200@pottspointhotel.com.au
SUMMARY:PPH Weekly Meat Raffle!
DESCRIPTION:Every Thursday at Potts Point Hotel!  \n\n\n\n4 Meat trays up for grabs\, tickets on sale from 6:30pm & drawn at 8:30pm. \n\n\n\nJoker Poker Jackpot also drawn at 8:30pm with a rolling Jackpot\, see our socials for this weeks jackpot! Good Luck!
URL:https://pottspointhotel.com.au/events/pph-weekly-meat-raffle/2028-05-25/
LOCATION:Potts Point Hotel\, Ground\, Potts Point Hotel\, Potts Point\, NSW\, 2011\, Australia
CATEGORIES:Potts Point Hotel
ATTACH;FMTTYPE=image/png:https://pottspointhotel.com.au/storage/2025/12/Screenshot-2025-12-17-at-11.38.01-am.png
ORGANIZER;CN="Potts Point Hotel":MAILTO:info@pottspointhotel.com.au
END:VEVENT
BEGIN:VEVENT
DTSTART;TZID=Australia/Sydney:20280528T120000
DTEND;TZID=Australia/Sydney:20280528T120000
DTSTAMP:20260425T041831
CREATED:20240822T040656Z
LAST-MODIFIED:20240822T142945Z
UID:10011762-1843128000-1843128000@pottspointhotel.com.au
SUMMARY:Kids Eat Free
DESCRIPTION:Bring the whole family down for lunch or dinner at the Potts Point Hotel on Sunday to enjoy our kids eat free deal. \n\n\n\nConditions apply:  \n\n\n\nAvailable with the purchase of any main meal. Children under the age of 15 yrs only. Maximum of 2 children per adult ordering a main meal. Free meal is available from kids menu items only.
URL:https://pottspointhotel.com.au/events/kids-eat-free-2/2028-05-28/
LOCATION:Potts Point Hotel\, Ground\, Potts Point Hotel\, Potts Point\, NSW\, 2011\, Australia
CATEGORIES:Sundays
ATTACH;FMTTYPE=image/jpeg:https://pottspointhotel.com.au/storage/2023/01/1-jpg.webp
ORGANIZER;CN="Potts Point Hotel":MAILTO:info@pottspointhotel.com.au
END:VEVENT
BEGIN:VEVENT
DTSTART;TZID=Australia/Sydney:20280528T150000
DTEND;TZID=Australia/Sydney:20280528T180000
DTSTAMP:20260425T041831
CREATED:20221213T122438Z
LAST-MODIFIED:20240822T144353Z
UID:10012004-1843138800-1843149600@pottspointhotel.com.au
SUMMARY:Sunday Live Music
DESCRIPTION:Sundays from 3pm \n\n\n\nKick back and join us downstairs at Potts Point Hotel for live music\, with acoustic sounds every Sunday afternoon from 3pm. \n\n\n\nBook a table for dinner or pop down for light snacks from the bistro with a drink or two to finish off your week.
URL:https://pottspointhotel.com.au/events/sunday-live-music/2028-05-28/
LOCATION:Potts Point Hotel\, Ground\, Potts Point Hotel\, Potts Point\, NSW\, 2011\, Australia
CATEGORIES:Potts Point Hotel,Sundays
ATTACH;FMTTYPE=image/jpeg:https://pottspointhotel.com.au/storage/2022/12/Untitled-design-14-jpg.webp
ORGANIZER;CN="Potts Point Hotel":MAILTO:info@pottspointhotel.com.au
END:VEVENT
BEGIN:VEVENT
DTSTART;TZID=Australia/Sydney:20280601T183000
DTEND;TZID=Australia/Sydney:20280601T183000
DTSTAMP:20260425T041831
CREATED:20251217T025239Z
LAST-MODIFIED:20251220T150443Z
UID:10012786-1843497000-1843497000@pottspointhotel.com.au
SUMMARY:PPH Weekly Meat Raffle!
DESCRIPTION:Every Thursday at Potts Point Hotel!  \n\n\n\n4 Meat trays up for grabs\, tickets on sale from 6:30pm & drawn at 8:30pm. \n\n\n\nJoker Poker Jackpot also drawn at 8:30pm with a rolling Jackpot\, see our socials for this weeks jackpot! Good Luck!
URL:https://pottspointhotel.com.au/events/pph-weekly-meat-raffle/2028-06-01/
LOCATION:Potts Point Hotel\, Ground\, Potts Point Hotel\, Potts Point\, NSW\, 2011\, Australia
CATEGORIES:Potts Point Hotel
ATTACH;FMTTYPE=image/png:https://pottspointhotel.com.au/storage/2025/12/Screenshot-2025-12-17-at-11.38.01-am.png
ORGANIZER;CN="Potts Point Hotel":MAILTO:info@pottspointhotel.com.au
END:VEVENT
BEGIN:VEVENT
DTSTART;TZID=Australia/Sydney:20280604T120000
DTEND;TZID=Australia/Sydney:20280604T120000
DTSTAMP:20260425T041831
CREATED:20240822T040656Z
LAST-MODIFIED:20240822T142945Z
UID:10011763-1843732800-1843732800@pottspointhotel.com.au
SUMMARY:Kids Eat Free
DESCRIPTION:Bring the whole family down for lunch or dinner at the Potts Point Hotel on Sunday to enjoy our kids eat free deal. \n\n\n\nConditions apply:  \n\n\n\nAvailable with the purchase of any main meal. Children under the age of 15 yrs only. Maximum of 2 children per adult ordering a main meal. Free meal is available from kids menu items only.
URL:https://pottspointhotel.com.au/events/kids-eat-free-2/2028-06-04/
LOCATION:Potts Point Hotel\, Ground\, Potts Point Hotel\, Potts Point\, NSW\, 2011\, Australia
CATEGORIES:Sundays
ATTACH;FMTTYPE=image/jpeg:https://pottspointhotel.com.au/storage/2023/01/1-jpg.webp
ORGANIZER;CN="Potts Point Hotel":MAILTO:info@pottspointhotel.com.au
END:VEVENT
BEGIN:VEVENT
DTSTART;TZID=Australia/Sydney:20280604T150000
DTEND;TZID=Australia/Sydney:20280604T180000
DTSTAMP:20260425T041831
CREATED:20221213T122438Z
LAST-MODIFIED:20240822T144353Z
UID:10012005-1843743600-1843754400@pottspointhotel.com.au
SUMMARY:Sunday Live Music
DESCRIPTION:Sundays from 3pm \n\n\n\nKick back and join us downstairs at Potts Point Hotel for live music\, with acoustic sounds every Sunday afternoon from 3pm. \n\n\n\nBook a table for dinner or pop down for light snacks from the bistro with a drink or two to finish off your week.
URL:https://pottspointhotel.com.au/events/sunday-live-music/2028-06-04/
LOCATION:Potts Point Hotel\, Ground\, Potts Point Hotel\, Potts Point\, NSW\, 2011\, Australia
CATEGORIES:Potts Point Hotel,Sundays
ATTACH;FMTTYPE=image/jpeg:https://pottspointhotel.com.au/storage/2022/12/Untitled-design-14-jpg.webp
ORGANIZER;CN="Potts Point Hotel":MAILTO:info@pottspointhotel.com.au
END:VEVENT
BEGIN:VEVENT
DTSTART;TZID=Australia/Sydney:20280608T183000
DTEND;TZID=Australia/Sydney:20280608T183000
DTSTAMP:20260425T041831
CREATED:20251217T025239Z
LAST-MODIFIED:20251220T150443Z
UID:10012787-1844101800-1844101800@pottspointhotel.com.au
SUMMARY:PPH Weekly Meat Raffle!
DESCRIPTION:Every Thursday at Potts Point Hotel!  \n\n\n\n4 Meat trays up for grabs\, tickets on sale from 6:30pm & drawn at 8:30pm. \n\n\n\nJoker Poker Jackpot also drawn at 8:30pm with a rolling Jackpot\, see our socials for this weeks jackpot! Good Luck!
URL:https://pottspointhotel.com.au/events/pph-weekly-meat-raffle/2028-06-08/
LOCATION:Potts Point Hotel\, Ground\, Potts Point Hotel\, Potts Point\, NSW\, 2011\, Australia
CATEGORIES:Potts Point Hotel
ATTACH;FMTTYPE=image/png:https://pottspointhotel.com.au/storage/2025/12/Screenshot-2025-12-17-at-11.38.01-am.png
ORGANIZER;CN="Potts Point Hotel":MAILTO:info@pottspointhotel.com.au
END:VEVENT
BEGIN:VEVENT
DTSTART;TZID=Australia/Sydney:20280611T120000
DTEND;TZID=Australia/Sydney:20280611T120000
DTSTAMP:20260425T041831
CREATED:20240822T040656Z
LAST-MODIFIED:20240822T142945Z
UID:10011764-1844337600-1844337600@pottspointhotel.com.au
SUMMARY:Kids Eat Free
DESCRIPTION:Bring the whole family down for lunch or dinner at the Potts Point Hotel on Sunday to enjoy our kids eat free deal. \n\n\n\nConditions apply:  \n\n\n\nAvailable with the purchase of any main meal. Children under the age of 15 yrs only. Maximum of 2 children per adult ordering a main meal. Free meal is available from kids menu items only.
URL:https://pottspointhotel.com.au/events/kids-eat-free-2/2028-06-11/
LOCATION:Potts Point Hotel\, Ground\, Potts Point Hotel\, Potts Point\, NSW\, 2011\, Australia
CATEGORIES:Sundays
ATTACH;FMTTYPE=image/jpeg:https://pottspointhotel.com.au/storage/2023/01/1-jpg.webp
ORGANIZER;CN="Potts Point Hotel":MAILTO:info@pottspointhotel.com.au
END:VEVENT
BEGIN:VEVENT
DTSTART;TZID=Australia/Sydney:20280611T150000
DTEND;TZID=Australia/Sydney:20280611T180000
DTSTAMP:20260425T041831
CREATED:20221213T122438Z
LAST-MODIFIED:20240822T144353Z
UID:10012006-1844348400-1844359200@pottspointhotel.com.au
SUMMARY:Sunday Live Music
DESCRIPTION:Sundays from 3pm \n\n\n\nKick back and join us downstairs at Potts Point Hotel for live music\, with acoustic sounds every Sunday afternoon from 3pm. \n\n\n\nBook a table for dinner or pop down for light snacks from the bistro with a drink or two to finish off your week.
URL:https://pottspointhotel.com.au/events/sunday-live-music/2028-06-11/
LOCATION:Potts Point Hotel\, Ground\, Potts Point Hotel\, Potts Point\, NSW\, 2011\, Australia
CATEGORIES:Potts Point Hotel,Sundays
ATTACH;FMTTYPE=image/jpeg:https://pottspointhotel.com.au/storage/2022/12/Untitled-design-14-jpg.webp
ORGANIZER;CN="Potts Point Hotel":MAILTO:info@pottspointhotel.com.au
END:VEVENT
BEGIN:VEVENT
DTSTART;TZID=Australia/Sydney:20280615T183000
DTEND;TZID=Australia/Sydney:20280615T183000
DTSTAMP:20260425T041831
CREATED:20251217T025239Z
LAST-MODIFIED:20251220T150443Z
UID:10012788-1844706600-1844706600@pottspointhotel.com.au
SUMMARY:PPH Weekly Meat Raffle!
DESCRIPTION:Every Thursday at Potts Point Hotel!  \n\n\n\n4 Meat trays up for grabs\, tickets on sale from 6:30pm & drawn at 8:30pm. \n\n\n\nJoker Poker Jackpot also drawn at 8:30pm with a rolling Jackpot\, see our socials for this weeks jackpot! Good Luck!
URL:https://pottspointhotel.com.au/events/pph-weekly-meat-raffle/2028-06-15/
LOCATION:Potts Point Hotel\, Ground\, Potts Point Hotel\, Potts Point\, NSW\, 2011\, Australia
CATEGORIES:Potts Point Hotel
ATTACH;FMTTYPE=image/png:https://pottspointhotel.com.au/storage/2025/12/Screenshot-2025-12-17-at-11.38.01-am.png
ORGANIZER;CN="Potts Point Hotel":MAILTO:info@pottspointhotel.com.au
END:VEVENT
BEGIN:VEVENT
DTSTART;TZID=Australia/Sydney:20280618T120000
DTEND;TZID=Australia/Sydney:20280618T120000
DTSTAMP:20260425T041831
CREATED:20240822T040656Z
LAST-MODIFIED:20240822T142945Z
UID:10011765-1844942400-1844942400@pottspointhotel.com.au
SUMMARY:Kids Eat Free
DESCRIPTION:Bring the whole family down for lunch or dinner at the Potts Point Hotel on Sunday to enjoy our kids eat free deal. \n\n\n\nConditions apply:  \n\n\n\nAvailable with the purchase of any main meal. Children under the age of 15 yrs only. Maximum of 2 children per adult ordering a main meal. Free meal is available from kids menu items only.
URL:https://pottspointhotel.com.au/events/kids-eat-free-2/2028-06-18/
LOCATION:Potts Point Hotel\, Ground\, Potts Point Hotel\, Potts Point\, NSW\, 2011\, Australia
CATEGORIES:Sundays
ATTACH;FMTTYPE=image/jpeg:https://pottspointhotel.com.au/storage/2023/01/1-jpg.webp
ORGANIZER;CN="Potts Point Hotel":MAILTO:info@pottspointhotel.com.au
END:VEVENT
BEGIN:VEVENT
DTSTART;TZID=Australia/Sydney:20280618T150000
DTEND;TZID=Australia/Sydney:20280618T180000
DTSTAMP:20260425T041831
CREATED:20221213T122438Z
LAST-MODIFIED:20240822T144353Z
UID:10012007-1844953200-1844964000@pottspointhotel.com.au
SUMMARY:Sunday Live Music
DESCRIPTION:Sundays from 3pm \n\n\n\nKick back and join us downstairs at Potts Point Hotel for live music\, with acoustic sounds every Sunday afternoon from 3pm. \n\n\n\nBook a table for dinner or pop down for light snacks from the bistro with a drink or two to finish off your week.
URL:https://pottspointhotel.com.au/events/sunday-live-music/2028-06-18/
LOCATION:Potts Point Hotel\, Ground\, Potts Point Hotel\, Potts Point\, NSW\, 2011\, Australia
CATEGORIES:Potts Point Hotel,Sundays
ATTACH;FMTTYPE=image/jpeg:https://pottspointhotel.com.au/storage/2022/12/Untitled-design-14-jpg.webp
ORGANIZER;CN="Potts Point Hotel":MAILTO:info@pottspointhotel.com.au
END:VEVENT
BEGIN:VEVENT
DTSTART;TZID=Australia/Sydney:20280622T183000
DTEND;TZID=Australia/Sydney:20280622T183000
DTSTAMP:20260425T041831
CREATED:20251217T025239Z
LAST-MODIFIED:20251220T150443Z
UID:10012789-1845311400-1845311400@pottspointhotel.com.au
SUMMARY:PPH Weekly Meat Raffle!
DESCRIPTION:Every Thursday at Potts Point Hotel!  \n\n\n\n4 Meat trays up for grabs\, tickets on sale from 6:30pm & drawn at 8:30pm. \n\n\n\nJoker Poker Jackpot also drawn at 8:30pm with a rolling Jackpot\, see our socials for this weeks jackpot! Good Luck!
URL:https://pottspointhotel.com.au/events/pph-weekly-meat-raffle/2028-06-22/
LOCATION:Potts Point Hotel\, Ground\, Potts Point Hotel\, Potts Point\, NSW\, 2011\, Australia
CATEGORIES:Potts Point Hotel
ATTACH;FMTTYPE=image/png:https://pottspointhotel.com.au/storage/2025/12/Screenshot-2025-12-17-at-11.38.01-am.png
ORGANIZER;CN="Potts Point Hotel":MAILTO:info@pottspointhotel.com.au
END:VEVENT
BEGIN:VEVENT
DTSTART;TZID=Australia/Sydney:20280625T120000
DTEND;TZID=Australia/Sydney:20280625T120000
DTSTAMP:20260425T041831
CREATED:20240822T040656Z
LAST-MODIFIED:20240822T142945Z
UID:10011766-1845547200-1845547200@pottspointhotel.com.au
SUMMARY:Kids Eat Free
DESCRIPTION:Bring the whole family down for lunch or dinner at the Potts Point Hotel on Sunday to enjoy our kids eat free deal. \n\n\n\nConditions apply:  \n\n\n\nAvailable with the purchase of any main meal. Children under the age of 15 yrs only. Maximum of 2 children per adult ordering a main meal. Free meal is available from kids menu items only.
URL:https://pottspointhotel.com.au/events/kids-eat-free-2/2028-06-25/
LOCATION:Potts Point Hotel\, Ground\, Potts Point Hotel\, Potts Point\, NSW\, 2011\, Australia
CATEGORIES:Sundays
ATTACH;FMTTYPE=image/jpeg:https://pottspointhotel.com.au/storage/2023/01/1-jpg.webp
ORGANIZER;CN="Potts Point Hotel":MAILTO:info@pottspointhotel.com.au
END:VEVENT
BEGIN:VEVENT
DTSTART;TZID=Australia/Sydney:20280625T150000
DTEND;TZID=Australia/Sydney:20280625T180000
DTSTAMP:20260425T041831
CREATED:20221213T122438Z
LAST-MODIFIED:20240822T144353Z
UID:10012008-1845558000-1845568800@pottspointhotel.com.au
SUMMARY:Sunday Live Music
DESCRIPTION:Sundays from 3pm \n\n\n\nKick back and join us downstairs at Potts Point Hotel for live music\, with acoustic sounds every Sunday afternoon from 3pm. \n\n\n\nBook a table for dinner or pop down for light snacks from the bistro with a drink or two to finish off your week.
URL:https://pottspointhotel.com.au/events/sunday-live-music/2028-06-25/
LOCATION:Potts Point Hotel\, Ground\, Potts Point Hotel\, Potts Point\, NSW\, 2011\, Australia
CATEGORIES:Potts Point Hotel,Sundays
ATTACH;FMTTYPE=image/jpeg:https://pottspointhotel.com.au/storage/2022/12/Untitled-design-14-jpg.webp
ORGANIZER;CN="Potts Point Hotel":MAILTO:info@pottspointhotel.com.au
END:VEVENT
END:VCALENDAR