BEGIN:VCALENDAR
VERSION:2.0
PRODID:-//Potts Point Hotel - ECPv6.15.18//NONSGML v1.0//EN
CALSCALE:GREGORIAN
METHOD:PUBLISH
X-WR-CALNAME:Potts Point Hotel
X-ORIGINAL-URL:https://pottspointhotel.com.au
X-WR-CALDESC:Events for Potts Point Hotel
REFRESH-INTERVAL;VALUE=DURATION:PT1H
X-Robots-Tag:noindex
X-PUBLISHED-TTL:PT1H
BEGIN:VTIMEZONE
TZID:Australia/Sydney
BEGIN:STANDARD
TZOFFSETFROM:+1100
TZOFFSETTO:+1000
TZNAME:AEST
DTSTART:20270403T160000
END:STANDARD
BEGIN:DAYLIGHT
TZOFFSETFROM:+1000
TZOFFSETTO:+1100
TZNAME:AEDT
DTSTART:20271002T160000
END:DAYLIGHT
BEGIN:STANDARD
TZOFFSETFROM:+1100
TZOFFSETTO:+1000
TZNAME:AEST
DTSTART:20280401T160000
END:STANDARD
BEGIN:DAYLIGHT
TZOFFSETFROM:+1000
TZOFFSETTO:+1100
TZNAME:AEDT
DTSTART:20280930T160000
END:DAYLIGHT
BEGIN:STANDARD
TZOFFSETFROM:+1100
TZOFFSETTO:+1000
TZNAME:AEST
DTSTART:20290331T160000
END:STANDARD
BEGIN:DAYLIGHT
TZOFFSETFROM:+1000
TZOFFSETTO:+1100
TZNAME:AEDT
DTSTART:20291006T160000
END:DAYLIGHT
END:VTIMEZONE
BEGIN:VEVENT
DTSTART;TZID=Australia/Sydney:20280810T183000
DTEND;TZID=Australia/Sydney:20280810T183000
DTSTAMP:20260425T102715
CREATED:20251217T025239Z
LAST-MODIFIED:20251220T150443Z
UID:10012796-1849545000-1849545000@pottspointhotel.com.au
SUMMARY:PPH Weekly Meat Raffle!
DESCRIPTION:Every Thursday at Potts Point Hotel!  \n\n\n\n4 Meat trays up for grabs\, tickets on sale from 6:30pm & drawn at 8:30pm. \n\n\n\nJoker Poker Jackpot also drawn at 8:30pm with a rolling Jackpot\, see our socials for this weeks jackpot! Good Luck!
URL:https://pottspointhotel.com.au/events/pph-weekly-meat-raffle/2028-08-10/
LOCATION:Potts Point Hotel\, Ground\, Potts Point Hotel\, Potts Point\, NSW\, 2011\, Australia
CATEGORIES:Potts Point Hotel
ATTACH;FMTTYPE=image/png:https://pottspointhotel.com.au/storage/2025/12/Screenshot-2025-12-17-at-11.38.01-am.png
ORGANIZER;CN="Potts Point Hotel":MAILTO:info@pottspointhotel.com.au
END:VEVENT
BEGIN:VEVENT
DTSTART;TZID=Australia/Sydney:20280813T120000
DTEND;TZID=Australia/Sydney:20280813T120000
DTSTAMP:20260425T102715
CREATED:20240822T040656Z
LAST-MODIFIED:20240822T142945Z
UID:10011773-1849780800-1849780800@pottspointhotel.com.au
SUMMARY:Kids Eat Free
DESCRIPTION:Bring the whole family down for lunch or dinner at the Potts Point Hotel on Sunday to enjoy our kids eat free deal. \n\n\n\nConditions apply:  \n\n\n\nAvailable with the purchase of any main meal. Children under the age of 15 yrs only. Maximum of 2 children per adult ordering a main meal. Free meal is available from kids menu items only.
URL:https://pottspointhotel.com.au/events/kids-eat-free-2/2028-08-13/
LOCATION:Potts Point Hotel\, Ground\, Potts Point Hotel\, Potts Point\, NSW\, 2011\, Australia
CATEGORIES:Sundays
ATTACH;FMTTYPE=image/jpeg:https://pottspointhotel.com.au/storage/2023/01/1-jpg.webp
ORGANIZER;CN="Potts Point Hotel":MAILTO:info@pottspointhotel.com.au
END:VEVENT
BEGIN:VEVENT
DTSTART;TZID=Australia/Sydney:20280813T150000
DTEND;TZID=Australia/Sydney:20280813T180000
DTSTAMP:20260425T102715
CREATED:20221213T122438Z
LAST-MODIFIED:20240822T144353Z
UID:10012015-1849791600-1849802400@pottspointhotel.com.au
SUMMARY:Sunday Live Music
DESCRIPTION:Sundays from 3pm \n\n\n\nKick back and join us downstairs at Potts Point Hotel for live music\, with acoustic sounds every Sunday afternoon from 3pm. \n\n\n\nBook a table for dinner or pop down for light snacks from the bistro with a drink or two to finish off your week.
URL:https://pottspointhotel.com.au/events/sunday-live-music/2028-08-13/
LOCATION:Potts Point Hotel\, Ground\, Potts Point Hotel\, Potts Point\, NSW\, 2011\, Australia
CATEGORIES:Potts Point Hotel,Sundays
ATTACH;FMTTYPE=image/jpeg:https://pottspointhotel.com.au/storage/2022/12/Untitled-design-14-jpg.webp
ORGANIZER;CN="Potts Point Hotel":MAILTO:info@pottspointhotel.com.au
END:VEVENT
BEGIN:VEVENT
DTSTART;TZID=Australia/Sydney:20280817T183000
DTEND;TZID=Australia/Sydney:20280817T183000
DTSTAMP:20260425T102715
CREATED:20251217T025239Z
LAST-MODIFIED:20251220T150443Z
UID:10012797-1850149800-1850149800@pottspointhotel.com.au
SUMMARY:PPH Weekly Meat Raffle!
DESCRIPTION:Every Thursday at Potts Point Hotel!  \n\n\n\n4 Meat trays up for grabs\, tickets on sale from 6:30pm & drawn at 8:30pm. \n\n\n\nJoker Poker Jackpot also drawn at 8:30pm with a rolling Jackpot\, see our socials for this weeks jackpot! Good Luck!
URL:https://pottspointhotel.com.au/events/pph-weekly-meat-raffle/2028-08-17/
LOCATION:Potts Point Hotel\, Ground\, Potts Point Hotel\, Potts Point\, NSW\, 2011\, Australia
CATEGORIES:Potts Point Hotel
ATTACH;FMTTYPE=image/png:https://pottspointhotel.com.au/storage/2025/12/Screenshot-2025-12-17-at-11.38.01-am.png
ORGANIZER;CN="Potts Point Hotel":MAILTO:info@pottspointhotel.com.au
END:VEVENT
BEGIN:VEVENT
DTSTART;TZID=Australia/Sydney:20280820T120000
DTEND;TZID=Australia/Sydney:20280820T120000
DTSTAMP:20260425T102715
CREATED:20240822T040656Z
LAST-MODIFIED:20240822T142945Z
UID:10011774-1850385600-1850385600@pottspointhotel.com.au
SUMMARY:Kids Eat Free
DESCRIPTION:Bring the whole family down for lunch or dinner at the Potts Point Hotel on Sunday to enjoy our kids eat free deal. \n\n\n\nConditions apply:  \n\n\n\nAvailable with the purchase of any main meal. Children under the age of 15 yrs only. Maximum of 2 children per adult ordering a main meal. Free meal is available from kids menu items only.
URL:https://pottspointhotel.com.au/events/kids-eat-free-2/2028-08-20/
LOCATION:Potts Point Hotel\, Ground\, Potts Point Hotel\, Potts Point\, NSW\, 2011\, Australia
CATEGORIES:Sundays
ATTACH;FMTTYPE=image/jpeg:https://pottspointhotel.com.au/storage/2023/01/1-jpg.webp
ORGANIZER;CN="Potts Point Hotel":MAILTO:info@pottspointhotel.com.au
END:VEVENT
BEGIN:VEVENT
DTSTART;TZID=Australia/Sydney:20280820T150000
DTEND;TZID=Australia/Sydney:20280820T180000
DTSTAMP:20260425T102715
CREATED:20221213T122438Z
LAST-MODIFIED:20240822T144353Z
UID:10012016-1850396400-1850407200@pottspointhotel.com.au
SUMMARY:Sunday Live Music
DESCRIPTION:Sundays from 3pm \n\n\n\nKick back and join us downstairs at Potts Point Hotel for live music\, with acoustic sounds every Sunday afternoon from 3pm. \n\n\n\nBook a table for dinner or pop down for light snacks from the bistro with a drink or two to finish off your week.
URL:https://pottspointhotel.com.au/events/sunday-live-music/2028-08-20/
LOCATION:Potts Point Hotel\, Ground\, Potts Point Hotel\, Potts Point\, NSW\, 2011\, Australia
CATEGORIES:Potts Point Hotel,Sundays
ATTACH;FMTTYPE=image/jpeg:https://pottspointhotel.com.au/storage/2022/12/Untitled-design-14-jpg.webp
ORGANIZER;CN="Potts Point Hotel":MAILTO:info@pottspointhotel.com.au
END:VEVENT
BEGIN:VEVENT
DTSTART;TZID=Australia/Sydney:20280824T183000
DTEND;TZID=Australia/Sydney:20280824T183000
DTSTAMP:20260425T102715
CREATED:20251217T025239Z
LAST-MODIFIED:20251220T150443Z
UID:10012798-1850754600-1850754600@pottspointhotel.com.au
SUMMARY:PPH Weekly Meat Raffle!
DESCRIPTION:Every Thursday at Potts Point Hotel!  \n\n\n\n4 Meat trays up for grabs\, tickets on sale from 6:30pm & drawn at 8:30pm. \n\n\n\nJoker Poker Jackpot also drawn at 8:30pm with a rolling Jackpot\, see our socials for this weeks jackpot! Good Luck!
URL:https://pottspointhotel.com.au/events/pph-weekly-meat-raffle/2028-08-24/
LOCATION:Potts Point Hotel\, Ground\, Potts Point Hotel\, Potts Point\, NSW\, 2011\, Australia
CATEGORIES:Potts Point Hotel
ATTACH;FMTTYPE=image/png:https://pottspointhotel.com.au/storage/2025/12/Screenshot-2025-12-17-at-11.38.01-am.png
ORGANIZER;CN="Potts Point Hotel":MAILTO:info@pottspointhotel.com.au
END:VEVENT
BEGIN:VEVENT
DTSTART;TZID=Australia/Sydney:20280827T120000
DTEND;TZID=Australia/Sydney:20280827T120000
DTSTAMP:20260425T102715
CREATED:20240822T040656Z
LAST-MODIFIED:20240822T142945Z
UID:10011775-1850990400-1850990400@pottspointhotel.com.au
SUMMARY:Kids Eat Free
DESCRIPTION:Bring the whole family down for lunch or dinner at the Potts Point Hotel on Sunday to enjoy our kids eat free deal. \n\n\n\nConditions apply:  \n\n\n\nAvailable with the purchase of any main meal. Children under the age of 15 yrs only. Maximum of 2 children per adult ordering a main meal. Free meal is available from kids menu items only.
URL:https://pottspointhotel.com.au/events/kids-eat-free-2/2028-08-27/
LOCATION:Potts Point Hotel\, Ground\, Potts Point Hotel\, Potts Point\, NSW\, 2011\, Australia
CATEGORIES:Sundays
ATTACH;FMTTYPE=image/jpeg:https://pottspointhotel.com.au/storage/2023/01/1-jpg.webp
ORGANIZER;CN="Potts Point Hotel":MAILTO:info@pottspointhotel.com.au
END:VEVENT
BEGIN:VEVENT
DTSTART;TZID=Australia/Sydney:20280827T150000
DTEND;TZID=Australia/Sydney:20280827T180000
DTSTAMP:20260425T102715
CREATED:20221213T122438Z
LAST-MODIFIED:20240822T144353Z
UID:10012017-1851001200-1851012000@pottspointhotel.com.au
SUMMARY:Sunday Live Music
DESCRIPTION:Sundays from 3pm \n\n\n\nKick back and join us downstairs at Potts Point Hotel for live music\, with acoustic sounds every Sunday afternoon from 3pm. \n\n\n\nBook a table for dinner or pop down for light snacks from the bistro with a drink or two to finish off your week.
URL:https://pottspointhotel.com.au/events/sunday-live-music/2028-08-27/
LOCATION:Potts Point Hotel\, Ground\, Potts Point Hotel\, Potts Point\, NSW\, 2011\, Australia
CATEGORIES:Potts Point Hotel,Sundays
ATTACH;FMTTYPE=image/jpeg:https://pottspointhotel.com.au/storage/2022/12/Untitled-design-14-jpg.webp
ORGANIZER;CN="Potts Point Hotel":MAILTO:info@pottspointhotel.com.au
END:VEVENT
BEGIN:VEVENT
DTSTART;TZID=Australia/Sydney:20280831T183000
DTEND;TZID=Australia/Sydney:20280831T183000
DTSTAMP:20260425T102715
CREATED:20251217T025239Z
LAST-MODIFIED:20251220T150443Z
UID:10012799-1851359400-1851359400@pottspointhotel.com.au
SUMMARY:PPH Weekly Meat Raffle!
DESCRIPTION:Every Thursday at Potts Point Hotel!  \n\n\n\n4 Meat trays up for grabs\, tickets on sale from 6:30pm & drawn at 8:30pm. \n\n\n\nJoker Poker Jackpot also drawn at 8:30pm with a rolling Jackpot\, see our socials for this weeks jackpot! Good Luck!
URL:https://pottspointhotel.com.au/events/pph-weekly-meat-raffle/2028-08-31/
LOCATION:Potts Point Hotel\, Ground\, Potts Point Hotel\, Potts Point\, NSW\, 2011\, Australia
CATEGORIES:Potts Point Hotel
ATTACH;FMTTYPE=image/png:https://pottspointhotel.com.au/storage/2025/12/Screenshot-2025-12-17-at-11.38.01-am.png
ORGANIZER;CN="Potts Point Hotel":MAILTO:info@pottspointhotel.com.au
END:VEVENT
BEGIN:VEVENT
DTSTART;TZID=Australia/Sydney:20280903T120000
DTEND;TZID=Australia/Sydney:20280903T120000
DTSTAMP:20260425T102715
CREATED:20240822T040656Z
LAST-MODIFIED:20240822T142945Z
UID:10011776-1851595200-1851595200@pottspointhotel.com.au
SUMMARY:Kids Eat Free
DESCRIPTION:Bring the whole family down for lunch or dinner at the Potts Point Hotel on Sunday to enjoy our kids eat free deal. \n\n\n\nConditions apply:  \n\n\n\nAvailable with the purchase of any main meal. Children under the age of 15 yrs only. Maximum of 2 children per adult ordering a main meal. Free meal is available from kids menu items only.
URL:https://pottspointhotel.com.au/events/kids-eat-free-2/2028-09-03/
LOCATION:Potts Point Hotel\, Ground\, Potts Point Hotel\, Potts Point\, NSW\, 2011\, Australia
CATEGORIES:Sundays
ATTACH;FMTTYPE=image/jpeg:https://pottspointhotel.com.au/storage/2023/01/1-jpg.webp
ORGANIZER;CN="Potts Point Hotel":MAILTO:info@pottspointhotel.com.au
END:VEVENT
BEGIN:VEVENT
DTSTART;TZID=Australia/Sydney:20280903T150000
DTEND;TZID=Australia/Sydney:20280903T180000
DTSTAMP:20260425T102715
CREATED:20221213T122438Z
LAST-MODIFIED:20240822T144353Z
UID:10012018-1851606000-1851616800@pottspointhotel.com.au
SUMMARY:Sunday Live Music
DESCRIPTION:Sundays from 3pm \n\n\n\nKick back and join us downstairs at Potts Point Hotel for live music\, with acoustic sounds every Sunday afternoon from 3pm. \n\n\n\nBook a table for dinner or pop down for light snacks from the bistro with a drink or two to finish off your week.
URL:https://pottspointhotel.com.au/events/sunday-live-music/2028-09-03/
LOCATION:Potts Point Hotel\, Ground\, Potts Point Hotel\, Potts Point\, NSW\, 2011\, Australia
CATEGORIES:Potts Point Hotel,Sundays
ATTACH;FMTTYPE=image/jpeg:https://pottspointhotel.com.au/storage/2022/12/Untitled-design-14-jpg.webp
ORGANIZER;CN="Potts Point Hotel":MAILTO:info@pottspointhotel.com.au
END:VEVENT
BEGIN:VEVENT
DTSTART;TZID=Australia/Sydney:20280907T183000
DTEND;TZID=Australia/Sydney:20280907T183000
DTSTAMP:20260425T102715
CREATED:20251217T025239Z
LAST-MODIFIED:20251220T150443Z
UID:10012800-1851964200-1851964200@pottspointhotel.com.au
SUMMARY:PPH Weekly Meat Raffle!
DESCRIPTION:Every Thursday at Potts Point Hotel!  \n\n\n\n4 Meat trays up for grabs\, tickets on sale from 6:30pm & drawn at 8:30pm. \n\n\n\nJoker Poker Jackpot also drawn at 8:30pm with a rolling Jackpot\, see our socials for this weeks jackpot! Good Luck!
URL:https://pottspointhotel.com.au/events/pph-weekly-meat-raffle/2028-09-07/
LOCATION:Potts Point Hotel\, Ground\, Potts Point Hotel\, Potts Point\, NSW\, 2011\, Australia
CATEGORIES:Potts Point Hotel
ATTACH;FMTTYPE=image/png:https://pottspointhotel.com.au/storage/2025/12/Screenshot-2025-12-17-at-11.38.01-am.png
ORGANIZER;CN="Potts Point Hotel":MAILTO:info@pottspointhotel.com.au
END:VEVENT
BEGIN:VEVENT
DTSTART;TZID=Australia/Sydney:20280910T120000
DTEND;TZID=Australia/Sydney:20280910T120000
DTSTAMP:20260425T102715
CREATED:20240822T040656Z
LAST-MODIFIED:20240822T142945Z
UID:10011777-1852200000-1852200000@pottspointhotel.com.au
SUMMARY:Kids Eat Free
DESCRIPTION:Bring the whole family down for lunch or dinner at the Potts Point Hotel on Sunday to enjoy our kids eat free deal. \n\n\n\nConditions apply:  \n\n\n\nAvailable with the purchase of any main meal. Children under the age of 15 yrs only. Maximum of 2 children per adult ordering a main meal. Free meal is available from kids menu items only.
URL:https://pottspointhotel.com.au/events/kids-eat-free-2/2028-09-10/
LOCATION:Potts Point Hotel\, Ground\, Potts Point Hotel\, Potts Point\, NSW\, 2011\, Australia
CATEGORIES:Sundays
ATTACH;FMTTYPE=image/jpeg:https://pottspointhotel.com.au/storage/2023/01/1-jpg.webp
ORGANIZER;CN="Potts Point Hotel":MAILTO:info@pottspointhotel.com.au
END:VEVENT
BEGIN:VEVENT
DTSTART;TZID=Australia/Sydney:20280910T150000
DTEND;TZID=Australia/Sydney:20280910T180000
DTSTAMP:20260425T102715
CREATED:20221213T122438Z
LAST-MODIFIED:20240822T144353Z
UID:10012019-1852210800-1852221600@pottspointhotel.com.au
SUMMARY:Sunday Live Music
DESCRIPTION:Sundays from 3pm \n\n\n\nKick back and join us downstairs at Potts Point Hotel for live music\, with acoustic sounds every Sunday afternoon from 3pm. \n\n\n\nBook a table for dinner or pop down for light snacks from the bistro with a drink or two to finish off your week.
URL:https://pottspointhotel.com.au/events/sunday-live-music/2028-09-10/
LOCATION:Potts Point Hotel\, Ground\, Potts Point Hotel\, Potts Point\, NSW\, 2011\, Australia
CATEGORIES:Potts Point Hotel,Sundays
ATTACH;FMTTYPE=image/jpeg:https://pottspointhotel.com.au/storage/2022/12/Untitled-design-14-jpg.webp
ORGANIZER;CN="Potts Point Hotel":MAILTO:info@pottspointhotel.com.au
END:VEVENT
BEGIN:VEVENT
DTSTART;TZID=Australia/Sydney:20280914T183000
DTEND;TZID=Australia/Sydney:20280914T183000
DTSTAMP:20260425T102715
CREATED:20251217T025239Z
LAST-MODIFIED:20251220T150443Z
UID:10012801-1852569000-1852569000@pottspointhotel.com.au
SUMMARY:PPH Weekly Meat Raffle!
DESCRIPTION:Every Thursday at Potts Point Hotel!  \n\n\n\n4 Meat trays up for grabs\, tickets on sale from 6:30pm & drawn at 8:30pm. \n\n\n\nJoker Poker Jackpot also drawn at 8:30pm with a rolling Jackpot\, see our socials for this weeks jackpot! Good Luck!
URL:https://pottspointhotel.com.au/events/pph-weekly-meat-raffle/2028-09-14/
LOCATION:Potts Point Hotel\, Ground\, Potts Point Hotel\, Potts Point\, NSW\, 2011\, Australia
CATEGORIES:Potts Point Hotel
ATTACH;FMTTYPE=image/png:https://pottspointhotel.com.au/storage/2025/12/Screenshot-2025-12-17-at-11.38.01-am.png
ORGANIZER;CN="Potts Point Hotel":MAILTO:info@pottspointhotel.com.au
END:VEVENT
BEGIN:VEVENT
DTSTART;TZID=Australia/Sydney:20280917T120000
DTEND;TZID=Australia/Sydney:20280917T120000
DTSTAMP:20260425T102715
CREATED:20240822T040656Z
LAST-MODIFIED:20240822T142945Z
UID:10011778-1852804800-1852804800@pottspointhotel.com.au
SUMMARY:Kids Eat Free
DESCRIPTION:Bring the whole family down for lunch or dinner at the Potts Point Hotel on Sunday to enjoy our kids eat free deal. \n\n\n\nConditions apply:  \n\n\n\nAvailable with the purchase of any main meal. Children under the age of 15 yrs only. Maximum of 2 children per adult ordering a main meal. Free meal is available from kids menu items only.
URL:https://pottspointhotel.com.au/events/kids-eat-free-2/2028-09-17/
LOCATION:Potts Point Hotel\, Ground\, Potts Point Hotel\, Potts Point\, NSW\, 2011\, Australia
CATEGORIES:Sundays
ATTACH;FMTTYPE=image/jpeg:https://pottspointhotel.com.au/storage/2023/01/1-jpg.webp
ORGANIZER;CN="Potts Point Hotel":MAILTO:info@pottspointhotel.com.au
END:VEVENT
BEGIN:VEVENT
DTSTART;TZID=Australia/Sydney:20280917T150000
DTEND;TZID=Australia/Sydney:20280917T180000
DTSTAMP:20260425T102715
CREATED:20221213T122438Z
LAST-MODIFIED:20240822T144353Z
UID:10012020-1852815600-1852826400@pottspointhotel.com.au
SUMMARY:Sunday Live Music
DESCRIPTION:Sundays from 3pm \n\n\n\nKick back and join us downstairs at Potts Point Hotel for live music\, with acoustic sounds every Sunday afternoon from 3pm. \n\n\n\nBook a table for dinner or pop down for light snacks from the bistro with a drink or two to finish off your week.
URL:https://pottspointhotel.com.au/events/sunday-live-music/2028-09-17/
LOCATION:Potts Point Hotel\, Ground\, Potts Point Hotel\, Potts Point\, NSW\, 2011\, Australia
CATEGORIES:Potts Point Hotel,Sundays
ATTACH;FMTTYPE=image/jpeg:https://pottspointhotel.com.au/storage/2022/12/Untitled-design-14-jpg.webp
ORGANIZER;CN="Potts Point Hotel":MAILTO:info@pottspointhotel.com.au
END:VEVENT
BEGIN:VEVENT
DTSTART;TZID=Australia/Sydney:20280921T183000
DTEND;TZID=Australia/Sydney:20280921T183000
DTSTAMP:20260425T102715
CREATED:20251217T025239Z
LAST-MODIFIED:20251220T150443Z
UID:10012802-1853173800-1853173800@pottspointhotel.com.au
SUMMARY:PPH Weekly Meat Raffle!
DESCRIPTION:Every Thursday at Potts Point Hotel!  \n\n\n\n4 Meat trays up for grabs\, tickets on sale from 6:30pm & drawn at 8:30pm. \n\n\n\nJoker Poker Jackpot also drawn at 8:30pm with a rolling Jackpot\, see our socials for this weeks jackpot! Good Luck!
URL:https://pottspointhotel.com.au/events/pph-weekly-meat-raffle/2028-09-21/
LOCATION:Potts Point Hotel\, Ground\, Potts Point Hotel\, Potts Point\, NSW\, 2011\, Australia
CATEGORIES:Potts Point Hotel
ATTACH;FMTTYPE=image/png:https://pottspointhotel.com.au/storage/2025/12/Screenshot-2025-12-17-at-11.38.01-am.png
ORGANIZER;CN="Potts Point Hotel":MAILTO:info@pottspointhotel.com.au
END:VEVENT
BEGIN:VEVENT
DTSTART;TZID=Australia/Sydney:20280924T120000
DTEND;TZID=Australia/Sydney:20280924T120000
DTSTAMP:20260425T102715
CREATED:20240822T040656Z
LAST-MODIFIED:20240822T142945Z
UID:10011779-1853409600-1853409600@pottspointhotel.com.au
SUMMARY:Kids Eat Free
DESCRIPTION:Bring the whole family down for lunch or dinner at the Potts Point Hotel on Sunday to enjoy our kids eat free deal. \n\n\n\nConditions apply:  \n\n\n\nAvailable with the purchase of any main meal. Children under the age of 15 yrs only. Maximum of 2 children per adult ordering a main meal. Free meal is available from kids menu items only.
URL:https://pottspointhotel.com.au/events/kids-eat-free-2/2028-09-24/
LOCATION:Potts Point Hotel\, Ground\, Potts Point Hotel\, Potts Point\, NSW\, 2011\, Australia
CATEGORIES:Sundays
ATTACH;FMTTYPE=image/jpeg:https://pottspointhotel.com.au/storage/2023/01/1-jpg.webp
ORGANIZER;CN="Potts Point Hotel":MAILTO:info@pottspointhotel.com.au
END:VEVENT
BEGIN:VEVENT
DTSTART;TZID=Australia/Sydney:20280924T150000
DTEND;TZID=Australia/Sydney:20280924T180000
DTSTAMP:20260425T102715
CREATED:20221213T122438Z
LAST-MODIFIED:20240822T144353Z
UID:10012021-1853420400-1853431200@pottspointhotel.com.au
SUMMARY:Sunday Live Music
DESCRIPTION:Sundays from 3pm \n\n\n\nKick back and join us downstairs at Potts Point Hotel for live music\, with acoustic sounds every Sunday afternoon from 3pm. \n\n\n\nBook a table for dinner or pop down for light snacks from the bistro with a drink or two to finish off your week.
URL:https://pottspointhotel.com.au/events/sunday-live-music/2028-09-24/
LOCATION:Potts Point Hotel\, Ground\, Potts Point Hotel\, Potts Point\, NSW\, 2011\, Australia
CATEGORIES:Potts Point Hotel,Sundays
ATTACH;FMTTYPE=image/jpeg:https://pottspointhotel.com.au/storage/2022/12/Untitled-design-14-jpg.webp
ORGANIZER;CN="Potts Point Hotel":MAILTO:info@pottspointhotel.com.au
END:VEVENT
BEGIN:VEVENT
DTSTART;TZID=Australia/Sydney:20280928T183000
DTEND;TZID=Australia/Sydney:20280928T183000
DTSTAMP:20260425T102715
CREATED:20251217T025239Z
LAST-MODIFIED:20251220T150443Z
UID:10012803-1853778600-1853778600@pottspointhotel.com.au
SUMMARY:PPH Weekly Meat Raffle!
DESCRIPTION:Every Thursday at Potts Point Hotel!  \n\n\n\n4 Meat trays up for grabs\, tickets on sale from 6:30pm & drawn at 8:30pm. \n\n\n\nJoker Poker Jackpot also drawn at 8:30pm with a rolling Jackpot\, see our socials for this weeks jackpot! Good Luck!
URL:https://pottspointhotel.com.au/events/pph-weekly-meat-raffle/2028-09-28/
LOCATION:Potts Point Hotel\, Ground\, Potts Point Hotel\, Potts Point\, NSW\, 2011\, Australia
CATEGORIES:Potts Point Hotel
ATTACH;FMTTYPE=image/png:https://pottspointhotel.com.au/storage/2025/12/Screenshot-2025-12-17-at-11.38.01-am.png
ORGANIZER;CN="Potts Point Hotel":MAILTO:info@pottspointhotel.com.au
END:VEVENT
BEGIN:VEVENT
DTSTART;TZID=Australia/Sydney:20281001T120000
DTEND;TZID=Australia/Sydney:20281001T120000
DTSTAMP:20260425T102715
CREATED:20240822T040656Z
LAST-MODIFIED:20240822T142945Z
UID:10011780-1854014400-1854014400@pottspointhotel.com.au
SUMMARY:Kids Eat Free
DESCRIPTION:Bring the whole family down for lunch or dinner at the Potts Point Hotel on Sunday to enjoy our kids eat free deal. \n\n\n\nConditions apply:  \n\n\n\nAvailable with the purchase of any main meal. Children under the age of 15 yrs only. Maximum of 2 children per adult ordering a main meal. Free meal is available from kids menu items only.
URL:https://pottspointhotel.com.au/events/kids-eat-free-2/2028-10-01/
LOCATION:Potts Point Hotel\, Ground\, Potts Point Hotel\, Potts Point\, NSW\, 2011\, Australia
CATEGORIES:Sundays
ATTACH;FMTTYPE=image/jpeg:https://pottspointhotel.com.au/storage/2023/01/1-jpg.webp
ORGANIZER;CN="Potts Point Hotel":MAILTO:info@pottspointhotel.com.au
END:VEVENT
BEGIN:VEVENT
DTSTART;TZID=Australia/Sydney:20281001T150000
DTEND;TZID=Australia/Sydney:20281001T180000
DTSTAMP:20260425T102715
CREATED:20221213T122438Z
LAST-MODIFIED:20240822T144353Z
UID:10012022-1854025200-1854036000@pottspointhotel.com.au
SUMMARY:Sunday Live Music
DESCRIPTION:Sundays from 3pm \n\n\n\nKick back and join us downstairs at Potts Point Hotel for live music\, with acoustic sounds every Sunday afternoon from 3pm. \n\n\n\nBook a table for dinner or pop down for light snacks from the bistro with a drink or two to finish off your week.
URL:https://pottspointhotel.com.au/events/sunday-live-music/2028-10-01/
LOCATION:Potts Point Hotel\, Ground\, Potts Point Hotel\, Potts Point\, NSW\, 2011\, Australia
CATEGORIES:Potts Point Hotel,Sundays
ATTACH;FMTTYPE=image/jpeg:https://pottspointhotel.com.au/storage/2022/12/Untitled-design-14-jpg.webp
ORGANIZER;CN="Potts Point Hotel":MAILTO:info@pottspointhotel.com.au
END:VEVENT
BEGIN:VEVENT
DTSTART;TZID=Australia/Sydney:20281005T183000
DTEND;TZID=Australia/Sydney:20281005T183000
DTSTAMP:20260425T102715
CREATED:20251217T025239Z
LAST-MODIFIED:20251220T150443Z
UID:10012804-1854383400-1854383400@pottspointhotel.com.au
SUMMARY:PPH Weekly Meat Raffle!
DESCRIPTION:Every Thursday at Potts Point Hotel!  \n\n\n\n4 Meat trays up for grabs\, tickets on sale from 6:30pm & drawn at 8:30pm. \n\n\n\nJoker Poker Jackpot also drawn at 8:30pm with a rolling Jackpot\, see our socials for this weeks jackpot! Good Luck!
URL:https://pottspointhotel.com.au/events/pph-weekly-meat-raffle/2028-10-05/
LOCATION:Potts Point Hotel\, Ground\, Potts Point Hotel\, Potts Point\, NSW\, 2011\, Australia
CATEGORIES:Potts Point Hotel
ATTACH;FMTTYPE=image/png:https://pottspointhotel.com.au/storage/2025/12/Screenshot-2025-12-17-at-11.38.01-am.png
ORGANIZER;CN="Potts Point Hotel":MAILTO:info@pottspointhotel.com.au
END:VEVENT
BEGIN:VEVENT
DTSTART;TZID=Australia/Sydney:20281008T120000
DTEND;TZID=Australia/Sydney:20281008T120000
DTSTAMP:20260425T102715
CREATED:20240822T040656Z
LAST-MODIFIED:20240822T142945Z
UID:10011781-1854619200-1854619200@pottspointhotel.com.au
SUMMARY:Kids Eat Free
DESCRIPTION:Bring the whole family down for lunch or dinner at the Potts Point Hotel on Sunday to enjoy our kids eat free deal. \n\n\n\nConditions apply:  \n\n\n\nAvailable with the purchase of any main meal. Children under the age of 15 yrs only. Maximum of 2 children per adult ordering a main meal. Free meal is available from kids menu items only.
URL:https://pottspointhotel.com.au/events/kids-eat-free-2/2028-10-08/
LOCATION:Potts Point Hotel\, Ground\, Potts Point Hotel\, Potts Point\, NSW\, 2011\, Australia
CATEGORIES:Sundays
ATTACH;FMTTYPE=image/jpeg:https://pottspointhotel.com.au/storage/2023/01/1-jpg.webp
ORGANIZER;CN="Potts Point Hotel":MAILTO:info@pottspointhotel.com.au
END:VEVENT
BEGIN:VEVENT
DTSTART;TZID=Australia/Sydney:20281008T150000
DTEND;TZID=Australia/Sydney:20281008T180000
DTSTAMP:20260425T102715
CREATED:20221213T122438Z
LAST-MODIFIED:20240822T144353Z
UID:10012023-1854630000-1854640800@pottspointhotel.com.au
SUMMARY:Sunday Live Music
DESCRIPTION:Sundays from 3pm \n\n\n\nKick back and join us downstairs at Potts Point Hotel for live music\, with acoustic sounds every Sunday afternoon from 3pm. \n\n\n\nBook a table for dinner or pop down for light snacks from the bistro with a drink or two to finish off your week.
URL:https://pottspointhotel.com.au/events/sunday-live-music/2028-10-08/
LOCATION:Potts Point Hotel\, Ground\, Potts Point Hotel\, Potts Point\, NSW\, 2011\, Australia
CATEGORIES:Potts Point Hotel,Sundays
ATTACH;FMTTYPE=image/jpeg:https://pottspointhotel.com.au/storage/2022/12/Untitled-design-14-jpg.webp
ORGANIZER;CN="Potts Point Hotel":MAILTO:info@pottspointhotel.com.au
END:VEVENT
BEGIN:VEVENT
DTSTART;TZID=Australia/Sydney:20281012T183000
DTEND;TZID=Australia/Sydney:20281012T183000
DTSTAMP:20260425T102715
CREATED:20251217T025239Z
LAST-MODIFIED:20251220T150443Z
UID:10012805-1854988200-1854988200@pottspointhotel.com.au
SUMMARY:PPH Weekly Meat Raffle!
DESCRIPTION:Every Thursday at Potts Point Hotel!  \n\n\n\n4 Meat trays up for grabs\, tickets on sale from 6:30pm & drawn at 8:30pm. \n\n\n\nJoker Poker Jackpot also drawn at 8:30pm with a rolling Jackpot\, see our socials for this weeks jackpot! Good Luck!
URL:https://pottspointhotel.com.au/events/pph-weekly-meat-raffle/2028-10-12/
LOCATION:Potts Point Hotel\, Ground\, Potts Point Hotel\, Potts Point\, NSW\, 2011\, Australia
CATEGORIES:Potts Point Hotel
ATTACH;FMTTYPE=image/png:https://pottspointhotel.com.au/storage/2025/12/Screenshot-2025-12-17-at-11.38.01-am.png
ORGANIZER;CN="Potts Point Hotel":MAILTO:info@pottspointhotel.com.au
END:VEVENT
BEGIN:VEVENT
DTSTART;TZID=Australia/Sydney:20281015T120000
DTEND;TZID=Australia/Sydney:20281015T120000
DTSTAMP:20260425T102715
CREATED:20240822T040656Z
LAST-MODIFIED:20240822T142945Z
UID:10011782-1855224000-1855224000@pottspointhotel.com.au
SUMMARY:Kids Eat Free
DESCRIPTION:Bring the whole family down for lunch or dinner at the Potts Point Hotel on Sunday to enjoy our kids eat free deal. \n\n\n\nConditions apply:  \n\n\n\nAvailable with the purchase of any main meal. Children under the age of 15 yrs only. Maximum of 2 children per adult ordering a main meal. Free meal is available from kids menu items only.
URL:https://pottspointhotel.com.au/events/kids-eat-free-2/2028-10-15/
LOCATION:Potts Point Hotel\, Ground\, Potts Point Hotel\, Potts Point\, NSW\, 2011\, Australia
CATEGORIES:Sundays
ATTACH;FMTTYPE=image/jpeg:https://pottspointhotel.com.au/storage/2023/01/1-jpg.webp
ORGANIZER;CN="Potts Point Hotel":MAILTO:info@pottspointhotel.com.au
END:VEVENT
BEGIN:VEVENT
DTSTART;TZID=Australia/Sydney:20281015T150000
DTEND;TZID=Australia/Sydney:20281015T180000
DTSTAMP:20260425T102715
CREATED:20221213T122438Z
LAST-MODIFIED:20240822T144353Z
UID:10012024-1855234800-1855245600@pottspointhotel.com.au
SUMMARY:Sunday Live Music
DESCRIPTION:Sundays from 3pm \n\n\n\nKick back and join us downstairs at Potts Point Hotel for live music\, with acoustic sounds every Sunday afternoon from 3pm. \n\n\n\nBook a table for dinner or pop down for light snacks from the bistro with a drink or two to finish off your week.
URL:https://pottspointhotel.com.au/events/sunday-live-music/2028-10-15/
LOCATION:Potts Point Hotel\, Ground\, Potts Point Hotel\, Potts Point\, NSW\, 2011\, Australia
CATEGORIES:Potts Point Hotel,Sundays
ATTACH;FMTTYPE=image/jpeg:https://pottspointhotel.com.au/storage/2022/12/Untitled-design-14-jpg.webp
ORGANIZER;CN="Potts Point Hotel":MAILTO:info@pottspointhotel.com.au
END:VEVENT
END:VCALENDAR