BEGIN:VCALENDAR
VERSION:2.0
PRODID:-//Potts Point Hotel - ECPv6.15.18//NONSGML v1.0//EN
CALSCALE:GREGORIAN
METHOD:PUBLISH
X-WR-CALNAME:Potts Point Hotel
X-ORIGINAL-URL:https://pottspointhotel.com.au
X-WR-CALDESC:Events for Potts Point Hotel
REFRESH-INTERVAL;VALUE=DURATION:PT1H
X-Robots-Tag:noindex
X-PUBLISHED-TTL:PT1H
BEGIN:VTIMEZONE
TZID:Australia/Sydney
BEGIN:STANDARD
TZOFFSETFROM:+1100
TZOFFSETTO:+1000
TZNAME:AEST
DTSTART:20270403T160000
END:STANDARD
BEGIN:DAYLIGHT
TZOFFSETFROM:+1000
TZOFFSETTO:+1100
TZNAME:AEDT
DTSTART:20271002T160000
END:DAYLIGHT
BEGIN:STANDARD
TZOFFSETFROM:+1100
TZOFFSETTO:+1000
TZNAME:AEST
DTSTART:20280401T160000
END:STANDARD
BEGIN:DAYLIGHT
TZOFFSETFROM:+1000
TZOFFSETTO:+1100
TZNAME:AEDT
DTSTART:20280930T160000
END:DAYLIGHT
BEGIN:STANDARD
TZOFFSETFROM:+1100
TZOFFSETTO:+1000
TZNAME:AEST
DTSTART:20290331T160000
END:STANDARD
BEGIN:DAYLIGHT
TZOFFSETFROM:+1000
TZOFFSETTO:+1100
TZNAME:AEDT
DTSTART:20291006T160000
END:DAYLIGHT
END:VTIMEZONE
BEGIN:VEVENT
DTSTART;TZID=Australia/Sydney:20280227T150000
DTEND;TZID=Australia/Sydney:20280227T180000
DTSTAMP:20260422T174653
CREATED:20221213T122438Z
LAST-MODIFIED:20240822T144353Z
UID:10011991-1835276400-1835287200@pottspointhotel.com.au
SUMMARY:Sunday Live Music
DESCRIPTION:Sundays from 3pm \n\n\n\nKick back and join us downstairs at Potts Point Hotel for live music\, with acoustic sounds every Sunday afternoon from 3pm. \n\n\n\nBook a table for dinner or pop down for light snacks from the bistro with a drink or two to finish off your week.
URL:https://pottspointhotel.com.au/events/sunday-live-music/2028-02-27/
LOCATION:Potts Point Hotel\, Ground\, Potts Point Hotel\, Potts Point\, NSW\, 2011\, Australia
CATEGORIES:Potts Point Hotel,Sundays
ATTACH;FMTTYPE=image/jpeg:https://pottspointhotel.com.au/storage/2022/12/Untitled-design-14-jpg.webp
ORGANIZER;CN="Potts Point Hotel":MAILTO:info@pottspointhotel.com.au
END:VEVENT
BEGIN:VEVENT
DTSTART;TZID=Australia/Sydney:20280305T150000
DTEND;TZID=Australia/Sydney:20280305T180000
DTSTAMP:20260422T174653
CREATED:20221213T122438Z
LAST-MODIFIED:20240822T144353Z
UID:10011992-1835881200-1835892000@pottspointhotel.com.au
SUMMARY:Sunday Live Music
DESCRIPTION:Sundays from 3pm \n\n\n\nKick back and join us downstairs at Potts Point Hotel for live music\, with acoustic sounds every Sunday afternoon from 3pm. \n\n\n\nBook a table for dinner or pop down for light snacks from the bistro with a drink or two to finish off your week.
URL:https://pottspointhotel.com.au/events/sunday-live-music/2028-03-05/
LOCATION:Potts Point Hotel\, Ground\, Potts Point Hotel\, Potts Point\, NSW\, 2011\, Australia
CATEGORIES:Potts Point Hotel,Sundays
ATTACH;FMTTYPE=image/jpeg:https://pottspointhotel.com.au/storage/2022/12/Untitled-design-14-jpg.webp
ORGANIZER;CN="Potts Point Hotel":MAILTO:info@pottspointhotel.com.au
END:VEVENT
BEGIN:VEVENT
DTSTART;TZID=Australia/Sydney:20280312T150000
DTEND;TZID=Australia/Sydney:20280312T180000
DTSTAMP:20260422T174653
CREATED:20221213T122438Z
LAST-MODIFIED:20240822T144353Z
UID:10011993-1836486000-1836496800@pottspointhotel.com.au
SUMMARY:Sunday Live Music
DESCRIPTION:Sundays from 3pm \n\n\n\nKick back and join us downstairs at Potts Point Hotel for live music\, with acoustic sounds every Sunday afternoon from 3pm. \n\n\n\nBook a table for dinner or pop down for light snacks from the bistro with a drink or two to finish off your week.
URL:https://pottspointhotel.com.au/events/sunday-live-music/2028-03-12/
LOCATION:Potts Point Hotel\, Ground\, Potts Point Hotel\, Potts Point\, NSW\, 2011\, Australia
CATEGORIES:Potts Point Hotel,Sundays
ATTACH;FMTTYPE=image/jpeg:https://pottspointhotel.com.au/storage/2022/12/Untitled-design-14-jpg.webp
ORGANIZER;CN="Potts Point Hotel":MAILTO:info@pottspointhotel.com.au
END:VEVENT
BEGIN:VEVENT
DTSTART;TZID=Australia/Sydney:20280319T150000
DTEND;TZID=Australia/Sydney:20280319T180000
DTSTAMP:20260422T174653
CREATED:20221213T122438Z
LAST-MODIFIED:20240822T144353Z
UID:10011994-1837090800-1837101600@pottspointhotel.com.au
SUMMARY:Sunday Live Music
DESCRIPTION:Sundays from 3pm \n\n\n\nKick back and join us downstairs at Potts Point Hotel for live music\, with acoustic sounds every Sunday afternoon from 3pm. \n\n\n\nBook a table for dinner or pop down for light snacks from the bistro with a drink or two to finish off your week.
URL:https://pottspointhotel.com.au/events/sunday-live-music/2028-03-19/
LOCATION:Potts Point Hotel\, Ground\, Potts Point Hotel\, Potts Point\, NSW\, 2011\, Australia
CATEGORIES:Potts Point Hotel,Sundays
ATTACH;FMTTYPE=image/jpeg:https://pottspointhotel.com.au/storage/2022/12/Untitled-design-14-jpg.webp
ORGANIZER;CN="Potts Point Hotel":MAILTO:info@pottspointhotel.com.au
END:VEVENT
BEGIN:VEVENT
DTSTART;TZID=Australia/Sydney:20280326T150000
DTEND;TZID=Australia/Sydney:20280326T180000
DTSTAMP:20260422T174653
CREATED:20221213T122438Z
LAST-MODIFIED:20240822T144353Z
UID:10011995-1837695600-1837706400@pottspointhotel.com.au
SUMMARY:Sunday Live Music
DESCRIPTION:Sundays from 3pm \n\n\n\nKick back and join us downstairs at Potts Point Hotel for live music\, with acoustic sounds every Sunday afternoon from 3pm. \n\n\n\nBook a table for dinner or pop down for light snacks from the bistro with a drink or two to finish off your week.
URL:https://pottspointhotel.com.au/events/sunday-live-music/2028-03-26/
LOCATION:Potts Point Hotel\, Ground\, Potts Point Hotel\, Potts Point\, NSW\, 2011\, Australia
CATEGORIES:Potts Point Hotel,Sundays
ATTACH;FMTTYPE=image/jpeg:https://pottspointhotel.com.au/storage/2022/12/Untitled-design-14-jpg.webp
ORGANIZER;CN="Potts Point Hotel":MAILTO:info@pottspointhotel.com.au
END:VEVENT
BEGIN:VEVENT
DTSTART;TZID=Australia/Sydney:20280402T150000
DTEND;TZID=Australia/Sydney:20280402T180000
DTSTAMP:20260422T174653
CREATED:20221213T122438Z
LAST-MODIFIED:20240822T144353Z
UID:10011996-1838300400-1838311200@pottspointhotel.com.au
SUMMARY:Sunday Live Music
DESCRIPTION:Sundays from 3pm \n\n\n\nKick back and join us downstairs at Potts Point Hotel for live music\, with acoustic sounds every Sunday afternoon from 3pm. \n\n\n\nBook a table for dinner or pop down for light snacks from the bistro with a drink or two to finish off your week.
URL:https://pottspointhotel.com.au/events/sunday-live-music/2028-04-02/
LOCATION:Potts Point Hotel\, Ground\, Potts Point Hotel\, Potts Point\, NSW\, 2011\, Australia
CATEGORIES:Potts Point Hotel,Sundays
ATTACH;FMTTYPE=image/jpeg:https://pottspointhotel.com.au/storage/2022/12/Untitled-design-14-jpg.webp
ORGANIZER;CN="Potts Point Hotel":MAILTO:info@pottspointhotel.com.au
END:VEVENT
BEGIN:VEVENT
DTSTART;TZID=Australia/Sydney:20280409T150000
DTEND;TZID=Australia/Sydney:20280409T180000
DTSTAMP:20260422T174653
CREATED:20221213T122438Z
LAST-MODIFIED:20240822T144353Z
UID:10011997-1838905200-1838916000@pottspointhotel.com.au
SUMMARY:Sunday Live Music
DESCRIPTION:Sundays from 3pm \n\n\n\nKick back and join us downstairs at Potts Point Hotel for live music\, with acoustic sounds every Sunday afternoon from 3pm. \n\n\n\nBook a table for dinner or pop down for light snacks from the bistro with a drink or two to finish off your week.
URL:https://pottspointhotel.com.au/events/sunday-live-music/2028-04-09/
LOCATION:Potts Point Hotel\, Ground\, Potts Point Hotel\, Potts Point\, NSW\, 2011\, Australia
CATEGORIES:Potts Point Hotel,Sundays
ATTACH;FMTTYPE=image/jpeg:https://pottspointhotel.com.au/storage/2022/12/Untitled-design-14-jpg.webp
ORGANIZER;CN="Potts Point Hotel":MAILTO:info@pottspointhotel.com.au
END:VEVENT
BEGIN:VEVENT
DTSTART;TZID=Australia/Sydney:20280416T150000
DTEND;TZID=Australia/Sydney:20280416T180000
DTSTAMP:20260422T174653
CREATED:20221213T122438Z
LAST-MODIFIED:20240822T144353Z
UID:10011998-1839510000-1839520800@pottspointhotel.com.au
SUMMARY:Sunday Live Music
DESCRIPTION:Sundays from 3pm \n\n\n\nKick back and join us downstairs at Potts Point Hotel for live music\, with acoustic sounds every Sunday afternoon from 3pm. \n\n\n\nBook a table for dinner or pop down for light snacks from the bistro with a drink or two to finish off your week.
URL:https://pottspointhotel.com.au/events/sunday-live-music/2028-04-16/
LOCATION:Potts Point Hotel\, Ground\, Potts Point Hotel\, Potts Point\, NSW\, 2011\, Australia
CATEGORIES:Potts Point Hotel,Sundays
ATTACH;FMTTYPE=image/jpeg:https://pottspointhotel.com.au/storage/2022/12/Untitled-design-14-jpg.webp
ORGANIZER;CN="Potts Point Hotel":MAILTO:info@pottspointhotel.com.au
END:VEVENT
BEGIN:VEVENT
DTSTART;TZID=Australia/Sydney:20280423T150000
DTEND;TZID=Australia/Sydney:20280423T180000
DTSTAMP:20260422T174653
CREATED:20221213T122438Z
LAST-MODIFIED:20240822T144353Z
UID:10011999-1840114800-1840125600@pottspointhotel.com.au
SUMMARY:Sunday Live Music
DESCRIPTION:Sundays from 3pm \n\n\n\nKick back and join us downstairs at Potts Point Hotel for live music\, with acoustic sounds every Sunday afternoon from 3pm. \n\n\n\nBook a table for dinner or pop down for light snacks from the bistro with a drink or two to finish off your week.
URL:https://pottspointhotel.com.au/events/sunday-live-music/2028-04-23/
LOCATION:Potts Point Hotel\, Ground\, Potts Point Hotel\, Potts Point\, NSW\, 2011\, Australia
CATEGORIES:Potts Point Hotel,Sundays
ATTACH;FMTTYPE=image/jpeg:https://pottspointhotel.com.au/storage/2022/12/Untitled-design-14-jpg.webp
ORGANIZER;CN="Potts Point Hotel":MAILTO:info@pottspointhotel.com.au
END:VEVENT
BEGIN:VEVENT
DTSTART;TZID=Australia/Sydney:20280430T150000
DTEND;TZID=Australia/Sydney:20280430T180000
DTSTAMP:20260422T174653
CREATED:20221213T122438Z
LAST-MODIFIED:20240822T144353Z
UID:10012000-1840719600-1840730400@pottspointhotel.com.au
SUMMARY:Sunday Live Music
DESCRIPTION:Sundays from 3pm \n\n\n\nKick back and join us downstairs at Potts Point Hotel for live music\, with acoustic sounds every Sunday afternoon from 3pm. \n\n\n\nBook a table for dinner or pop down for light snacks from the bistro with a drink or two to finish off your week.
URL:https://pottspointhotel.com.au/events/sunday-live-music/2028-04-30/
LOCATION:Potts Point Hotel\, Ground\, Potts Point Hotel\, Potts Point\, NSW\, 2011\, Australia
CATEGORIES:Potts Point Hotel,Sundays
ATTACH;FMTTYPE=image/jpeg:https://pottspointhotel.com.au/storage/2022/12/Untitled-design-14-jpg.webp
ORGANIZER;CN="Potts Point Hotel":MAILTO:info@pottspointhotel.com.au
END:VEVENT
BEGIN:VEVENT
DTSTART;TZID=Australia/Sydney:20280507T150000
DTEND;TZID=Australia/Sydney:20280507T180000
DTSTAMP:20260422T174653
CREATED:20221213T122438Z
LAST-MODIFIED:20240822T144353Z
UID:10012001-1841324400-1841335200@pottspointhotel.com.au
SUMMARY:Sunday Live Music
DESCRIPTION:Sundays from 3pm \n\n\n\nKick back and join us downstairs at Potts Point Hotel for live music\, with acoustic sounds every Sunday afternoon from 3pm. \n\n\n\nBook a table for dinner or pop down for light snacks from the bistro with a drink or two to finish off your week.
URL:https://pottspointhotel.com.au/events/sunday-live-music/2028-05-07/
LOCATION:Potts Point Hotel\, Ground\, Potts Point Hotel\, Potts Point\, NSW\, 2011\, Australia
CATEGORIES:Potts Point Hotel,Sundays
ATTACH;FMTTYPE=image/jpeg:https://pottspointhotel.com.au/storage/2022/12/Untitled-design-14-jpg.webp
ORGANIZER;CN="Potts Point Hotel":MAILTO:info@pottspointhotel.com.au
END:VEVENT
BEGIN:VEVENT
DTSTART;TZID=Australia/Sydney:20280514T150000
DTEND;TZID=Australia/Sydney:20280514T180000
DTSTAMP:20260422T174653
CREATED:20221213T122438Z
LAST-MODIFIED:20240822T144353Z
UID:10012002-1841929200-1841940000@pottspointhotel.com.au
SUMMARY:Sunday Live Music
DESCRIPTION:Sundays from 3pm \n\n\n\nKick back and join us downstairs at Potts Point Hotel for live music\, with acoustic sounds every Sunday afternoon from 3pm. \n\n\n\nBook a table for dinner or pop down for light snacks from the bistro with a drink or two to finish off your week.
URL:https://pottspointhotel.com.au/events/sunday-live-music/2028-05-14/
LOCATION:Potts Point Hotel\, Ground\, Potts Point Hotel\, Potts Point\, NSW\, 2011\, Australia
CATEGORIES:Potts Point Hotel,Sundays
ATTACH;FMTTYPE=image/jpeg:https://pottspointhotel.com.au/storage/2022/12/Untitled-design-14-jpg.webp
ORGANIZER;CN="Potts Point Hotel":MAILTO:info@pottspointhotel.com.au
END:VEVENT
BEGIN:VEVENT
DTSTART;TZID=Australia/Sydney:20280521T150000
DTEND;TZID=Australia/Sydney:20280521T180000
DTSTAMP:20260422T174653
CREATED:20221213T122438Z
LAST-MODIFIED:20240822T144353Z
UID:10012003-1842534000-1842544800@pottspointhotel.com.au
SUMMARY:Sunday Live Music
DESCRIPTION:Sundays from 3pm \n\n\n\nKick back and join us downstairs at Potts Point Hotel for live music\, with acoustic sounds every Sunday afternoon from 3pm. \n\n\n\nBook a table for dinner or pop down for light snacks from the bistro with a drink or two to finish off your week.
URL:https://pottspointhotel.com.au/events/sunday-live-music/2028-05-21/
LOCATION:Potts Point Hotel\, Ground\, Potts Point Hotel\, Potts Point\, NSW\, 2011\, Australia
CATEGORIES:Potts Point Hotel,Sundays
ATTACH;FMTTYPE=image/jpeg:https://pottspointhotel.com.au/storage/2022/12/Untitled-design-14-jpg.webp
ORGANIZER;CN="Potts Point Hotel":MAILTO:info@pottspointhotel.com.au
END:VEVENT
BEGIN:VEVENT
DTSTART;TZID=Australia/Sydney:20280528T150000
DTEND;TZID=Australia/Sydney:20280528T180000
DTSTAMP:20260422T174653
CREATED:20221213T122438Z
LAST-MODIFIED:20240822T144353Z
UID:10012004-1843138800-1843149600@pottspointhotel.com.au
SUMMARY:Sunday Live Music
DESCRIPTION:Sundays from 3pm \n\n\n\nKick back and join us downstairs at Potts Point Hotel for live music\, with acoustic sounds every Sunday afternoon from 3pm. \n\n\n\nBook a table for dinner or pop down for light snacks from the bistro with a drink or two to finish off your week.
URL:https://pottspointhotel.com.au/events/sunday-live-music/2028-05-28/
LOCATION:Potts Point Hotel\, Ground\, Potts Point Hotel\, Potts Point\, NSW\, 2011\, Australia
CATEGORIES:Potts Point Hotel,Sundays
ATTACH;FMTTYPE=image/jpeg:https://pottspointhotel.com.au/storage/2022/12/Untitled-design-14-jpg.webp
ORGANIZER;CN="Potts Point Hotel":MAILTO:info@pottspointhotel.com.au
END:VEVENT
BEGIN:VEVENT
DTSTART;TZID=Australia/Sydney:20280604T150000
DTEND;TZID=Australia/Sydney:20280604T180000
DTSTAMP:20260422T174653
CREATED:20221213T122438Z
LAST-MODIFIED:20240822T144353Z
UID:10012005-1843743600-1843754400@pottspointhotel.com.au
SUMMARY:Sunday Live Music
DESCRIPTION:Sundays from 3pm \n\n\n\nKick back and join us downstairs at Potts Point Hotel for live music\, with acoustic sounds every Sunday afternoon from 3pm. \n\n\n\nBook a table for dinner or pop down for light snacks from the bistro with a drink or two to finish off your week.
URL:https://pottspointhotel.com.au/events/sunday-live-music/2028-06-04/
LOCATION:Potts Point Hotel\, Ground\, Potts Point Hotel\, Potts Point\, NSW\, 2011\, Australia
CATEGORIES:Potts Point Hotel,Sundays
ATTACH;FMTTYPE=image/jpeg:https://pottspointhotel.com.au/storage/2022/12/Untitled-design-14-jpg.webp
ORGANIZER;CN="Potts Point Hotel":MAILTO:info@pottspointhotel.com.au
END:VEVENT
BEGIN:VEVENT
DTSTART;TZID=Australia/Sydney:20280611T150000
DTEND;TZID=Australia/Sydney:20280611T180000
DTSTAMP:20260422T174653
CREATED:20221213T122438Z
LAST-MODIFIED:20240822T144353Z
UID:10012006-1844348400-1844359200@pottspointhotel.com.au
SUMMARY:Sunday Live Music
DESCRIPTION:Sundays from 3pm \n\n\n\nKick back and join us downstairs at Potts Point Hotel for live music\, with acoustic sounds every Sunday afternoon from 3pm. \n\n\n\nBook a table for dinner or pop down for light snacks from the bistro with a drink or two to finish off your week.
URL:https://pottspointhotel.com.au/events/sunday-live-music/2028-06-11/
LOCATION:Potts Point Hotel\, Ground\, Potts Point Hotel\, Potts Point\, NSW\, 2011\, Australia
CATEGORIES:Potts Point Hotel,Sundays
ATTACH;FMTTYPE=image/jpeg:https://pottspointhotel.com.au/storage/2022/12/Untitled-design-14-jpg.webp
ORGANIZER;CN="Potts Point Hotel":MAILTO:info@pottspointhotel.com.au
END:VEVENT
BEGIN:VEVENT
DTSTART;TZID=Australia/Sydney:20280618T150000
DTEND;TZID=Australia/Sydney:20280618T180000
DTSTAMP:20260422T174653
CREATED:20221213T122438Z
LAST-MODIFIED:20240822T144353Z
UID:10012007-1844953200-1844964000@pottspointhotel.com.au
SUMMARY:Sunday Live Music
DESCRIPTION:Sundays from 3pm \n\n\n\nKick back and join us downstairs at Potts Point Hotel for live music\, with acoustic sounds every Sunday afternoon from 3pm. \n\n\n\nBook a table for dinner or pop down for light snacks from the bistro with a drink or two to finish off your week.
URL:https://pottspointhotel.com.au/events/sunday-live-music/2028-06-18/
LOCATION:Potts Point Hotel\, Ground\, Potts Point Hotel\, Potts Point\, NSW\, 2011\, Australia
CATEGORIES:Potts Point Hotel,Sundays
ATTACH;FMTTYPE=image/jpeg:https://pottspointhotel.com.au/storage/2022/12/Untitled-design-14-jpg.webp
ORGANIZER;CN="Potts Point Hotel":MAILTO:info@pottspointhotel.com.au
END:VEVENT
BEGIN:VEVENT
DTSTART;TZID=Australia/Sydney:20280625T150000
DTEND;TZID=Australia/Sydney:20280625T180000
DTSTAMP:20260422T174653
CREATED:20221213T122438Z
LAST-MODIFIED:20240822T144353Z
UID:10012008-1845558000-1845568800@pottspointhotel.com.au
SUMMARY:Sunday Live Music
DESCRIPTION:Sundays from 3pm \n\n\n\nKick back and join us downstairs at Potts Point Hotel for live music\, with acoustic sounds every Sunday afternoon from 3pm. \n\n\n\nBook a table for dinner or pop down for light snacks from the bistro with a drink or two to finish off your week.
URL:https://pottspointhotel.com.au/events/sunday-live-music/2028-06-25/
LOCATION:Potts Point Hotel\, Ground\, Potts Point Hotel\, Potts Point\, NSW\, 2011\, Australia
CATEGORIES:Potts Point Hotel,Sundays
ATTACH;FMTTYPE=image/jpeg:https://pottspointhotel.com.au/storage/2022/12/Untitled-design-14-jpg.webp
ORGANIZER;CN="Potts Point Hotel":MAILTO:info@pottspointhotel.com.au
END:VEVENT
BEGIN:VEVENT
DTSTART;TZID=Australia/Sydney:20280702T150000
DTEND;TZID=Australia/Sydney:20280702T180000
DTSTAMP:20260422T174653
CREATED:20221213T122438Z
LAST-MODIFIED:20240822T144353Z
UID:10012009-1846162800-1846173600@pottspointhotel.com.au
SUMMARY:Sunday Live Music
DESCRIPTION:Sundays from 3pm \n\n\n\nKick back and join us downstairs at Potts Point Hotel for live music\, with acoustic sounds every Sunday afternoon from 3pm. \n\n\n\nBook a table for dinner or pop down for light snacks from the bistro with a drink or two to finish off your week.
URL:https://pottspointhotel.com.au/events/sunday-live-music/2028-07-02/
LOCATION:Potts Point Hotel\, Ground\, Potts Point Hotel\, Potts Point\, NSW\, 2011\, Australia
CATEGORIES:Potts Point Hotel,Sundays
ATTACH;FMTTYPE=image/jpeg:https://pottspointhotel.com.au/storage/2022/12/Untitled-design-14-jpg.webp
ORGANIZER;CN="Potts Point Hotel":MAILTO:info@pottspointhotel.com.au
END:VEVENT
BEGIN:VEVENT
DTSTART;TZID=Australia/Sydney:20280709T150000
DTEND;TZID=Australia/Sydney:20280709T180000
DTSTAMP:20260422T174653
CREATED:20221213T122438Z
LAST-MODIFIED:20240822T144353Z
UID:10012010-1846767600-1846778400@pottspointhotel.com.au
SUMMARY:Sunday Live Music
DESCRIPTION:Sundays from 3pm \n\n\n\nKick back and join us downstairs at Potts Point Hotel for live music\, with acoustic sounds every Sunday afternoon from 3pm. \n\n\n\nBook a table for dinner or pop down for light snacks from the bistro with a drink or two to finish off your week.
URL:https://pottspointhotel.com.au/events/sunday-live-music/2028-07-09/
LOCATION:Potts Point Hotel\, Ground\, Potts Point Hotel\, Potts Point\, NSW\, 2011\, Australia
CATEGORIES:Potts Point Hotel,Sundays
ATTACH;FMTTYPE=image/jpeg:https://pottspointhotel.com.au/storage/2022/12/Untitled-design-14-jpg.webp
ORGANIZER;CN="Potts Point Hotel":MAILTO:info@pottspointhotel.com.au
END:VEVENT
BEGIN:VEVENT
DTSTART;TZID=Australia/Sydney:20280716T150000
DTEND;TZID=Australia/Sydney:20280716T180000
DTSTAMP:20260422T174653
CREATED:20221213T122438Z
LAST-MODIFIED:20240822T144353Z
UID:10012011-1847372400-1847383200@pottspointhotel.com.au
SUMMARY:Sunday Live Music
DESCRIPTION:Sundays from 3pm \n\n\n\nKick back and join us downstairs at Potts Point Hotel for live music\, with acoustic sounds every Sunday afternoon from 3pm. \n\n\n\nBook a table for dinner or pop down for light snacks from the bistro with a drink or two to finish off your week.
URL:https://pottspointhotel.com.au/events/sunday-live-music/2028-07-16/
LOCATION:Potts Point Hotel\, Ground\, Potts Point Hotel\, Potts Point\, NSW\, 2011\, Australia
CATEGORIES:Potts Point Hotel,Sundays
ATTACH;FMTTYPE=image/jpeg:https://pottspointhotel.com.au/storage/2022/12/Untitled-design-14-jpg.webp
ORGANIZER;CN="Potts Point Hotel":MAILTO:info@pottspointhotel.com.au
END:VEVENT
BEGIN:VEVENT
DTSTART;TZID=Australia/Sydney:20280723T150000
DTEND;TZID=Australia/Sydney:20280723T180000
DTSTAMP:20260422T174653
CREATED:20221213T122438Z
LAST-MODIFIED:20240822T144353Z
UID:10012012-1847977200-1847988000@pottspointhotel.com.au
SUMMARY:Sunday Live Music
DESCRIPTION:Sundays from 3pm \n\n\n\nKick back and join us downstairs at Potts Point Hotel for live music\, with acoustic sounds every Sunday afternoon from 3pm. \n\n\n\nBook a table for dinner or pop down for light snacks from the bistro with a drink or two to finish off your week.
URL:https://pottspointhotel.com.au/events/sunday-live-music/2028-07-23/
LOCATION:Potts Point Hotel\, Ground\, Potts Point Hotel\, Potts Point\, NSW\, 2011\, Australia
CATEGORIES:Potts Point Hotel,Sundays
ATTACH;FMTTYPE=image/jpeg:https://pottspointhotel.com.au/storage/2022/12/Untitled-design-14-jpg.webp
ORGANIZER;CN="Potts Point Hotel":MAILTO:info@pottspointhotel.com.au
END:VEVENT
BEGIN:VEVENT
DTSTART;TZID=Australia/Sydney:20280730T150000
DTEND;TZID=Australia/Sydney:20280730T180000
DTSTAMP:20260422T174653
CREATED:20221213T122438Z
LAST-MODIFIED:20240822T144353Z
UID:10012013-1848582000-1848592800@pottspointhotel.com.au
SUMMARY:Sunday Live Music
DESCRIPTION:Sundays from 3pm \n\n\n\nKick back and join us downstairs at Potts Point Hotel for live music\, with acoustic sounds every Sunday afternoon from 3pm. \n\n\n\nBook a table for dinner or pop down for light snacks from the bistro with a drink or two to finish off your week.
URL:https://pottspointhotel.com.au/events/sunday-live-music/2028-07-30/
LOCATION:Potts Point Hotel\, Ground\, Potts Point Hotel\, Potts Point\, NSW\, 2011\, Australia
CATEGORIES:Potts Point Hotel,Sundays
ATTACH;FMTTYPE=image/jpeg:https://pottspointhotel.com.au/storage/2022/12/Untitled-design-14-jpg.webp
ORGANIZER;CN="Potts Point Hotel":MAILTO:info@pottspointhotel.com.au
END:VEVENT
BEGIN:VEVENT
DTSTART;TZID=Australia/Sydney:20280806T150000
DTEND;TZID=Australia/Sydney:20280806T180000
DTSTAMP:20260422T174653
CREATED:20221213T122438Z
LAST-MODIFIED:20240822T144353Z
UID:10012014-1849186800-1849197600@pottspointhotel.com.au
SUMMARY:Sunday Live Music
DESCRIPTION:Sundays from 3pm \n\n\n\nKick back and join us downstairs at Potts Point Hotel for live music\, with acoustic sounds every Sunday afternoon from 3pm. \n\n\n\nBook a table for dinner or pop down for light snacks from the bistro with a drink or two to finish off your week.
URL:https://pottspointhotel.com.au/events/sunday-live-music/2028-08-06/
LOCATION:Potts Point Hotel\, Ground\, Potts Point Hotel\, Potts Point\, NSW\, 2011\, Australia
CATEGORIES:Potts Point Hotel,Sundays
ATTACH;FMTTYPE=image/jpeg:https://pottspointhotel.com.au/storage/2022/12/Untitled-design-14-jpg.webp
ORGANIZER;CN="Potts Point Hotel":MAILTO:info@pottspointhotel.com.au
END:VEVENT
BEGIN:VEVENT
DTSTART;TZID=Australia/Sydney:20280813T150000
DTEND;TZID=Australia/Sydney:20280813T180000
DTSTAMP:20260422T174653
CREATED:20221213T122438Z
LAST-MODIFIED:20240822T144353Z
UID:10012015-1849791600-1849802400@pottspointhotel.com.au
SUMMARY:Sunday Live Music
DESCRIPTION:Sundays from 3pm \n\n\n\nKick back and join us downstairs at Potts Point Hotel for live music\, with acoustic sounds every Sunday afternoon from 3pm. \n\n\n\nBook a table for dinner or pop down for light snacks from the bistro with a drink or two to finish off your week.
URL:https://pottspointhotel.com.au/events/sunday-live-music/2028-08-13/
LOCATION:Potts Point Hotel\, Ground\, Potts Point Hotel\, Potts Point\, NSW\, 2011\, Australia
CATEGORIES:Potts Point Hotel,Sundays
ATTACH;FMTTYPE=image/jpeg:https://pottspointhotel.com.au/storage/2022/12/Untitled-design-14-jpg.webp
ORGANIZER;CN="Potts Point Hotel":MAILTO:info@pottspointhotel.com.au
END:VEVENT
BEGIN:VEVENT
DTSTART;TZID=Australia/Sydney:20280820T150000
DTEND;TZID=Australia/Sydney:20280820T180000
DTSTAMP:20260422T174653
CREATED:20221213T122438Z
LAST-MODIFIED:20240822T144353Z
UID:10012016-1850396400-1850407200@pottspointhotel.com.au
SUMMARY:Sunday Live Music
DESCRIPTION:Sundays from 3pm \n\n\n\nKick back and join us downstairs at Potts Point Hotel for live music\, with acoustic sounds every Sunday afternoon from 3pm. \n\n\n\nBook a table for dinner or pop down for light snacks from the bistro with a drink or two to finish off your week.
URL:https://pottspointhotel.com.au/events/sunday-live-music/2028-08-20/
LOCATION:Potts Point Hotel\, Ground\, Potts Point Hotel\, Potts Point\, NSW\, 2011\, Australia
CATEGORIES:Potts Point Hotel,Sundays
ATTACH;FMTTYPE=image/jpeg:https://pottspointhotel.com.au/storage/2022/12/Untitled-design-14-jpg.webp
ORGANIZER;CN="Potts Point Hotel":MAILTO:info@pottspointhotel.com.au
END:VEVENT
BEGIN:VEVENT
DTSTART;TZID=Australia/Sydney:20280827T150000
DTEND;TZID=Australia/Sydney:20280827T180000
DTSTAMP:20260422T174653
CREATED:20221213T122438Z
LAST-MODIFIED:20240822T144353Z
UID:10012017-1851001200-1851012000@pottspointhotel.com.au
SUMMARY:Sunday Live Music
DESCRIPTION:Sundays from 3pm \n\n\n\nKick back and join us downstairs at Potts Point Hotel for live music\, with acoustic sounds every Sunday afternoon from 3pm. \n\n\n\nBook a table for dinner or pop down for light snacks from the bistro with a drink or two to finish off your week.
URL:https://pottspointhotel.com.au/events/sunday-live-music/2028-08-27/
LOCATION:Potts Point Hotel\, Ground\, Potts Point Hotel\, Potts Point\, NSW\, 2011\, Australia
CATEGORIES:Potts Point Hotel,Sundays
ATTACH;FMTTYPE=image/jpeg:https://pottspointhotel.com.au/storage/2022/12/Untitled-design-14-jpg.webp
ORGANIZER;CN="Potts Point Hotel":MAILTO:info@pottspointhotel.com.au
END:VEVENT
BEGIN:VEVENT
DTSTART;TZID=Australia/Sydney:20280903T150000
DTEND;TZID=Australia/Sydney:20280903T180000
DTSTAMP:20260422T174653
CREATED:20221213T122438Z
LAST-MODIFIED:20240822T144353Z
UID:10012018-1851606000-1851616800@pottspointhotel.com.au
SUMMARY:Sunday Live Music
DESCRIPTION:Sundays from 3pm \n\n\n\nKick back and join us downstairs at Potts Point Hotel for live music\, with acoustic sounds every Sunday afternoon from 3pm. \n\n\n\nBook a table for dinner or pop down for light snacks from the bistro with a drink or two to finish off your week.
URL:https://pottspointhotel.com.au/events/sunday-live-music/2028-09-03/
LOCATION:Potts Point Hotel\, Ground\, Potts Point Hotel\, Potts Point\, NSW\, 2011\, Australia
CATEGORIES:Potts Point Hotel,Sundays
ATTACH;FMTTYPE=image/jpeg:https://pottspointhotel.com.au/storage/2022/12/Untitled-design-14-jpg.webp
ORGANIZER;CN="Potts Point Hotel":MAILTO:info@pottspointhotel.com.au
END:VEVENT
BEGIN:VEVENT
DTSTART;TZID=Australia/Sydney:20280910T150000
DTEND;TZID=Australia/Sydney:20280910T180000
DTSTAMP:20260422T174653
CREATED:20221213T122438Z
LAST-MODIFIED:20240822T144353Z
UID:10012019-1852210800-1852221600@pottspointhotel.com.au
SUMMARY:Sunday Live Music
DESCRIPTION:Sundays from 3pm \n\n\n\nKick back and join us downstairs at Potts Point Hotel for live music\, with acoustic sounds every Sunday afternoon from 3pm. \n\n\n\nBook a table for dinner or pop down for light snacks from the bistro with a drink or two to finish off your week.
URL:https://pottspointhotel.com.au/events/sunday-live-music/2028-09-10/
LOCATION:Potts Point Hotel\, Ground\, Potts Point Hotel\, Potts Point\, NSW\, 2011\, Australia
CATEGORIES:Potts Point Hotel,Sundays
ATTACH;FMTTYPE=image/jpeg:https://pottspointhotel.com.au/storage/2022/12/Untitled-design-14-jpg.webp
ORGANIZER;CN="Potts Point Hotel":MAILTO:info@pottspointhotel.com.au
END:VEVENT
BEGIN:VEVENT
DTSTART;TZID=Australia/Sydney:20280917T150000
DTEND;TZID=Australia/Sydney:20280917T180000
DTSTAMP:20260422T174654
CREATED:20221213T122438Z
LAST-MODIFIED:20240822T144353Z
UID:10012020-1852815600-1852826400@pottspointhotel.com.au
SUMMARY:Sunday Live Music
DESCRIPTION:Sundays from 3pm \n\n\n\nKick back and join us downstairs at Potts Point Hotel for live music\, with acoustic sounds every Sunday afternoon from 3pm. \n\n\n\nBook a table for dinner or pop down for light snacks from the bistro with a drink or two to finish off your week.
URL:https://pottspointhotel.com.au/events/sunday-live-music/2028-09-17/
LOCATION:Potts Point Hotel\, Ground\, Potts Point Hotel\, Potts Point\, NSW\, 2011\, Australia
CATEGORIES:Potts Point Hotel,Sundays
ATTACH;FMTTYPE=image/jpeg:https://pottspointhotel.com.au/storage/2022/12/Untitled-design-14-jpg.webp
ORGANIZER;CN="Potts Point Hotel":MAILTO:info@pottspointhotel.com.au
END:VEVENT
END:VCALENDAR